BEGIN:VCALENDAR
VERSION:2.0
PRODID:-//Carterton Town Council - ECPv6.15.18//NONSGML v1.0//EN
CALSCALE:GREGORIAN
METHOD:PUBLISH
X-ORIGINAL-URL:https://carterton-tc.gov.uk
X-WR-CALDESC:Events for Carterton Town Council
REFRESH-INTERVAL;VALUE=DURATION:PT1H
X-Robots-Tag:noindex
X-PUBLISHED-TTL:PT1H
BEGIN:VTIMEZONE
TZID:Europe/London
BEGIN:DAYLIGHT
TZOFFSETFROM:+0000
TZOFFSETTO:+0100
TZNAME:BST
DTSTART:20240331T010000
END:DAYLIGHT
BEGIN:STANDARD
TZOFFSETFROM:+0100
TZOFFSETTO:+0000
TZNAME:GMT
DTSTART:20241027T010000
END:STANDARD
BEGIN:DAYLIGHT
TZOFFSETFROM:+0000
TZOFFSETTO:+0100
TZNAME:BST
DTSTART:20250330T010000
END:DAYLIGHT
BEGIN:STANDARD
TZOFFSETFROM:+0100
TZOFFSETTO:+0000
TZNAME:GMT
DTSTART:20251026T010000
END:STANDARD
BEGIN:DAYLIGHT
TZOFFSETFROM:+0000
TZOFFSETTO:+0100
TZNAME:BST
DTSTART:20260329T010000
END:DAYLIGHT
BEGIN:STANDARD
TZOFFSETFROM:+0100
TZOFFSETTO:+0000
TZNAME:GMT
DTSTART:20261025T010000
END:STANDARD
END:VTIMEZONE
BEGIN:VEVENT
DTSTART;TZID=Europe/London:20251021T190000
DTEND;TZID=Europe/London:20251021T190000
DTSTAMP:20260422T172847
CREATED:20250925T113539Z
LAST-MODIFIED:20251211T141510Z
UID:10001890-1761073200-1761073200@carterton-tc.gov.uk
SUMMARY:Town Council Meeting
DESCRIPTION:This meeting will be held at Town Hall. Members of the public are welcome to attend; please see the agenda for more details.
URL:https://carterton-tc.gov.uk/event/town-council-meeting-19
LOCATION:Town Hall
CATEGORIES:Town Council Meetings
ATTACH;FMTTYPE=image/png:https://carterton-tc.gov.uk/wp-content/uploads/2023/09/carterton-council-fi.png
END:VEVENT
BEGIN:VEVENT
DTSTART;TZID=Europe/London:20251021T183000
DTEND;TZID=Europe/London:20251021T183000
DTSTAMP:20260422T172847
CREATED:20251016T175513Z
LAST-MODIFIED:20251211T153459Z
UID:10001905-1761071400-1761071400@carterton-tc.gov.uk
SUMMARY:Planning Committee Meeting
DESCRIPTION:This meeting will be held at Town Hall. Members of the public are welcome to attend; please see the agenda for more details.
URL:https://carterton-tc.gov.uk/event/planning-committee-meeting-18
LOCATION:Town Hall
CATEGORIES:Town Council Meetings
ATTACH;FMTTYPE=image/png:https://carterton-tc.gov.uk/wp-content/uploads/2023/09/carterton-council-fi.png
END:VEVENT
BEGIN:VEVENT
DTSTART;TZID=Europe/London:20251007T180000
DTEND;TZID=Europe/London:20251007T180000
DTSTAMP:20260422T172847
CREATED:20250916T113745Z
LAST-MODIFIED:20260205T125427Z
UID:10001878-1759860000-1759860000@carterton-tc.gov.uk
SUMMARY:Finance & Governance
DESCRIPTION:
URL:https://carterton-tc.gov.uk/event/finance-governance
LOCATION:Town Hall
CATEGORIES:Town Council Meetings
ATTACH;FMTTYPE=image/png:https://carterton-tc.gov.uk/wp-content/uploads/2023/09/carterton-council-fi.png
END:VEVENT
BEGIN:VEVENT
DTSTART;TZID=Europe/London:20250916T190000
DTEND;TZID=Europe/London:20250916T190000
DTSTAMP:20260422T172847
CREATED:20250516T135441Z
LAST-MODIFIED:20251211T141438Z
UID:10001508-1758049200-1758049200@carterton-tc.gov.uk
SUMMARY:Town Council Meeting
DESCRIPTION:This meeting will be held at Town Hall. Members of the public are welcome to attend; please see the agenda for more details.
URL:https://carterton-tc.gov.uk/event/town-council-2
LOCATION:Town Hall
CATEGORIES:Town Council Meetings
ATTACH;FMTTYPE=image/png:https://carterton-tc.gov.uk/wp-content/uploads/2023/09/carterton-council-fi.png
END:VEVENT
BEGIN:VEVENT
DTSTART;TZID=Europe/London:20250916T183000
DTEND;TZID=Europe/London:20250916T183000
DTSTAMP:20260422T172847
CREATED:20250516T135412Z
LAST-MODIFIED:20251211T141609Z
UID:10001507-1758047400-1758047400@carterton-tc.gov.uk
SUMMARY:Planning
DESCRIPTION:This meeting will be held at Town Hall. Members of the public are welcome to attend; please see the agenda for more details.
URL:https://carterton-tc.gov.uk/event/planning
LOCATION:Town Hall
CATEGORIES:Town Council Meetings
ATTACH;FMTTYPE=image/png:https://carterton-tc.gov.uk/wp-content/uploads/2023/09/carterton-council-fi.png
END:VEVENT
BEGIN:VEVENT
DTSTART;TZID=Europe/London:20250909T190000
DTEND;TZID=Europe/London:20250909T190000
DTSTAMP:20260422T172847
CREATED:20250516T135339Z
LAST-MODIFIED:20251212T133603Z
UID:10001506-1757444400-1757444400@carterton-tc.gov.uk
SUMMARY:Carterton Recreation Ground Trustees Committee
DESCRIPTION:This meeting will be held at Town Hall. Members of the public are welcome to attend; please see the agenda for more details.
URL:https://carterton-tc.gov.uk/event/carterton-recreation-ground-trustees-committee
LOCATION:Town Hall
CATEGORIES:Town Council Meetings
ATTACH;FMTTYPE=image/png:https://carterton-tc.gov.uk/wp-content/uploads/2023/09/carterton-council-fi.png
END:VEVENT
BEGIN:VEVENT
DTSTART;TZID=Europe/London:20250902T180000
DTEND;TZID=Europe/London:20250902T180000
DTSTAMP:20260422T172847
CREATED:20250516T135257Z
LAST-MODIFIED:20250828T134328Z
UID:10001505-1756836000-1756836000@carterton-tc.gov.uk
SUMMARY:Recreation & Amenities Committee
DESCRIPTION:
URL:https://carterton-tc.gov.uk/event/recreation-amenities-committee-4
LOCATION:Town Hall
CATEGORIES:Town Council Meetings
ATTACH;FMTTYPE=image/png:https://carterton-tc.gov.uk/wp-content/uploads/2023/09/carterton-council-fi.png
END:VEVENT
BEGIN:VEVENT
DTSTART;TZID=Europe/London:20250722T180000
DTEND;TZID=Europe/London:20250722T180000
DTSTAMP:20260422T172847
CREATED:20250516T135217Z
LAST-MODIFIED:20250722T120256Z
UID:10001504-1753207200-1753207200@carterton-tc.gov.uk
SUMMARY:CANCELLED - Finance & Governance Committee
DESCRIPTION:
URL:https://carterton-tc.gov.uk/event/finance-governance-committee-5
LOCATION:Town Hall
CATEGORIES:Town Council Meetings
ATTACH;FMTTYPE=image/png:https://carterton-tc.gov.uk/wp-content/uploads/2023/09/carterton-council-fi.png
END:VEVENT
BEGIN:VEVENT
DTSTART;TZID=Europe/London:20250715T190000
DTEND;TZID=Europe/London:20250715T190000
DTSTAMP:20260422T172847
CREATED:20250516T140015Z
LAST-MODIFIED:20251105T141215Z
UID:10001510-1752606000-1752606000@carterton-tc.gov.uk
SUMMARY:Town Council Meeting
DESCRIPTION:This meeting will be held at Town Hall. Members of the public are welcome to attend; please see the agenda for more details.
URL:https://carterton-tc.gov.uk/event/town-council-4
LOCATION:Town Hall
CATEGORIES:Town Council Meetings
ATTACH;FMTTYPE=image/png:https://carterton-tc.gov.uk/wp-content/uploads/2023/09/carterton-council-fi.png
END:VEVENT
BEGIN:VEVENT
DTSTART;TZID=Europe/London:20250715T183000
DTEND;TZID=Europe/London:20250715T183000
DTSTAMP:20260422T172847
CREATED:20250516T135139Z
LAST-MODIFIED:20251007T150815Z
UID:10001503-1752604200-1752604200@carterton-tc.gov.uk
SUMMARY:Planning Committee
DESCRIPTION:This meeting will be held at Town Hall. Members of the public are welcome to attend; please see the agenda for more details.
URL:https://carterton-tc.gov.uk/event/planning-committee-3
LOCATION:Town Hall
CATEGORIES:Town Council Meetings
ATTACH;FMTTYPE=image/png:https://carterton-tc.gov.uk/wp-content/uploads/2023/09/carterton-council-fi.png
END:VEVENT
BEGIN:VEVENT
DTSTART;TZID=Europe/London:20250708T180000
DTEND;TZID=Europe/London:20250708T180000
DTSTAMP:20260422T172847
CREATED:20250703T163551Z
LAST-MODIFIED:20250703T163551Z
UID:10001592-1751997600-1751997600@carterton-tc.gov.uk
SUMMARY:Grants Committee Meeting
DESCRIPTION:This meeting will be held at Town Hall. Members of the public are welcome to attend; please see the agenda for more details.
URL:https://carterton-tc.gov.uk/event/grants-committee-meeting-5
LOCATION:Town Hall
CATEGORIES:Town Council Meetings
ATTACH;FMTTYPE=image/png:https://carterton-tc.gov.uk/wp-content/uploads/2023/09/carterton-council-fi.png
END:VEVENT
BEGIN:VEVENT
DTSTART;TZID=Europe/London:20250701T180000
DTEND;TZID=Europe/London:20250701T180000
DTSTAMP:20260422T172847
CREATED:20250516T134955Z
LAST-MODIFIED:20251211T142122Z
UID:10001502-1751392800-1751392800@carterton-tc.gov.uk
SUMMARY:Economic Regeneration & Environment Committee
DESCRIPTION:This meeting will be held at Town Hall. Members of the public are welcome to attend; please see the agenda for more details.
URL:https://carterton-tc.gov.uk/event/town-council
LOCATION:Town Hall
CATEGORIES:Town Council Meetings
ATTACH;FMTTYPE=image/png:https://carterton-tc.gov.uk/wp-content/uploads/2023/09/carterton-council-fi.png
END:VEVENT
BEGIN:VEVENT
DTSTART;TZID=Europe/London:20250617T190000
DTEND;TZID=Europe/London:20250617T190000
DTSTAMP:20260422T172847
CREATED:20250516T135855Z
LAST-MODIFIED:20250925T113251Z
UID:10001509-1750186800-1750186800@carterton-tc.gov.uk
SUMMARY:Town Council Meeting
DESCRIPTION:This meeting will be held at Town Hall. Members of the public are welcome to attend; please see the agenda for more details.
URL:https://carterton-tc.gov.uk/event/town-council-3
LOCATION:Town Hall
CATEGORIES:Town Council Meetings
ATTACH;FMTTYPE=image/png:https://carterton-tc.gov.uk/wp-content/uploads/2023/09/carterton-council-fi.png
END:VEVENT
BEGIN:VEVENT
DTSTART;TZID=Europe/London:20250617T183000
DTEND;TZID=Europe/London:20250617T183000
DTSTAMP:20260422T172847
CREATED:20250516T134912Z
LAST-MODIFIED:20250807T135111Z
UID:10001501-1750185000-1750185000@carterton-tc.gov.uk
SUMMARY:Planning Committee
DESCRIPTION:This meeting will be held at Town Hall. Members of the public are welcome to attend; please see the agenda for more details.
URL:https://carterton-tc.gov.uk/event/planning-committee-2
LOCATION:Town Hall
CATEGORIES:Town Council Meetings
ATTACH;FMTTYPE=image/png:https://carterton-tc.gov.uk/wp-content/uploads/2023/09/carterton-council-fi.png
END:VEVENT
BEGIN:VEVENT
DTSTART;TZID=Europe/London:20250603T180000
DTEND;TZID=Europe/London:20250603T180000
DTSTAMP:20260422T172847
CREATED:20250516T134820Z
LAST-MODIFIED:20251105T141557Z
UID:10001500-1748973600-1748973600@carterton-tc.gov.uk
SUMMARY:Finance & Governance Committee
DESCRIPTION:
URL:https://carterton-tc.gov.uk/event/finance-governance-committee-4
LOCATION:Town Hall
CATEGORIES:Town Council Meetings
ATTACH;FMTTYPE=image/png:https://carterton-tc.gov.uk/wp-content/uploads/2023/09/carterton-council-fi.png
END:VEVENT
BEGIN:VEVENT
DTSTART;TZID=Europe/London:20250520T190000
DTEND;TZID=Europe/London:20250520T190000
DTSTAMP:20260422T172847
CREATED:20240611T110755Z
LAST-MODIFIED:20250807T133018Z
UID:10000732-1747767600-1747767600@carterton-tc.gov.uk
SUMMARY:Annual Town Council Meeting
DESCRIPTION:This meeting will be held at Town Hall. Members of the public are welcome to attend; please see the agenda for more details.
URL:https://carterton-tc.gov.uk/event/annual-town-council-meeting
LOCATION:Town Hall
CATEGORIES:Town Council Meetings
ATTACH;FMTTYPE=image/png:https://carterton-tc.gov.uk/wp-content/uploads/2023/09/carterton-council-fi.png
END:VEVENT
BEGIN:VEVENT
DTSTART;TZID=Europe/London:20250520T183000
DTEND;TZID=Europe/London:20250520T183000
DTSTAMP:20260422T172847
CREATED:20240611T111409Z
LAST-MODIFIED:20250807T133414Z
UID:10000733-1747765800-1747765800@carterton-tc.gov.uk
SUMMARY:Planning Committee Meeting
DESCRIPTION:This meeting will be held at Town Hall. Members of the public are welcome to attend; please see the agenda for more details.
URL:https://carterton-tc.gov.uk/event/planning-committee-meeting-19
LOCATION:Town Hall
CATEGORIES:Town Council Meetings
ATTACH;FMTTYPE=image/png:https://carterton-tc.gov.uk/wp-content/uploads/2023/09/carterton-council-fi.png
END:VEVENT
BEGIN:VEVENT
DTSTART;TZID=Europe/London:20250513T190000
DTEND;TZID=Europe/London:20250513T190000
DTSTAMP:20260422T172847
CREATED:20250410T161532Z
LAST-MODIFIED:20251212T133853Z
UID:10001481-1747162800-1747162800@carterton-tc.gov.uk
SUMMARY:Carterton Recreation Ground Trustees - AGM
DESCRIPTION:This meeting will be held at Town Hall. Members of the public are welcome to attend; please see the agenda for more details.
URL:https://carterton-tc.gov.uk/event/carterton-recreation-ground-trustees-agm
LOCATION:Town Hall
CATEGORIES:Town Council Meetings
ATTACH;FMTTYPE=image/png:https://carterton-tc.gov.uk/wp-content/uploads/2023/09/carterton-council-fi.png
END:VEVENT
BEGIN:VEVENT
DTSTART;TZID=Europe/London:20250415T190000
DTEND;TZID=Europe/London:20250415T190000
DTSTAMP:20260422T172847
CREATED:20240611T110506Z
LAST-MODIFIED:20250617T151549Z
UID:10000730-1744743600-1744743600@carterton-tc.gov.uk
SUMMARY:Town Council Meeting
DESCRIPTION:This meeting will be held at Town Hall. Members of the public are welcome to attend; please see the agenda for more details.
URL:https://carterton-tc.gov.uk/event/town-council-meeting-17
LOCATION:Town Hall
CATEGORIES:Town Council Meetings
ATTACH;FMTTYPE=image/png:https://carterton-tc.gov.uk/wp-content/uploads/2023/09/carterton-council-fi.png
END:VEVENT
BEGIN:VEVENT
DTSTART;TZID=Europe/London:20250415T183000
DTEND;TZID=Europe/London:20250415T183000
DTSTAMP:20260422T172847
CREATED:20240611T110429Z
LAST-MODIFIED:20250617T151821Z
UID:10000729-1744741800-1744741800@carterton-tc.gov.uk
SUMMARY:Planning Committee Meeting
DESCRIPTION:This meeting will be held at Town Hall. Members of the public are welcome to attend; please see the agenda for more details.
URL:https://carterton-tc.gov.uk/event/planning-committee-meeting-17
LOCATION:Town Hall
CATEGORIES:Town Council Meetings
ATTACH;FMTTYPE=image/png:https://carterton-tc.gov.uk/wp-content/uploads/2023/09/carterton-council-fi.png
END:VEVENT
BEGIN:VEVENT
DTSTART;TZID=Europe/London:20250408T180000
DTEND;TZID=Europe/London:20250408T180000
DTSTAMP:20260422T172847
CREATED:20250206T151715Z
LAST-MODIFIED:20250811T113110Z
UID:10001444-1744135200-1744135200@carterton-tc.gov.uk
SUMMARY:Carterton Recreation Ground Charity
DESCRIPTION:This meeting will be held at Town Hall. Members of the public are welcome to attend; please see the agenda for more details.
URL:https://carterton-tc.gov.uk/event/carterton-recreation-ground-charity-3
LOCATION:Town Hall
CATEGORIES:Town Council Meetings
ATTACH;FMTTYPE=image/png:https://carterton-tc.gov.uk/wp-content/uploads/2023/09/carterton-council-fi.png
END:VEVENT
BEGIN:VEVENT
DTSTART;TZID=Europe/London:20250401T180000
DTEND;TZID=Europe/London:20250401T180000
DTSTAMP:20260422T172847
CREATED:20250327T182421Z
LAST-MODIFIED:20251211T141728Z
UID:10001472-1743530400-1743530400@carterton-tc.gov.uk
SUMMARY:Recreation & Amenities Committee
DESCRIPTION:
URL:https://carterton-tc.gov.uk/event/recreation-amenities-committee-3
LOCATION:Town Hall
CATEGORIES:Town Council Meetings
ATTACH;FMTTYPE=image/png:https://carterton-tc.gov.uk/wp-content/uploads/2023/09/carterton-council-fi.png
END:VEVENT
BEGIN:VEVENT
DTSTART;TZID=Europe/London:20250325T100000
DTEND;TZID=Europe/London:20250325T100000
DTSTAMP:20260422T172847
CREATED:20250320T180334Z
LAST-MODIFIED:20250320T180800Z
UID:10001465-1742896800-1742896800@carterton-tc.gov.uk
SUMMARY:HR Committee
DESCRIPTION:This meeting will be held at Town Hall. Members of the public are welcome to attend; please see the agenda for more details.
URL:https://carterton-tc.gov.uk/event/hr-committee
LOCATION:Town Hall
CATEGORIES:Town Council Meetings
ATTACH;FMTTYPE=image/png:https://carterton-tc.gov.uk/wp-content/uploads/2023/09/carterton-council-fi.png
END:VEVENT
BEGIN:VEVENT
DTSTART;TZID=Europe/London:20250318T190000
DTEND;TZID=Europe/London:20250318T190000
DTSTAMP:20260422T172847
CREATED:20240611T110300Z
LAST-MODIFIED:20250520T091921Z
UID:10000727-1742324400-1742324400@carterton-tc.gov.uk
SUMMARY:Town Council Meeting
DESCRIPTION:This meeting will be held at Town Hall. Members of the public are welcome to attend; please see the agenda for more details.
URL:https://carterton-tc.gov.uk/event/town-council-meeting-16
LOCATION:Town Hall
CATEGORIES:Town Council Meetings
ATTACH;FMTTYPE=image/png:https://carterton-tc.gov.uk/wp-content/uploads/2023/09/carterton-council-fi.png
END:VEVENT
BEGIN:VEVENT
DTSTART;TZID=Europe/London:20250318T183000
DTEND;TZID=Europe/London:20250318T183000
DTSTAMP:20260422T172847
CREATED:20240611T110222Z
LAST-MODIFIED:20250520T091753Z
UID:10000726-1742322600-1742322600@carterton-tc.gov.uk
SUMMARY:Planning Committee Meeting
DESCRIPTION:This meeting will be held at Town Hall. Members of the public are welcome to attend; please see the agenda for more details.
URL:https://carterton-tc.gov.uk/event/planning-committee-meeting-16
LOCATION:Town Hall
CATEGORIES:Town Council Meetings
ATTACH;FMTTYPE=image/png:https://carterton-tc.gov.uk/wp-content/uploads/2023/09/carterton-council-fi.png
END:VEVENT
BEGIN:VEVENT
DTSTART;TZID=Europe/London:20250311T180000
DTEND;TZID=Europe/London:20250311T180000
DTSTAMP:20260422T172847
CREATED:20250306T172409Z
LAST-MODIFIED:20250807T140645Z
UID:10001456-1741716000-1741716000@carterton-tc.gov.uk
SUMMARY:Grants Committee Meeting
DESCRIPTION:This meeting will be held at Town Hall. Members of the public are welcome to attend; please see the agenda for more details.
URL:https://carterton-tc.gov.uk/event/grants-committee-meeting-4
LOCATION:Town Hall
CATEGORIES:Town Council Meetings
ATTACH;FMTTYPE=image/png:https://carterton-tc.gov.uk/wp-content/uploads/2023/09/carterton-council-fi.png
END:VEVENT
BEGIN:VEVENT
DTSTART;TZID=Europe/London:20250304T180000
DTEND;TZID=Europe/London:20250304T180000
DTSTAMP:20260422T172847
CREATED:20240611T110134Z
LAST-MODIFIED:20250811T113233Z
UID:10000725-1741111200-1741111200@carterton-tc.gov.uk
SUMMARY:Finance & Governance Committee Meeting
DESCRIPTION:
URL:https://carterton-tc.gov.uk/event/finance-governance-committee-meeting-2
LOCATION:Town Hall
CATEGORIES:Town Council Meetings
ATTACH;FMTTYPE=image/png:https://carterton-tc.gov.uk/wp-content/uploads/2023/09/carterton-council-fi.png
END:VEVENT
BEGIN:VEVENT
DTSTART;TZID=Europe/London:20250218T190000
DTEND;TZID=Europe/London:20250218T190000
DTSTAMP:20260422T172847
CREATED:20240611T110005Z
LAST-MODIFIED:20250520T091849Z
UID:10000723-1739905200-1739905200@carterton-tc.gov.uk
SUMMARY:Town Council Meeting
DESCRIPTION:This meeting will be held at Town Hall. Members of the public are welcome to attend; please see the agenda for more details.
URL:https://carterton-tc.gov.uk/event/town-council-meeting-15
LOCATION:Town Hall
CATEGORIES:Town Council Meetings
ATTACH;FMTTYPE=image/png:https://carterton-tc.gov.uk/wp-content/uploads/2023/09/carterton-council-fi.png
END:VEVENT
BEGIN:VEVENT
DTSTART;TZID=Europe/London:20250218T184500
DTEND;TZID=Europe/London:20250218T184500
DTSTAMP:20260422T172847
CREATED:20240611T105926Z
LAST-MODIFIED:20250416T145050Z
UID:10000722-1739904300-1739904300@carterton-tc.gov.uk
SUMMARY:Planning Committee Meeting
DESCRIPTION:This meeting will be held at Town Hall. Members of the public are welcome to attend; please see the agenda for more details.
URL:https://carterton-tc.gov.uk/event/planning-committee-meeting-15
LOCATION:Town Hall
CATEGORIES:Town Council Meetings
ATTACH;FMTTYPE=image/png:https://carterton-tc.gov.uk/wp-content/uploads/2023/09/carterton-council-fi.png
END:VEVENT
BEGIN:VEVENT
DTSTART;TZID=Europe/London:20250204T180000
DTEND;TZID=Europe/London:20250204T180000
DTSTAMP:20260422T172847
CREATED:20240611T105838Z
LAST-MODIFIED:20250807T140515Z
UID:10000721-1738692000-1738692000@carterton-tc.gov.uk
SUMMARY:Economic Regeneration & Environment Committee Meeting
DESCRIPTION:
URL:https://carterton-tc.gov.uk/event/economic-regeneration-environment-committee-meeting-2
LOCATION:Town Hall
CATEGORIES:Town Council Meetings
ATTACH;FMTTYPE=image/png:https://carterton-tc.gov.uk/wp-content/uploads/2023/09/carterton-council-fi.png
END:VEVENT
END:VCALENDAR