BEGIN:VCALENDAR
VERSION:2.0
PRODID:-//Carterton Town Council - ECPv6.15.18//NONSGML v1.0//EN
CALSCALE:GREGORIAN
METHOD:PUBLISH
X-WR-CALNAME:Carterton Town Council
X-ORIGINAL-URL:https://carterton-tc.gov.uk
X-WR-CALDESC:Events for Carterton Town Council
REFRESH-INTERVAL;VALUE=DURATION:PT1H
X-Robots-Tag:noindex
X-PUBLISHED-TTL:PT1H
BEGIN:VTIMEZONE
TZID:Europe/London
BEGIN:DAYLIGHT
TZOFFSETFROM:+0000
TZOFFSETTO:+0100
TZNAME:BST
DTSTART:20260329T010000
END:DAYLIGHT
BEGIN:STANDARD
TZOFFSETFROM:+0100
TZOFFSETTO:+0000
TZNAME:GMT
DTSTART:20261025T010000
END:STANDARD
BEGIN:DAYLIGHT
TZOFFSETFROM:+0000
TZOFFSETTO:+0100
TZNAME:BST
DTSTART:20270328T010000
END:DAYLIGHT
BEGIN:STANDARD
TZOFFSETFROM:+0100
TZOFFSETTO:+0000
TZNAME:GMT
DTSTART:20271031T010000
END:STANDARD
BEGIN:DAYLIGHT
TZOFFSETFROM:+0000
TZOFFSETTO:+0100
TZNAME:BST
DTSTART:20280326T010000
END:DAYLIGHT
BEGIN:STANDARD
TZOFFSETFROM:+0100
TZOFFSETTO:+0000
TZNAME:GMT
DTSTART:20281029T010000
END:STANDARD
BEGIN:DAYLIGHT
TZOFFSETFROM:+0000
TZOFFSETTO:+0100
TZNAME:BST
DTSTART:20290325T010000
END:DAYLIGHT
BEGIN:STANDARD
TZOFFSETFROM:+0100
TZOFFSETTO:+0000
TZNAME:GMT
DTSTART:20291028T010000
END:STANDARD
END:VTIMEZONE
BEGIN:VEVENT
DTSTART;TZID=Europe/London:20270909T150000
DTEND;TZID=Europe/London:20270909T160000
DTSTAMP:20260421T224010
CREATED:20240404T150944Z
LAST-MODIFIED:20240416T093600Z
UID:10000483-1820502000-1820505600@carterton-tc.gov.uk
SUMMARY:Table Tennis at Carterton Leisure Centre
DESCRIPTION:
URL:https://carterton-tc.gov.uk/event/table-tennis-restarts-18th-april-2024/2027-09-09
LOCATION:Carterton Leisure Centre\, Broadshires Way\, Carterton\, OX18 1AA
ATTACH;FMTTYPE=image/jpeg:https://carterton-tc.gov.uk/wp-content/uploads/2024/04/20240404153853414_0001.jpg
END:VEVENT
BEGIN:VEVENT
DTSTART;TZID=Europe/London:20270916T150000
DTEND;TZID=Europe/London:20270916T160000
DTSTAMP:20260421T224010
CREATED:20240404T150944Z
LAST-MODIFIED:20240416T093600Z
UID:10000484-1821106800-1821110400@carterton-tc.gov.uk
SUMMARY:Table Tennis at Carterton Leisure Centre
DESCRIPTION:
URL:https://carterton-tc.gov.uk/event/table-tennis-restarts-18th-april-2024/2027-09-16
LOCATION:Carterton Leisure Centre\, Broadshires Way\, Carterton\, OX18 1AA
ATTACH;FMTTYPE=image/jpeg:https://carterton-tc.gov.uk/wp-content/uploads/2024/04/20240404153853414_0001.jpg
END:VEVENT
BEGIN:VEVENT
DTSTART;TZID=Europe/London:20270923T150000
DTEND;TZID=Europe/London:20270923T160000
DTSTAMP:20260421T224010
CREATED:20240404T150944Z
LAST-MODIFIED:20240416T093600Z
UID:10000485-1821711600-1821715200@carterton-tc.gov.uk
SUMMARY:Table Tennis at Carterton Leisure Centre
DESCRIPTION:
URL:https://carterton-tc.gov.uk/event/table-tennis-restarts-18th-april-2024/2027-09-23
LOCATION:Carterton Leisure Centre\, Broadshires Way\, Carterton\, OX18 1AA
ATTACH;FMTTYPE=image/jpeg:https://carterton-tc.gov.uk/wp-content/uploads/2024/04/20240404153853414_0001.jpg
END:VEVENT
BEGIN:VEVENT
DTSTART;TZID=Europe/London:20270930T150000
DTEND;TZID=Europe/London:20270930T160000
DTSTAMP:20260421T224010
CREATED:20240404T150944Z
LAST-MODIFIED:20240416T093600Z
UID:10000486-1822316400-1822320000@carterton-tc.gov.uk
SUMMARY:Table Tennis at Carterton Leisure Centre
DESCRIPTION:
URL:https://carterton-tc.gov.uk/event/table-tennis-restarts-18th-april-2024/2027-09-30
LOCATION:Carterton Leisure Centre\, Broadshires Way\, Carterton\, OX18 1AA
ATTACH;FMTTYPE=image/jpeg:https://carterton-tc.gov.uk/wp-content/uploads/2024/04/20240404153853414_0001.jpg
END:VEVENT
BEGIN:VEVENT
DTSTART;TZID=Europe/London:20271007T150000
DTEND;TZID=Europe/London:20271007T160000
DTSTAMP:20260421T224010
CREATED:20240404T150944Z
LAST-MODIFIED:20240416T093600Z
UID:10000487-1822921200-1822924800@carterton-tc.gov.uk
SUMMARY:Table Tennis at Carterton Leisure Centre
DESCRIPTION:
URL:https://carterton-tc.gov.uk/event/table-tennis-restarts-18th-april-2024/2027-10-07
LOCATION:Carterton Leisure Centre\, Broadshires Way\, Carterton\, OX18 1AA
ATTACH;FMTTYPE=image/jpeg:https://carterton-tc.gov.uk/wp-content/uploads/2024/04/20240404153853414_0001.jpg
END:VEVENT
BEGIN:VEVENT
DTSTART;TZID=Europe/London:20271014T150000
DTEND;TZID=Europe/London:20271014T160000
DTSTAMP:20260421T224010
CREATED:20240404T150944Z
LAST-MODIFIED:20240416T093600Z
UID:10000488-1823526000-1823529600@carterton-tc.gov.uk
SUMMARY:Table Tennis at Carterton Leisure Centre
DESCRIPTION:
URL:https://carterton-tc.gov.uk/event/table-tennis-restarts-18th-april-2024/2027-10-14
LOCATION:Carterton Leisure Centre\, Broadshires Way\, Carterton\, OX18 1AA
ATTACH;FMTTYPE=image/jpeg:https://carterton-tc.gov.uk/wp-content/uploads/2024/04/20240404153853414_0001.jpg
END:VEVENT
BEGIN:VEVENT
DTSTART;TZID=Europe/London:20271021T150000
DTEND;TZID=Europe/London:20271021T160000
DTSTAMP:20260421T224010
CREATED:20240404T150944Z
LAST-MODIFIED:20240416T093600Z
UID:10000489-1824130800-1824134400@carterton-tc.gov.uk
SUMMARY:Table Tennis at Carterton Leisure Centre
DESCRIPTION:
URL:https://carterton-tc.gov.uk/event/table-tennis-restarts-18th-april-2024/2027-10-21
LOCATION:Carterton Leisure Centre\, Broadshires Way\, Carterton\, OX18 1AA
ATTACH;FMTTYPE=image/jpeg:https://carterton-tc.gov.uk/wp-content/uploads/2024/04/20240404153853414_0001.jpg
END:VEVENT
BEGIN:VEVENT
DTSTART;TZID=Europe/London:20271028T150000
DTEND;TZID=Europe/London:20271028T160000
DTSTAMP:20260421T224010
CREATED:20240404T150944Z
LAST-MODIFIED:20240416T093600Z
UID:10000490-1824735600-1824739200@carterton-tc.gov.uk
SUMMARY:Table Tennis at Carterton Leisure Centre
DESCRIPTION:
URL:https://carterton-tc.gov.uk/event/table-tennis-restarts-18th-april-2024/2027-10-28
LOCATION:Carterton Leisure Centre\, Broadshires Way\, Carterton\, OX18 1AA
ATTACH;FMTTYPE=image/jpeg:https://carterton-tc.gov.uk/wp-content/uploads/2024/04/20240404153853414_0001.jpg
END:VEVENT
BEGIN:VEVENT
DTSTART;TZID=Europe/London:20271104T150000
DTEND;TZID=Europe/London:20271104T160000
DTSTAMP:20260421T224010
CREATED:20240404T150944Z
LAST-MODIFIED:20240416T093600Z
UID:10000491-1825340400-1825344000@carterton-tc.gov.uk
SUMMARY:Table Tennis at Carterton Leisure Centre
DESCRIPTION:
URL:https://carterton-tc.gov.uk/event/table-tennis-restarts-18th-april-2024/2027-11-04
LOCATION:Carterton Leisure Centre\, Broadshires Way\, Carterton\, OX18 1AA
ATTACH;FMTTYPE=image/jpeg:https://carterton-tc.gov.uk/wp-content/uploads/2024/04/20240404153853414_0001.jpg
END:VEVENT
BEGIN:VEVENT
DTSTART;TZID=Europe/London:20271111T150000
DTEND;TZID=Europe/London:20271111T160000
DTSTAMP:20260421T224010
CREATED:20240404T150944Z
LAST-MODIFIED:20240416T093600Z
UID:10000492-1825945200-1825948800@carterton-tc.gov.uk
SUMMARY:Table Tennis at Carterton Leisure Centre
DESCRIPTION:
URL:https://carterton-tc.gov.uk/event/table-tennis-restarts-18th-april-2024/2027-11-11
LOCATION:Carterton Leisure Centre\, Broadshires Way\, Carterton\, OX18 1AA
ATTACH;FMTTYPE=image/jpeg:https://carterton-tc.gov.uk/wp-content/uploads/2024/04/20240404153853414_0001.jpg
END:VEVENT
BEGIN:VEVENT
DTSTART;TZID=Europe/London:20271118T150000
DTEND;TZID=Europe/London:20271118T160000
DTSTAMP:20260421T224010
CREATED:20240404T150944Z
LAST-MODIFIED:20240416T093600Z
UID:10000493-1826550000-1826553600@carterton-tc.gov.uk
SUMMARY:Table Tennis at Carterton Leisure Centre
DESCRIPTION:
URL:https://carterton-tc.gov.uk/event/table-tennis-restarts-18th-april-2024/2027-11-18
LOCATION:Carterton Leisure Centre\, Broadshires Way\, Carterton\, OX18 1AA
ATTACH;FMTTYPE=image/jpeg:https://carterton-tc.gov.uk/wp-content/uploads/2024/04/20240404153853414_0001.jpg
END:VEVENT
BEGIN:VEVENT
DTSTART;TZID=Europe/London:20271125T150000
DTEND;TZID=Europe/London:20271125T160000
DTSTAMP:20260421T224010
CREATED:20240404T150944Z
LAST-MODIFIED:20240416T093600Z
UID:10000494-1827154800-1827158400@carterton-tc.gov.uk
SUMMARY:Table Tennis at Carterton Leisure Centre
DESCRIPTION:
URL:https://carterton-tc.gov.uk/event/table-tennis-restarts-18th-april-2024/2027-11-25
LOCATION:Carterton Leisure Centre\, Broadshires Way\, Carterton\, OX18 1AA
ATTACH;FMTTYPE=image/jpeg:https://carterton-tc.gov.uk/wp-content/uploads/2024/04/20240404153853414_0001.jpg
END:VEVENT
BEGIN:VEVENT
DTSTART;TZID=Europe/London:20271202T150000
DTEND;TZID=Europe/London:20271202T160000
DTSTAMP:20260421T224010
CREATED:20240404T150944Z
LAST-MODIFIED:20240416T093600Z
UID:10000495-1827759600-1827763200@carterton-tc.gov.uk
SUMMARY:Table Tennis at Carterton Leisure Centre
DESCRIPTION:
URL:https://carterton-tc.gov.uk/event/table-tennis-restarts-18th-april-2024/2027-12-02
LOCATION:Carterton Leisure Centre\, Broadshires Way\, Carterton\, OX18 1AA
ATTACH;FMTTYPE=image/jpeg:https://carterton-tc.gov.uk/wp-content/uploads/2024/04/20240404153853414_0001.jpg
END:VEVENT
BEGIN:VEVENT
DTSTART;TZID=Europe/London:20271209T150000
DTEND;TZID=Europe/London:20271209T160000
DTSTAMP:20260421T224010
CREATED:20240404T150944Z
LAST-MODIFIED:20240416T093600Z
UID:10000496-1828364400-1828368000@carterton-tc.gov.uk
SUMMARY:Table Tennis at Carterton Leisure Centre
DESCRIPTION:
URL:https://carterton-tc.gov.uk/event/table-tennis-restarts-18th-april-2024/2027-12-09
LOCATION:Carterton Leisure Centre\, Broadshires Way\, Carterton\, OX18 1AA
ATTACH;FMTTYPE=image/jpeg:https://carterton-tc.gov.uk/wp-content/uploads/2024/04/20240404153853414_0001.jpg
END:VEVENT
BEGIN:VEVENT
DTSTART;TZID=Europe/London:20271216T150000
DTEND;TZID=Europe/London:20271216T160000
DTSTAMP:20260421T224010
CREATED:20240404T150944Z
LAST-MODIFIED:20240416T093600Z
UID:10000497-1828969200-1828972800@carterton-tc.gov.uk
SUMMARY:Table Tennis at Carterton Leisure Centre
DESCRIPTION:
URL:https://carterton-tc.gov.uk/event/table-tennis-restarts-18th-april-2024/2027-12-16
LOCATION:Carterton Leisure Centre\, Broadshires Way\, Carterton\, OX18 1AA
ATTACH;FMTTYPE=image/jpeg:https://carterton-tc.gov.uk/wp-content/uploads/2024/04/20240404153853414_0001.jpg
END:VEVENT
BEGIN:VEVENT
DTSTART;TZID=Europe/London:20271223T150000
DTEND;TZID=Europe/London:20271223T160000
DTSTAMP:20260421T224010
CREATED:20240404T150944Z
LAST-MODIFIED:20240416T093600Z
UID:10000498-1829574000-1829577600@carterton-tc.gov.uk
SUMMARY:Table Tennis at Carterton Leisure Centre
DESCRIPTION:
URL:https://carterton-tc.gov.uk/event/table-tennis-restarts-18th-april-2024/2027-12-23
LOCATION:Carterton Leisure Centre\, Broadshires Way\, Carterton\, OX18 1AA
ATTACH;FMTTYPE=image/jpeg:https://carterton-tc.gov.uk/wp-content/uploads/2024/04/20240404153853414_0001.jpg
END:VEVENT
BEGIN:VEVENT
DTSTART;TZID=Europe/London:20271230T150000
DTEND;TZID=Europe/London:20271230T160000
DTSTAMP:20260421T224010
CREATED:20240404T150944Z
LAST-MODIFIED:20240416T093600Z
UID:10000499-1830178800-1830182400@carterton-tc.gov.uk
SUMMARY:Table Tennis at Carterton Leisure Centre
DESCRIPTION:
URL:https://carterton-tc.gov.uk/event/table-tennis-restarts-18th-april-2024/2027-12-30
LOCATION:Carterton Leisure Centre\, Broadshires Way\, Carterton\, OX18 1AA
ATTACH;FMTTYPE=image/jpeg:https://carterton-tc.gov.uk/wp-content/uploads/2024/04/20240404153853414_0001.jpg
END:VEVENT
BEGIN:VEVENT
DTSTART;TZID=Europe/London:20280106T150000
DTEND;TZID=Europe/London:20280106T160000
DTSTAMP:20260421T224010
CREATED:20240404T150944Z
LAST-MODIFIED:20240416T093600Z
UID:10000500-1830783600-1830787200@carterton-tc.gov.uk
SUMMARY:Table Tennis at Carterton Leisure Centre
DESCRIPTION:
URL:https://carterton-tc.gov.uk/event/table-tennis-restarts-18th-april-2024/2028-01-06
LOCATION:Carterton Leisure Centre\, Broadshires Way\, Carterton\, OX18 1AA
ATTACH;FMTTYPE=image/jpeg:https://carterton-tc.gov.uk/wp-content/uploads/2024/04/20240404153853414_0001.jpg
END:VEVENT
BEGIN:VEVENT
DTSTART;TZID=Europe/London:20280113T150000
DTEND;TZID=Europe/London:20280113T160000
DTSTAMP:20260421T224010
CREATED:20240404T150944Z
LAST-MODIFIED:20240416T093600Z
UID:10000501-1831388400-1831392000@carterton-tc.gov.uk
SUMMARY:Table Tennis at Carterton Leisure Centre
DESCRIPTION:
URL:https://carterton-tc.gov.uk/event/table-tennis-restarts-18th-april-2024/2028-01-13
LOCATION:Carterton Leisure Centre\, Broadshires Way\, Carterton\, OX18 1AA
ATTACH;FMTTYPE=image/jpeg:https://carterton-tc.gov.uk/wp-content/uploads/2024/04/20240404153853414_0001.jpg
END:VEVENT
BEGIN:VEVENT
DTSTART;TZID=Europe/London:20280120T150000
DTEND;TZID=Europe/London:20280120T160000
DTSTAMP:20260421T224010
CREATED:20240404T150944Z
LAST-MODIFIED:20240416T093600Z
UID:10000502-1831993200-1831996800@carterton-tc.gov.uk
SUMMARY:Table Tennis at Carterton Leisure Centre
DESCRIPTION:
URL:https://carterton-tc.gov.uk/event/table-tennis-restarts-18th-april-2024/2028-01-20
LOCATION:Carterton Leisure Centre\, Broadshires Way\, Carterton\, OX18 1AA
ATTACH;FMTTYPE=image/jpeg:https://carterton-tc.gov.uk/wp-content/uploads/2024/04/20240404153853414_0001.jpg
END:VEVENT
BEGIN:VEVENT
DTSTART;TZID=Europe/London:20280127T150000
DTEND;TZID=Europe/London:20280127T160000
DTSTAMP:20260421T224010
CREATED:20240404T150944Z
LAST-MODIFIED:20240416T093600Z
UID:10000503-1832598000-1832601600@carterton-tc.gov.uk
SUMMARY:Table Tennis at Carterton Leisure Centre
DESCRIPTION:
URL:https://carterton-tc.gov.uk/event/table-tennis-restarts-18th-april-2024/2028-01-27
LOCATION:Carterton Leisure Centre\, Broadshires Way\, Carterton\, OX18 1AA
ATTACH;FMTTYPE=image/jpeg:https://carterton-tc.gov.uk/wp-content/uploads/2024/04/20240404153853414_0001.jpg
END:VEVENT
BEGIN:VEVENT
DTSTART;TZID=Europe/London:20280203T150000
DTEND;TZID=Europe/London:20280203T160000
DTSTAMP:20260421T224010
CREATED:20240404T150944Z
LAST-MODIFIED:20240416T093600Z
UID:10000504-1833202800-1833206400@carterton-tc.gov.uk
SUMMARY:Table Tennis at Carterton Leisure Centre
DESCRIPTION:
URL:https://carterton-tc.gov.uk/event/table-tennis-restarts-18th-april-2024/2028-02-03
LOCATION:Carterton Leisure Centre\, Broadshires Way\, Carterton\, OX18 1AA
ATTACH;FMTTYPE=image/jpeg:https://carterton-tc.gov.uk/wp-content/uploads/2024/04/20240404153853414_0001.jpg
END:VEVENT
BEGIN:VEVENT
DTSTART;TZID=Europe/London:20280210T150000
DTEND;TZID=Europe/London:20280210T160000
DTSTAMP:20260421T224010
CREATED:20240404T150944Z
LAST-MODIFIED:20240416T093600Z
UID:10000505-1833807600-1833811200@carterton-tc.gov.uk
SUMMARY:Table Tennis at Carterton Leisure Centre
DESCRIPTION:
URL:https://carterton-tc.gov.uk/event/table-tennis-restarts-18th-april-2024/2028-02-10
LOCATION:Carterton Leisure Centre\, Broadshires Way\, Carterton\, OX18 1AA
ATTACH;FMTTYPE=image/jpeg:https://carterton-tc.gov.uk/wp-content/uploads/2024/04/20240404153853414_0001.jpg
END:VEVENT
BEGIN:VEVENT
DTSTART;TZID=Europe/London:20280217T150000
DTEND;TZID=Europe/London:20280217T160000
DTSTAMP:20260421T224010
CREATED:20240404T150944Z
LAST-MODIFIED:20240416T093600Z
UID:10000506-1834412400-1834416000@carterton-tc.gov.uk
SUMMARY:Table Tennis at Carterton Leisure Centre
DESCRIPTION:
URL:https://carterton-tc.gov.uk/event/table-tennis-restarts-18th-april-2024/2028-02-17
LOCATION:Carterton Leisure Centre\, Broadshires Way\, Carterton\, OX18 1AA
ATTACH;FMTTYPE=image/jpeg:https://carterton-tc.gov.uk/wp-content/uploads/2024/04/20240404153853414_0001.jpg
END:VEVENT
BEGIN:VEVENT
DTSTART;TZID=Europe/London:20280224T150000
DTEND;TZID=Europe/London:20280224T160000
DTSTAMP:20260421T224010
CREATED:20240404T150944Z
LAST-MODIFIED:20240416T093600Z
UID:10000507-1835017200-1835020800@carterton-tc.gov.uk
SUMMARY:Table Tennis at Carterton Leisure Centre
DESCRIPTION:
URL:https://carterton-tc.gov.uk/event/table-tennis-restarts-18th-april-2024/2028-02-24
LOCATION:Carterton Leisure Centre\, Broadshires Way\, Carterton\, OX18 1AA
ATTACH;FMTTYPE=image/jpeg:https://carterton-tc.gov.uk/wp-content/uploads/2024/04/20240404153853414_0001.jpg
END:VEVENT
BEGIN:VEVENT
DTSTART;TZID=Europe/London:20280302T150000
DTEND;TZID=Europe/London:20280302T160000
DTSTAMP:20260421T224010
CREATED:20240404T150944Z
LAST-MODIFIED:20240416T093600Z
UID:10000508-1835622000-1835625600@carterton-tc.gov.uk
SUMMARY:Table Tennis at Carterton Leisure Centre
DESCRIPTION:
URL:https://carterton-tc.gov.uk/event/table-tennis-restarts-18th-april-2024/2028-03-02
LOCATION:Carterton Leisure Centre\, Broadshires Way\, Carterton\, OX18 1AA
ATTACH;FMTTYPE=image/jpeg:https://carterton-tc.gov.uk/wp-content/uploads/2024/04/20240404153853414_0001.jpg
END:VEVENT
BEGIN:VEVENT
DTSTART;TZID=Europe/London:20280309T150000
DTEND;TZID=Europe/London:20280309T160000
DTSTAMP:20260421T224010
CREATED:20240404T150944Z
LAST-MODIFIED:20240416T093600Z
UID:10000509-1836226800-1836230400@carterton-tc.gov.uk
SUMMARY:Table Tennis at Carterton Leisure Centre
DESCRIPTION:
URL:https://carterton-tc.gov.uk/event/table-tennis-restarts-18th-april-2024/2028-03-09
LOCATION:Carterton Leisure Centre\, Broadshires Way\, Carterton\, OX18 1AA
ATTACH;FMTTYPE=image/jpeg:https://carterton-tc.gov.uk/wp-content/uploads/2024/04/20240404153853414_0001.jpg
END:VEVENT
BEGIN:VEVENT
DTSTART;TZID=Europe/London:20280316T150000
DTEND;TZID=Europe/London:20280316T160000
DTSTAMP:20260421T224010
CREATED:20240404T150944Z
LAST-MODIFIED:20240416T093600Z
UID:10000510-1836831600-1836835200@carterton-tc.gov.uk
SUMMARY:Table Tennis at Carterton Leisure Centre
DESCRIPTION:
URL:https://carterton-tc.gov.uk/event/table-tennis-restarts-18th-april-2024/2028-03-16
LOCATION:Carterton Leisure Centre\, Broadshires Way\, Carterton\, OX18 1AA
ATTACH;FMTTYPE=image/jpeg:https://carterton-tc.gov.uk/wp-content/uploads/2024/04/20240404153853414_0001.jpg
END:VEVENT
BEGIN:VEVENT
DTSTART;TZID=Europe/London:20280323T150000
DTEND;TZID=Europe/London:20280323T160000
DTSTAMP:20260421T224010
CREATED:20240404T150944Z
LAST-MODIFIED:20240416T093600Z
UID:10000511-1837436400-1837440000@carterton-tc.gov.uk
SUMMARY:Table Tennis at Carterton Leisure Centre
DESCRIPTION:
URL:https://carterton-tc.gov.uk/event/table-tennis-restarts-18th-april-2024/2028-03-23
LOCATION:Carterton Leisure Centre\, Broadshires Way\, Carterton\, OX18 1AA
ATTACH;FMTTYPE=image/jpeg:https://carterton-tc.gov.uk/wp-content/uploads/2024/04/20240404153853414_0001.jpg
END:VEVENT
BEGIN:VEVENT
DTSTART;TZID=Europe/London:20280330T150000
DTEND;TZID=Europe/London:20280330T160000
DTSTAMP:20260421T224010
CREATED:20240404T150944Z
LAST-MODIFIED:20240416T093600Z
UID:10000512-1838041200-1838044800@carterton-tc.gov.uk
SUMMARY:Table Tennis at Carterton Leisure Centre
DESCRIPTION:
URL:https://carterton-tc.gov.uk/event/table-tennis-restarts-18th-april-2024/2028-03-30
LOCATION:Carterton Leisure Centre\, Broadshires Way\, Carterton\, OX18 1AA
ATTACH;FMTTYPE=image/jpeg:https://carterton-tc.gov.uk/wp-content/uploads/2024/04/20240404153853414_0001.jpg
END:VEVENT
END:VCALENDAR