BEGIN:VCALENDAR
VERSION:2.0
PRODID:-//Carterton Town Council - ECPv6.15.18//NONSGML v1.0//EN
CALSCALE:GREGORIAN
METHOD:PUBLISH
X-ORIGINAL-URL:https://carterton-tc.gov.uk
X-WR-CALDESC:Events for Carterton Town Council
REFRESH-INTERVAL;VALUE=DURATION:PT1H
X-Robots-Tag:noindex
X-PUBLISHED-TTL:PT1H
BEGIN:VTIMEZONE
TZID:Europe/London
BEGIN:DAYLIGHT
TZOFFSETFROM:+0000
TZOFFSETTO:+0100
TZNAME:BST
DTSTART:20260329T010000
END:DAYLIGHT
BEGIN:STANDARD
TZOFFSETFROM:+0100
TZOFFSETTO:+0000
TZNAME:GMT
DTSTART:20261025T010000
END:STANDARD
BEGIN:DAYLIGHT
TZOFFSETFROM:+0000
TZOFFSETTO:+0100
TZNAME:BST
DTSTART:20270328T010000
END:DAYLIGHT
BEGIN:STANDARD
TZOFFSETFROM:+0100
TZOFFSETTO:+0000
TZNAME:GMT
DTSTART:20271031T010000
END:STANDARD
BEGIN:DAYLIGHT
TZOFFSETFROM:+0000
TZOFFSETTO:+0100
TZNAME:BST
DTSTART:20280326T010000
END:DAYLIGHT
BEGIN:STANDARD
TZOFFSETFROM:+0100
TZOFFSETTO:+0000
TZNAME:GMT
DTSTART:20281029T010000
END:STANDARD
END:VTIMEZONE
BEGIN:VEVENT
DTSTART;TZID=Europe/London:20270325T150000
DTEND;TZID=Europe/London:20270325T160000
DTSTAMP:20260421T193523
CREATED:20240404T150944Z
LAST-MODIFIED:20240416T093600Z
UID:10000459-1805986800-1805990400@carterton-tc.gov.uk
SUMMARY:Table Tennis at Carterton Leisure Centre
DESCRIPTION:
URL:https://carterton-tc.gov.uk/event/table-tennis-restarts-18th-april-2024/2027-03-25
LOCATION:Carterton Leisure Centre\, Broadshires Way\, Carterton\, OX18 1AA
ATTACH;FMTTYPE=image/jpeg:https://carterton-tc.gov.uk/wp-content/uploads/2024/04/20240404153853414_0001.jpg
END:VEVENT
BEGIN:VEVENT
DTSTART;TZID=Europe/London:20270401T150000
DTEND;TZID=Europe/London:20270401T160000
DTSTAMP:20260421T193523
CREATED:20240404T150944Z
LAST-MODIFIED:20240416T093600Z
UID:10000460-1806591600-1806595200@carterton-tc.gov.uk
SUMMARY:Table Tennis at Carterton Leisure Centre
DESCRIPTION:
URL:https://carterton-tc.gov.uk/event/table-tennis-restarts-18th-april-2024/2027-04-01
LOCATION:Carterton Leisure Centre\, Broadshires Way\, Carterton\, OX18 1AA
ATTACH;FMTTYPE=image/jpeg:https://carterton-tc.gov.uk/wp-content/uploads/2024/04/20240404153853414_0001.jpg
END:VEVENT
BEGIN:VEVENT
DTSTART;TZID=Europe/London:20270408T150000
DTEND;TZID=Europe/London:20270408T160000
DTSTAMP:20260421T193523
CREATED:20240404T150944Z
LAST-MODIFIED:20240416T093600Z
UID:10000461-1807196400-1807200000@carterton-tc.gov.uk
SUMMARY:Table Tennis at Carterton Leisure Centre
DESCRIPTION:
URL:https://carterton-tc.gov.uk/event/table-tennis-restarts-18th-april-2024/2027-04-08
LOCATION:Carterton Leisure Centre\, Broadshires Way\, Carterton\, OX18 1AA
ATTACH;FMTTYPE=image/jpeg:https://carterton-tc.gov.uk/wp-content/uploads/2024/04/20240404153853414_0001.jpg
END:VEVENT
BEGIN:VEVENT
DTSTART;TZID=Europe/London:20270415T150000
DTEND;TZID=Europe/London:20270415T160000
DTSTAMP:20260421T193523
CREATED:20240404T150944Z
LAST-MODIFIED:20240416T093600Z
UID:10000462-1807801200-1807804800@carterton-tc.gov.uk
SUMMARY:Table Tennis at Carterton Leisure Centre
DESCRIPTION:
URL:https://carterton-tc.gov.uk/event/table-tennis-restarts-18th-april-2024/2027-04-15
LOCATION:Carterton Leisure Centre\, Broadshires Way\, Carterton\, OX18 1AA
ATTACH;FMTTYPE=image/jpeg:https://carterton-tc.gov.uk/wp-content/uploads/2024/04/20240404153853414_0001.jpg
END:VEVENT
BEGIN:VEVENT
DTSTART;TZID=Europe/London:20270422T150000
DTEND;TZID=Europe/London:20270422T160000
DTSTAMP:20260421T193523
CREATED:20240404T150944Z
LAST-MODIFIED:20240416T093600Z
UID:10000463-1808406000-1808409600@carterton-tc.gov.uk
SUMMARY:Table Tennis at Carterton Leisure Centre
DESCRIPTION:
URL:https://carterton-tc.gov.uk/event/table-tennis-restarts-18th-april-2024/2027-04-22
LOCATION:Carterton Leisure Centre\, Broadshires Way\, Carterton\, OX18 1AA
ATTACH;FMTTYPE=image/jpeg:https://carterton-tc.gov.uk/wp-content/uploads/2024/04/20240404153853414_0001.jpg
END:VEVENT
BEGIN:VEVENT
DTSTART;TZID=Europe/London:20270429T150000
DTEND;TZID=Europe/London:20270429T160000
DTSTAMP:20260421T193523
CREATED:20240404T150944Z
LAST-MODIFIED:20240416T093600Z
UID:10000464-1809010800-1809014400@carterton-tc.gov.uk
SUMMARY:Table Tennis at Carterton Leisure Centre
DESCRIPTION:
URL:https://carterton-tc.gov.uk/event/table-tennis-restarts-18th-april-2024/2027-04-29
LOCATION:Carterton Leisure Centre\, Broadshires Way\, Carterton\, OX18 1AA
ATTACH;FMTTYPE=image/jpeg:https://carterton-tc.gov.uk/wp-content/uploads/2024/04/20240404153853414_0001.jpg
END:VEVENT
BEGIN:VEVENT
DTSTART;TZID=Europe/London:20270506T150000
DTEND;TZID=Europe/London:20270506T160000
DTSTAMP:20260421T193523
CREATED:20240404T150944Z
LAST-MODIFIED:20240416T093600Z
UID:10000465-1809615600-1809619200@carterton-tc.gov.uk
SUMMARY:Table Tennis at Carterton Leisure Centre
DESCRIPTION:
URL:https://carterton-tc.gov.uk/event/table-tennis-restarts-18th-april-2024/2027-05-06
LOCATION:Carterton Leisure Centre\, Broadshires Way\, Carterton\, OX18 1AA
ATTACH;FMTTYPE=image/jpeg:https://carterton-tc.gov.uk/wp-content/uploads/2024/04/20240404153853414_0001.jpg
END:VEVENT
BEGIN:VEVENT
DTSTART;TZID=Europe/London:20270513T150000
DTEND;TZID=Europe/London:20270513T160000
DTSTAMP:20260421T193523
CREATED:20240404T150944Z
LAST-MODIFIED:20240416T093600Z
UID:10000466-1810220400-1810224000@carterton-tc.gov.uk
SUMMARY:Table Tennis at Carterton Leisure Centre
DESCRIPTION:
URL:https://carterton-tc.gov.uk/event/table-tennis-restarts-18th-april-2024/2027-05-13
LOCATION:Carterton Leisure Centre\, Broadshires Way\, Carterton\, OX18 1AA
ATTACH;FMTTYPE=image/jpeg:https://carterton-tc.gov.uk/wp-content/uploads/2024/04/20240404153853414_0001.jpg
END:VEVENT
BEGIN:VEVENT
DTSTART;TZID=Europe/London:20270520T150000
DTEND;TZID=Europe/London:20270520T160000
DTSTAMP:20260421T193523
CREATED:20240404T150944Z
LAST-MODIFIED:20240416T093600Z
UID:10000467-1810825200-1810828800@carterton-tc.gov.uk
SUMMARY:Table Tennis at Carterton Leisure Centre
DESCRIPTION:
URL:https://carterton-tc.gov.uk/event/table-tennis-restarts-18th-april-2024/2027-05-20
LOCATION:Carterton Leisure Centre\, Broadshires Way\, Carterton\, OX18 1AA
ATTACH;FMTTYPE=image/jpeg:https://carterton-tc.gov.uk/wp-content/uploads/2024/04/20240404153853414_0001.jpg
END:VEVENT
BEGIN:VEVENT
DTSTART;TZID=Europe/London:20270527T150000
DTEND;TZID=Europe/London:20270527T160000
DTSTAMP:20260421T193523
CREATED:20240404T150944Z
LAST-MODIFIED:20240416T093600Z
UID:10000468-1811430000-1811433600@carterton-tc.gov.uk
SUMMARY:Table Tennis at Carterton Leisure Centre
DESCRIPTION:
URL:https://carterton-tc.gov.uk/event/table-tennis-restarts-18th-april-2024/2027-05-27
LOCATION:Carterton Leisure Centre\, Broadshires Way\, Carterton\, OX18 1AA
ATTACH;FMTTYPE=image/jpeg:https://carterton-tc.gov.uk/wp-content/uploads/2024/04/20240404153853414_0001.jpg
END:VEVENT
BEGIN:VEVENT
DTSTART;TZID=Europe/London:20270603T150000
DTEND;TZID=Europe/London:20270603T160000
DTSTAMP:20260421T193523
CREATED:20240404T150944Z
LAST-MODIFIED:20240416T093600Z
UID:10000469-1812034800-1812038400@carterton-tc.gov.uk
SUMMARY:Table Tennis at Carterton Leisure Centre
DESCRIPTION:
URL:https://carterton-tc.gov.uk/event/table-tennis-restarts-18th-april-2024/2027-06-03
LOCATION:Carterton Leisure Centre\, Broadshires Way\, Carterton\, OX18 1AA
ATTACH;FMTTYPE=image/jpeg:https://carterton-tc.gov.uk/wp-content/uploads/2024/04/20240404153853414_0001.jpg
END:VEVENT
BEGIN:VEVENT
DTSTART;TZID=Europe/London:20270610T150000
DTEND;TZID=Europe/London:20270610T160000
DTSTAMP:20260421T193523
CREATED:20240404T150944Z
LAST-MODIFIED:20240416T093600Z
UID:10000470-1812639600-1812643200@carterton-tc.gov.uk
SUMMARY:Table Tennis at Carterton Leisure Centre
DESCRIPTION:
URL:https://carterton-tc.gov.uk/event/table-tennis-restarts-18th-april-2024/2027-06-10
LOCATION:Carterton Leisure Centre\, Broadshires Way\, Carterton\, OX18 1AA
ATTACH;FMTTYPE=image/jpeg:https://carterton-tc.gov.uk/wp-content/uploads/2024/04/20240404153853414_0001.jpg
END:VEVENT
BEGIN:VEVENT
DTSTART;TZID=Europe/London:20270617T150000
DTEND;TZID=Europe/London:20270617T160000
DTSTAMP:20260421T193523
CREATED:20240404T150944Z
LAST-MODIFIED:20240416T093600Z
UID:10000471-1813244400-1813248000@carterton-tc.gov.uk
SUMMARY:Table Tennis at Carterton Leisure Centre
DESCRIPTION:
URL:https://carterton-tc.gov.uk/event/table-tennis-restarts-18th-april-2024/2027-06-17
LOCATION:Carterton Leisure Centre\, Broadshires Way\, Carterton\, OX18 1AA
ATTACH;FMTTYPE=image/jpeg:https://carterton-tc.gov.uk/wp-content/uploads/2024/04/20240404153853414_0001.jpg
END:VEVENT
BEGIN:VEVENT
DTSTART;TZID=Europe/London:20270624T150000
DTEND;TZID=Europe/London:20270624T160000
DTSTAMP:20260421T193523
CREATED:20240404T150944Z
LAST-MODIFIED:20240416T093600Z
UID:10000472-1813849200-1813852800@carterton-tc.gov.uk
SUMMARY:Table Tennis at Carterton Leisure Centre
DESCRIPTION:
URL:https://carterton-tc.gov.uk/event/table-tennis-restarts-18th-april-2024/2027-06-24
LOCATION:Carterton Leisure Centre\, Broadshires Way\, Carterton\, OX18 1AA
ATTACH;FMTTYPE=image/jpeg:https://carterton-tc.gov.uk/wp-content/uploads/2024/04/20240404153853414_0001.jpg
END:VEVENT
BEGIN:VEVENT
DTSTART;TZID=Europe/London:20270701T150000
DTEND;TZID=Europe/London:20270701T160000
DTSTAMP:20260421T193523
CREATED:20240404T150944Z
LAST-MODIFIED:20240416T093600Z
UID:10000473-1814454000-1814457600@carterton-tc.gov.uk
SUMMARY:Table Tennis at Carterton Leisure Centre
DESCRIPTION:
URL:https://carterton-tc.gov.uk/event/table-tennis-restarts-18th-april-2024/2027-07-01
LOCATION:Carterton Leisure Centre\, Broadshires Way\, Carterton\, OX18 1AA
ATTACH;FMTTYPE=image/jpeg:https://carterton-tc.gov.uk/wp-content/uploads/2024/04/20240404153853414_0001.jpg
END:VEVENT
BEGIN:VEVENT
DTSTART;TZID=Europe/London:20270708T150000
DTEND;TZID=Europe/London:20270708T160000
DTSTAMP:20260421T193523
CREATED:20240404T150944Z
LAST-MODIFIED:20240416T093600Z
UID:10000474-1815058800-1815062400@carterton-tc.gov.uk
SUMMARY:Table Tennis at Carterton Leisure Centre
DESCRIPTION:
URL:https://carterton-tc.gov.uk/event/table-tennis-restarts-18th-april-2024/2027-07-08
LOCATION:Carterton Leisure Centre\, Broadshires Way\, Carterton\, OX18 1AA
ATTACH;FMTTYPE=image/jpeg:https://carterton-tc.gov.uk/wp-content/uploads/2024/04/20240404153853414_0001.jpg
END:VEVENT
BEGIN:VEVENT
DTSTART;TZID=Europe/London:20270715T150000
DTEND;TZID=Europe/London:20270715T160000
DTSTAMP:20260421T193523
CREATED:20240404T150944Z
LAST-MODIFIED:20240416T093600Z
UID:10000475-1815663600-1815667200@carterton-tc.gov.uk
SUMMARY:Table Tennis at Carterton Leisure Centre
DESCRIPTION:
URL:https://carterton-tc.gov.uk/event/table-tennis-restarts-18th-april-2024/2027-07-15
LOCATION:Carterton Leisure Centre\, Broadshires Way\, Carterton\, OX18 1AA
ATTACH;FMTTYPE=image/jpeg:https://carterton-tc.gov.uk/wp-content/uploads/2024/04/20240404153853414_0001.jpg
END:VEVENT
BEGIN:VEVENT
DTSTART;TZID=Europe/London:20270722T150000
DTEND;TZID=Europe/London:20270722T160000
DTSTAMP:20260421T193523
CREATED:20240404T150944Z
LAST-MODIFIED:20240416T093600Z
UID:10000476-1816268400-1816272000@carterton-tc.gov.uk
SUMMARY:Table Tennis at Carterton Leisure Centre
DESCRIPTION:
URL:https://carterton-tc.gov.uk/event/table-tennis-restarts-18th-april-2024/2027-07-22
LOCATION:Carterton Leisure Centre\, Broadshires Way\, Carterton\, OX18 1AA
ATTACH;FMTTYPE=image/jpeg:https://carterton-tc.gov.uk/wp-content/uploads/2024/04/20240404153853414_0001.jpg
END:VEVENT
BEGIN:VEVENT
DTSTART;TZID=Europe/London:20270729T150000
DTEND;TZID=Europe/London:20270729T160000
DTSTAMP:20260421T193523
CREATED:20240404T150944Z
LAST-MODIFIED:20240416T093600Z
UID:10000477-1816873200-1816876800@carterton-tc.gov.uk
SUMMARY:Table Tennis at Carterton Leisure Centre
DESCRIPTION:
URL:https://carterton-tc.gov.uk/event/table-tennis-restarts-18th-april-2024/2027-07-29
LOCATION:Carterton Leisure Centre\, Broadshires Way\, Carterton\, OX18 1AA
ATTACH;FMTTYPE=image/jpeg:https://carterton-tc.gov.uk/wp-content/uploads/2024/04/20240404153853414_0001.jpg
END:VEVENT
BEGIN:VEVENT
DTSTART;TZID=Europe/London:20270805T150000
DTEND;TZID=Europe/London:20270805T160000
DTSTAMP:20260421T193523
CREATED:20240404T150944Z
LAST-MODIFIED:20240416T093600Z
UID:10000478-1817478000-1817481600@carterton-tc.gov.uk
SUMMARY:Table Tennis at Carterton Leisure Centre
DESCRIPTION:
URL:https://carterton-tc.gov.uk/event/table-tennis-restarts-18th-april-2024/2027-08-05
LOCATION:Carterton Leisure Centre\, Broadshires Way\, Carterton\, OX18 1AA
ATTACH;FMTTYPE=image/jpeg:https://carterton-tc.gov.uk/wp-content/uploads/2024/04/20240404153853414_0001.jpg
END:VEVENT
BEGIN:VEVENT
DTSTART;TZID=Europe/London:20270812T150000
DTEND;TZID=Europe/London:20270812T160000
DTSTAMP:20260421T193523
CREATED:20240404T150944Z
LAST-MODIFIED:20240416T093600Z
UID:10000479-1818082800-1818086400@carterton-tc.gov.uk
SUMMARY:Table Tennis at Carterton Leisure Centre
DESCRIPTION:
URL:https://carterton-tc.gov.uk/event/table-tennis-restarts-18th-april-2024/2027-08-12
LOCATION:Carterton Leisure Centre\, Broadshires Way\, Carterton\, OX18 1AA
ATTACH;FMTTYPE=image/jpeg:https://carterton-tc.gov.uk/wp-content/uploads/2024/04/20240404153853414_0001.jpg
END:VEVENT
BEGIN:VEVENT
DTSTART;TZID=Europe/London:20270819T150000
DTEND;TZID=Europe/London:20270819T160000
DTSTAMP:20260421T193523
CREATED:20240404T150944Z
LAST-MODIFIED:20240416T093600Z
UID:10000480-1818687600-1818691200@carterton-tc.gov.uk
SUMMARY:Table Tennis at Carterton Leisure Centre
DESCRIPTION:
URL:https://carterton-tc.gov.uk/event/table-tennis-restarts-18th-april-2024/2027-08-19
LOCATION:Carterton Leisure Centre\, Broadshires Way\, Carterton\, OX18 1AA
ATTACH;FMTTYPE=image/jpeg:https://carterton-tc.gov.uk/wp-content/uploads/2024/04/20240404153853414_0001.jpg
END:VEVENT
BEGIN:VEVENT
DTSTART;TZID=Europe/London:20270826T150000
DTEND;TZID=Europe/London:20270826T160000
DTSTAMP:20260421T193523
CREATED:20240404T150944Z
LAST-MODIFIED:20240416T093600Z
UID:10000481-1819292400-1819296000@carterton-tc.gov.uk
SUMMARY:Table Tennis at Carterton Leisure Centre
DESCRIPTION:
URL:https://carterton-tc.gov.uk/event/table-tennis-restarts-18th-april-2024/2027-08-26
LOCATION:Carterton Leisure Centre\, Broadshires Way\, Carterton\, OX18 1AA
ATTACH;FMTTYPE=image/jpeg:https://carterton-tc.gov.uk/wp-content/uploads/2024/04/20240404153853414_0001.jpg
END:VEVENT
BEGIN:VEVENT
DTSTART;TZID=Europe/London:20270902T150000
DTEND;TZID=Europe/London:20270902T160000
DTSTAMP:20260421T193523
CREATED:20240404T150944Z
LAST-MODIFIED:20240416T093600Z
UID:10000482-1819897200-1819900800@carterton-tc.gov.uk
SUMMARY:Table Tennis at Carterton Leisure Centre
DESCRIPTION:
URL:https://carterton-tc.gov.uk/event/table-tennis-restarts-18th-april-2024/2027-09-02
LOCATION:Carterton Leisure Centre\, Broadshires Way\, Carterton\, OX18 1AA
ATTACH;FMTTYPE=image/jpeg:https://carterton-tc.gov.uk/wp-content/uploads/2024/04/20240404153853414_0001.jpg
END:VEVENT
BEGIN:VEVENT
DTSTART;TZID=Europe/London:20270909T150000
DTEND;TZID=Europe/London:20270909T160000
DTSTAMP:20260421T193523
CREATED:20240404T150944Z
LAST-MODIFIED:20240416T093600Z
UID:10000483-1820502000-1820505600@carterton-tc.gov.uk
SUMMARY:Table Tennis at Carterton Leisure Centre
DESCRIPTION:
URL:https://carterton-tc.gov.uk/event/table-tennis-restarts-18th-april-2024/2027-09-09
LOCATION:Carterton Leisure Centre\, Broadshires Way\, Carterton\, OX18 1AA
ATTACH;FMTTYPE=image/jpeg:https://carterton-tc.gov.uk/wp-content/uploads/2024/04/20240404153853414_0001.jpg
END:VEVENT
BEGIN:VEVENT
DTSTART;TZID=Europe/London:20270916T150000
DTEND;TZID=Europe/London:20270916T160000
DTSTAMP:20260421T193523
CREATED:20240404T150944Z
LAST-MODIFIED:20240416T093600Z
UID:10000484-1821106800-1821110400@carterton-tc.gov.uk
SUMMARY:Table Tennis at Carterton Leisure Centre
DESCRIPTION:
URL:https://carterton-tc.gov.uk/event/table-tennis-restarts-18th-april-2024/2027-09-16
LOCATION:Carterton Leisure Centre\, Broadshires Way\, Carterton\, OX18 1AA
ATTACH;FMTTYPE=image/jpeg:https://carterton-tc.gov.uk/wp-content/uploads/2024/04/20240404153853414_0001.jpg
END:VEVENT
BEGIN:VEVENT
DTSTART;TZID=Europe/London:20270923T150000
DTEND;TZID=Europe/London:20270923T160000
DTSTAMP:20260421T193523
CREATED:20240404T150944Z
LAST-MODIFIED:20240416T093600Z
UID:10000485-1821711600-1821715200@carterton-tc.gov.uk
SUMMARY:Table Tennis at Carterton Leisure Centre
DESCRIPTION:
URL:https://carterton-tc.gov.uk/event/table-tennis-restarts-18th-april-2024/2027-09-23
LOCATION:Carterton Leisure Centre\, Broadshires Way\, Carterton\, OX18 1AA
ATTACH;FMTTYPE=image/jpeg:https://carterton-tc.gov.uk/wp-content/uploads/2024/04/20240404153853414_0001.jpg
END:VEVENT
BEGIN:VEVENT
DTSTART;TZID=Europe/London:20270930T150000
DTEND;TZID=Europe/London:20270930T160000
DTSTAMP:20260421T193523
CREATED:20240404T150944Z
LAST-MODIFIED:20240416T093600Z
UID:10000486-1822316400-1822320000@carterton-tc.gov.uk
SUMMARY:Table Tennis at Carterton Leisure Centre
DESCRIPTION:
URL:https://carterton-tc.gov.uk/event/table-tennis-restarts-18th-april-2024/2027-09-30
LOCATION:Carterton Leisure Centre\, Broadshires Way\, Carterton\, OX18 1AA
ATTACH;FMTTYPE=image/jpeg:https://carterton-tc.gov.uk/wp-content/uploads/2024/04/20240404153853414_0001.jpg
END:VEVENT
BEGIN:VEVENT
DTSTART;TZID=Europe/London:20271007T150000
DTEND;TZID=Europe/London:20271007T160000
DTSTAMP:20260421T193523
CREATED:20240404T150944Z
LAST-MODIFIED:20240416T093600Z
UID:10000487-1822921200-1822924800@carterton-tc.gov.uk
SUMMARY:Table Tennis at Carterton Leisure Centre
DESCRIPTION:
URL:https://carterton-tc.gov.uk/event/table-tennis-restarts-18th-april-2024/2027-10-07
LOCATION:Carterton Leisure Centre\, Broadshires Way\, Carterton\, OX18 1AA
ATTACH;FMTTYPE=image/jpeg:https://carterton-tc.gov.uk/wp-content/uploads/2024/04/20240404153853414_0001.jpg
END:VEVENT
BEGIN:VEVENT
DTSTART;TZID=Europe/London:20271014T150000
DTEND;TZID=Europe/London:20271014T160000
DTSTAMP:20260421T193523
CREATED:20240404T150944Z
LAST-MODIFIED:20240416T093600Z
UID:10000488-1823526000-1823529600@carterton-tc.gov.uk
SUMMARY:Table Tennis at Carterton Leisure Centre
DESCRIPTION:
URL:https://carterton-tc.gov.uk/event/table-tennis-restarts-18th-april-2024/2027-10-14
LOCATION:Carterton Leisure Centre\, Broadshires Way\, Carterton\, OX18 1AA
ATTACH;FMTTYPE=image/jpeg:https://carterton-tc.gov.uk/wp-content/uploads/2024/04/20240404153853414_0001.jpg
END:VEVENT
END:VCALENDAR