BEGIN:VCALENDAR
VERSION:2.0
PRODID:-//Carterton Town Council - ECPv6.15.18//NONSGML v1.0//EN
CALSCALE:GREGORIAN
METHOD:PUBLISH
X-ORIGINAL-URL:https://carterton-tc.gov.uk
X-WR-CALDESC:Events for Carterton Town Council
REFRESH-INTERVAL;VALUE=DURATION:PT1H
X-Robots-Tag:noindex
X-PUBLISHED-TTL:PT1H
BEGIN:VTIMEZONE
TZID:Europe/London
BEGIN:DAYLIGHT
TZOFFSETFROM:+0000
TZOFFSETTO:+0100
TZNAME:BST
DTSTART:20270328T010000
END:DAYLIGHT
BEGIN:STANDARD
TZOFFSETFROM:+0100
TZOFFSETTO:+0000
TZNAME:GMT
DTSTART:20271031T010000
END:STANDARD
BEGIN:DAYLIGHT
TZOFFSETFROM:+0000
TZOFFSETTO:+0100
TZNAME:BST
DTSTART:20280326T010000
END:DAYLIGHT
BEGIN:STANDARD
TZOFFSETFROM:+0100
TZOFFSETTO:+0000
TZNAME:GMT
DTSTART:20281029T010000
END:STANDARD
BEGIN:DAYLIGHT
TZOFFSETFROM:+0000
TZOFFSETTO:+0100
TZNAME:BST
DTSTART:20290325T010000
END:DAYLIGHT
BEGIN:STANDARD
TZOFFSETFROM:+0100
TZOFFSETTO:+0000
TZNAME:GMT
DTSTART:20291028T010000
END:STANDARD
END:VTIMEZONE
BEGIN:VEVENT
DTSTART;TZID=Europe/London:20280224T103000
DTEND;TZID=Europe/London:20280224T123000
DTSTAMP:20260422T055427
CREATED:20250709T130211Z
LAST-MODIFIED:20250709T130211Z
UID:10001737-1835001000-1835008200@carterton-tc.gov.uk
SUMMARY:Free Coffee Morning
DESCRIPTION:Carterton Community Centre
URL:https://carterton-tc.gov.uk/event/free-coffee-morning/2028-02-24
LOCATION:Carterton Community Centre\, Marigold Square\, Carterton\, OX18 1AX
ATTACH;FMTTYPE=image/png:https://carterton-tc.gov.uk/wp-content/uploads/2023/09/carterton-council-fi.png
END:VEVENT
BEGIN:VEVENT
DTSTART;TZID=Europe/London:20280302T103000
DTEND;TZID=Europe/London:20280302T123000
DTSTAMP:20260422T055427
CREATED:20250709T130211Z
LAST-MODIFIED:20250709T130211Z
UID:10001738-1835605800-1835613000@carterton-tc.gov.uk
SUMMARY:Free Coffee Morning
DESCRIPTION:Carterton Community Centre
URL:https://carterton-tc.gov.uk/event/free-coffee-morning/2028-03-02
LOCATION:Carterton Community Centre\, Marigold Square\, Carterton\, OX18 1AX
ATTACH;FMTTYPE=image/png:https://carterton-tc.gov.uk/wp-content/uploads/2023/09/carterton-council-fi.png
END:VEVENT
BEGIN:VEVENT
DTSTART;TZID=Europe/London:20280309T103000
DTEND;TZID=Europe/London:20280309T123000
DTSTAMP:20260422T055427
CREATED:20250709T130211Z
LAST-MODIFIED:20250709T130211Z
UID:10001739-1836210600-1836217800@carterton-tc.gov.uk
SUMMARY:Free Coffee Morning
DESCRIPTION:Carterton Community Centre
URL:https://carterton-tc.gov.uk/event/free-coffee-morning/2028-03-09
LOCATION:Carterton Community Centre\, Marigold Square\, Carterton\, OX18 1AX
ATTACH;FMTTYPE=image/png:https://carterton-tc.gov.uk/wp-content/uploads/2023/09/carterton-council-fi.png
END:VEVENT
BEGIN:VEVENT
DTSTART;TZID=Europe/London:20280316T103000
DTEND;TZID=Europe/London:20280316T123000
DTSTAMP:20260422T055427
CREATED:20250709T130211Z
LAST-MODIFIED:20250709T130211Z
UID:10001740-1836815400-1836822600@carterton-tc.gov.uk
SUMMARY:Free Coffee Morning
DESCRIPTION:Carterton Community Centre
URL:https://carterton-tc.gov.uk/event/free-coffee-morning/2028-03-16
LOCATION:Carterton Community Centre\, Marigold Square\, Carterton\, OX18 1AX
ATTACH;FMTTYPE=image/png:https://carterton-tc.gov.uk/wp-content/uploads/2023/09/carterton-council-fi.png
END:VEVENT
BEGIN:VEVENT
DTSTART;TZID=Europe/London:20280323T103000
DTEND;TZID=Europe/London:20280323T123000
DTSTAMP:20260422T055427
CREATED:20250709T130211Z
LAST-MODIFIED:20250709T130211Z
UID:10001741-1837420200-1837427400@carterton-tc.gov.uk
SUMMARY:Free Coffee Morning
DESCRIPTION:Carterton Community Centre
URL:https://carterton-tc.gov.uk/event/free-coffee-morning/2028-03-23
LOCATION:Carterton Community Centre\, Marigold Square\, Carterton\, OX18 1AX
ATTACH;FMTTYPE=image/png:https://carterton-tc.gov.uk/wp-content/uploads/2023/09/carterton-council-fi.png
END:VEVENT
BEGIN:VEVENT
DTSTART;TZID=Europe/London:20280330T103000
DTEND;TZID=Europe/London:20280330T123000
DTSTAMP:20260422T055427
CREATED:20250709T130211Z
LAST-MODIFIED:20250709T130211Z
UID:10001742-1838025000-1838032200@carterton-tc.gov.uk
SUMMARY:Free Coffee Morning
DESCRIPTION:Carterton Community Centre
URL:https://carterton-tc.gov.uk/event/free-coffee-morning/2028-03-30
LOCATION:Carterton Community Centre\, Marigold Square\, Carterton\, OX18 1AX
ATTACH;FMTTYPE=image/png:https://carterton-tc.gov.uk/wp-content/uploads/2023/09/carterton-council-fi.png
END:VEVENT
BEGIN:VEVENT
DTSTART;TZID=Europe/London:20280406T103000
DTEND;TZID=Europe/London:20280406T123000
DTSTAMP:20260422T055427
CREATED:20250709T130211Z
LAST-MODIFIED:20250709T130211Z
UID:10001743-1838629800-1838637000@carterton-tc.gov.uk
SUMMARY:Free Coffee Morning
DESCRIPTION:Carterton Community Centre
URL:https://carterton-tc.gov.uk/event/free-coffee-morning/2028-04-06
LOCATION:Carterton Community Centre\, Marigold Square\, Carterton\, OX18 1AX
ATTACH;FMTTYPE=image/png:https://carterton-tc.gov.uk/wp-content/uploads/2023/09/carterton-council-fi.png
END:VEVENT
BEGIN:VEVENT
DTSTART;TZID=Europe/London:20280413T103000
DTEND;TZID=Europe/London:20280413T123000
DTSTAMP:20260422T055427
CREATED:20250709T130211Z
LAST-MODIFIED:20250709T130211Z
UID:10001744-1839234600-1839241800@carterton-tc.gov.uk
SUMMARY:Free Coffee Morning
DESCRIPTION:Carterton Community Centre
URL:https://carterton-tc.gov.uk/event/free-coffee-morning/2028-04-13
LOCATION:Carterton Community Centre\, Marigold Square\, Carterton\, OX18 1AX
ATTACH;FMTTYPE=image/png:https://carterton-tc.gov.uk/wp-content/uploads/2023/09/carterton-council-fi.png
END:VEVENT
BEGIN:VEVENT
DTSTART;TZID=Europe/London:20280420T103000
DTEND;TZID=Europe/London:20280420T123000
DTSTAMP:20260422T055427
CREATED:20250709T130211Z
LAST-MODIFIED:20250709T130211Z
UID:10001745-1839839400-1839846600@carterton-tc.gov.uk
SUMMARY:Free Coffee Morning
DESCRIPTION:Carterton Community Centre
URL:https://carterton-tc.gov.uk/event/free-coffee-morning/2028-04-20
LOCATION:Carterton Community Centre\, Marigold Square\, Carterton\, OX18 1AX
ATTACH;FMTTYPE=image/png:https://carterton-tc.gov.uk/wp-content/uploads/2023/09/carterton-council-fi.png
END:VEVENT
BEGIN:VEVENT
DTSTART;TZID=Europe/London:20280427T103000
DTEND;TZID=Europe/London:20280427T123000
DTSTAMP:20260422T055427
CREATED:20250709T130211Z
LAST-MODIFIED:20250709T130211Z
UID:10001746-1840444200-1840451400@carterton-tc.gov.uk
SUMMARY:Free Coffee Morning
DESCRIPTION:Carterton Community Centre
URL:https://carterton-tc.gov.uk/event/free-coffee-morning/2028-04-27
LOCATION:Carterton Community Centre\, Marigold Square\, Carterton\, OX18 1AX
ATTACH;FMTTYPE=image/png:https://carterton-tc.gov.uk/wp-content/uploads/2023/09/carterton-council-fi.png
END:VEVENT
BEGIN:VEVENT
DTSTART;TZID=Europe/London:20280504T103000
DTEND;TZID=Europe/London:20280504T123000
DTSTAMP:20260422T055427
CREATED:20250709T130211Z
LAST-MODIFIED:20250709T130211Z
UID:10001747-1841049000-1841056200@carterton-tc.gov.uk
SUMMARY:Free Coffee Morning
DESCRIPTION:Carterton Community Centre
URL:https://carterton-tc.gov.uk/event/free-coffee-morning/2028-05-04
LOCATION:Carterton Community Centre\, Marigold Square\, Carterton\, OX18 1AX
ATTACH;FMTTYPE=image/png:https://carterton-tc.gov.uk/wp-content/uploads/2023/09/carterton-council-fi.png
END:VEVENT
BEGIN:VEVENT
DTSTART;TZID=Europe/London:20280511T103000
DTEND;TZID=Europe/London:20280511T123000
DTSTAMP:20260422T055427
CREATED:20250709T130211Z
LAST-MODIFIED:20250709T130211Z
UID:10001748-1841653800-1841661000@carterton-tc.gov.uk
SUMMARY:Free Coffee Morning
DESCRIPTION:Carterton Community Centre
URL:https://carterton-tc.gov.uk/event/free-coffee-morning/2028-05-11
LOCATION:Carterton Community Centre\, Marigold Square\, Carterton\, OX18 1AX
ATTACH;FMTTYPE=image/png:https://carterton-tc.gov.uk/wp-content/uploads/2023/09/carterton-council-fi.png
END:VEVENT
BEGIN:VEVENT
DTSTART;TZID=Europe/London:20280518T103000
DTEND;TZID=Europe/London:20280518T123000
DTSTAMP:20260422T055427
CREATED:20250709T130211Z
LAST-MODIFIED:20250709T130211Z
UID:10001749-1842258600-1842265800@carterton-tc.gov.uk
SUMMARY:Free Coffee Morning
DESCRIPTION:Carterton Community Centre
URL:https://carterton-tc.gov.uk/event/free-coffee-morning/2028-05-18
LOCATION:Carterton Community Centre\, Marigold Square\, Carterton\, OX18 1AX
ATTACH;FMTTYPE=image/png:https://carterton-tc.gov.uk/wp-content/uploads/2023/09/carterton-council-fi.png
END:VEVENT
BEGIN:VEVENT
DTSTART;TZID=Europe/London:20280525T103000
DTEND;TZID=Europe/London:20280525T123000
DTSTAMP:20260422T055427
CREATED:20250709T130211Z
LAST-MODIFIED:20250709T130211Z
UID:10001750-1842863400-1842870600@carterton-tc.gov.uk
SUMMARY:Free Coffee Morning
DESCRIPTION:Carterton Community Centre
URL:https://carterton-tc.gov.uk/event/free-coffee-morning/2028-05-25
LOCATION:Carterton Community Centre\, Marigold Square\, Carterton\, OX18 1AX
ATTACH;FMTTYPE=image/png:https://carterton-tc.gov.uk/wp-content/uploads/2023/09/carterton-council-fi.png
END:VEVENT
BEGIN:VEVENT
DTSTART;TZID=Europe/London:20280601T103000
DTEND;TZID=Europe/London:20280601T123000
DTSTAMP:20260422T055427
CREATED:20250709T130211Z
LAST-MODIFIED:20250709T130211Z
UID:10001751-1843468200-1843475400@carterton-tc.gov.uk
SUMMARY:Free Coffee Morning
DESCRIPTION:Carterton Community Centre
URL:https://carterton-tc.gov.uk/event/free-coffee-morning/2028-06-01
LOCATION:Carterton Community Centre\, Marigold Square\, Carterton\, OX18 1AX
ATTACH;FMTTYPE=image/png:https://carterton-tc.gov.uk/wp-content/uploads/2023/09/carterton-council-fi.png
END:VEVENT
BEGIN:VEVENT
DTSTART;TZID=Europe/London:20280608T103000
DTEND;TZID=Europe/London:20280608T123000
DTSTAMP:20260422T055427
CREATED:20250709T130211Z
LAST-MODIFIED:20250709T130211Z
UID:10001752-1844073000-1844080200@carterton-tc.gov.uk
SUMMARY:Free Coffee Morning
DESCRIPTION:Carterton Community Centre
URL:https://carterton-tc.gov.uk/event/free-coffee-morning/2028-06-08
LOCATION:Carterton Community Centre\, Marigold Square\, Carterton\, OX18 1AX
ATTACH;FMTTYPE=image/png:https://carterton-tc.gov.uk/wp-content/uploads/2023/09/carterton-council-fi.png
END:VEVENT
BEGIN:VEVENT
DTSTART;TZID=Europe/London:20280615T103000
DTEND;TZID=Europe/London:20280615T123000
DTSTAMP:20260422T055427
CREATED:20250709T130211Z
LAST-MODIFIED:20250709T130211Z
UID:10001753-1844677800-1844685000@carterton-tc.gov.uk
SUMMARY:Free Coffee Morning
DESCRIPTION:Carterton Community Centre
URL:https://carterton-tc.gov.uk/event/free-coffee-morning/2028-06-15
LOCATION:Carterton Community Centre\, Marigold Square\, Carterton\, OX18 1AX
ATTACH;FMTTYPE=image/png:https://carterton-tc.gov.uk/wp-content/uploads/2023/09/carterton-council-fi.png
END:VEVENT
BEGIN:VEVENT
DTSTART;TZID=Europe/London:20280622T103000
DTEND;TZID=Europe/London:20280622T123000
DTSTAMP:20260422T055427
CREATED:20250709T130211Z
LAST-MODIFIED:20250709T130211Z
UID:10001754-1845282600-1845289800@carterton-tc.gov.uk
SUMMARY:Free Coffee Morning
DESCRIPTION:Carterton Community Centre
URL:https://carterton-tc.gov.uk/event/free-coffee-morning/2028-06-22
LOCATION:Carterton Community Centre\, Marigold Square\, Carterton\, OX18 1AX
ATTACH;FMTTYPE=image/png:https://carterton-tc.gov.uk/wp-content/uploads/2023/09/carterton-council-fi.png
END:VEVENT
BEGIN:VEVENT
DTSTART;TZID=Europe/London:20280629T103000
DTEND;TZID=Europe/London:20280629T123000
DTSTAMP:20260422T055427
CREATED:20250709T130211Z
LAST-MODIFIED:20250709T130211Z
UID:10001755-1845887400-1845894600@carterton-tc.gov.uk
SUMMARY:Free Coffee Morning
DESCRIPTION:Carterton Community Centre
URL:https://carterton-tc.gov.uk/event/free-coffee-morning/2028-06-29
LOCATION:Carterton Community Centre\, Marigold Square\, Carterton\, OX18 1AX
ATTACH;FMTTYPE=image/png:https://carterton-tc.gov.uk/wp-content/uploads/2023/09/carterton-council-fi.png
END:VEVENT
BEGIN:VEVENT
DTSTART;TZID=Europe/London:20280706T103000
DTEND;TZID=Europe/London:20280706T123000
DTSTAMP:20260422T055427
CREATED:20250709T130211Z
LAST-MODIFIED:20250709T130211Z
UID:10001756-1846492200-1846499400@carterton-tc.gov.uk
SUMMARY:Free Coffee Morning
DESCRIPTION:Carterton Community Centre
URL:https://carterton-tc.gov.uk/event/free-coffee-morning/2028-07-06
LOCATION:Carterton Community Centre\, Marigold Square\, Carterton\, OX18 1AX
ATTACH;FMTTYPE=image/png:https://carterton-tc.gov.uk/wp-content/uploads/2023/09/carterton-council-fi.png
END:VEVENT
BEGIN:VEVENT
DTSTART;TZID=Europe/London:20280713T103000
DTEND;TZID=Europe/London:20280713T123000
DTSTAMP:20260422T055427
CREATED:20250709T130211Z
LAST-MODIFIED:20250709T130211Z
UID:10001757-1847097000-1847104200@carterton-tc.gov.uk
SUMMARY:Free Coffee Morning
DESCRIPTION:Carterton Community Centre
URL:https://carterton-tc.gov.uk/event/free-coffee-morning/2028-07-13
LOCATION:Carterton Community Centre\, Marigold Square\, Carterton\, OX18 1AX
ATTACH;FMTTYPE=image/png:https://carterton-tc.gov.uk/wp-content/uploads/2023/09/carterton-council-fi.png
END:VEVENT
BEGIN:VEVENT
DTSTART;TZID=Europe/London:20280720T103000
DTEND;TZID=Europe/London:20280720T123000
DTSTAMP:20260422T055427
CREATED:20250709T130211Z
LAST-MODIFIED:20250709T130211Z
UID:10001758-1847701800-1847709000@carterton-tc.gov.uk
SUMMARY:Free Coffee Morning
DESCRIPTION:Carterton Community Centre
URL:https://carterton-tc.gov.uk/event/free-coffee-morning/2028-07-20
LOCATION:Carterton Community Centre\, Marigold Square\, Carterton\, OX18 1AX
ATTACH;FMTTYPE=image/png:https://carterton-tc.gov.uk/wp-content/uploads/2023/09/carterton-council-fi.png
END:VEVENT
BEGIN:VEVENT
DTSTART;TZID=Europe/London:20280727T103000
DTEND;TZID=Europe/London:20280727T123000
DTSTAMP:20260422T055427
CREATED:20250709T130211Z
LAST-MODIFIED:20250709T130211Z
UID:10001759-1848306600-1848313800@carterton-tc.gov.uk
SUMMARY:Free Coffee Morning
DESCRIPTION:Carterton Community Centre
URL:https://carterton-tc.gov.uk/event/free-coffee-morning/2028-07-27
LOCATION:Carterton Community Centre\, Marigold Square\, Carterton\, OX18 1AX
ATTACH;FMTTYPE=image/png:https://carterton-tc.gov.uk/wp-content/uploads/2023/09/carterton-council-fi.png
END:VEVENT
BEGIN:VEVENT
DTSTART;TZID=Europe/London:20280803T103000
DTEND;TZID=Europe/London:20280803T123000
DTSTAMP:20260422T055427
CREATED:20250709T130211Z
LAST-MODIFIED:20250709T130211Z
UID:10001760-1848911400-1848918600@carterton-tc.gov.uk
SUMMARY:Free Coffee Morning
DESCRIPTION:Carterton Community Centre
URL:https://carterton-tc.gov.uk/event/free-coffee-morning/2028-08-03
LOCATION:Carterton Community Centre\, Marigold Square\, Carterton\, OX18 1AX
ATTACH;FMTTYPE=image/png:https://carterton-tc.gov.uk/wp-content/uploads/2023/09/carterton-council-fi.png
END:VEVENT
BEGIN:VEVENT
DTSTART;TZID=Europe/London:20280810T103000
DTEND;TZID=Europe/London:20280810T123000
DTSTAMP:20260422T055427
CREATED:20250709T130211Z
LAST-MODIFIED:20250709T130211Z
UID:10001761-1849516200-1849523400@carterton-tc.gov.uk
SUMMARY:Free Coffee Morning
DESCRIPTION:Carterton Community Centre
URL:https://carterton-tc.gov.uk/event/free-coffee-morning/2028-08-10
LOCATION:Carterton Community Centre\, Marigold Square\, Carterton\, OX18 1AX
ATTACH;FMTTYPE=image/png:https://carterton-tc.gov.uk/wp-content/uploads/2023/09/carterton-council-fi.png
END:VEVENT
BEGIN:VEVENT
DTSTART;TZID=Europe/London:20280817T103000
DTEND;TZID=Europe/London:20280817T123000
DTSTAMP:20260422T055427
CREATED:20250709T130211Z
LAST-MODIFIED:20250709T130211Z
UID:10001762-1850121000-1850128200@carterton-tc.gov.uk
SUMMARY:Free Coffee Morning
DESCRIPTION:Carterton Community Centre
URL:https://carterton-tc.gov.uk/event/free-coffee-morning/2028-08-17
LOCATION:Carterton Community Centre\, Marigold Square\, Carterton\, OX18 1AX
ATTACH;FMTTYPE=image/png:https://carterton-tc.gov.uk/wp-content/uploads/2023/09/carterton-council-fi.png
END:VEVENT
BEGIN:VEVENT
DTSTART;TZID=Europe/London:20280824T103000
DTEND;TZID=Europe/London:20280824T123000
DTSTAMP:20260422T055427
CREATED:20250709T130211Z
LAST-MODIFIED:20250709T130211Z
UID:10001763-1850725800-1850733000@carterton-tc.gov.uk
SUMMARY:Free Coffee Morning
DESCRIPTION:Carterton Community Centre
URL:https://carterton-tc.gov.uk/event/free-coffee-morning/2028-08-24
LOCATION:Carterton Community Centre\, Marigold Square\, Carterton\, OX18 1AX
ATTACH;FMTTYPE=image/png:https://carterton-tc.gov.uk/wp-content/uploads/2023/09/carterton-council-fi.png
END:VEVENT
BEGIN:VEVENT
DTSTART;TZID=Europe/London:20280831T103000
DTEND;TZID=Europe/London:20280831T123000
DTSTAMP:20260422T055427
CREATED:20250709T130211Z
LAST-MODIFIED:20250709T130211Z
UID:10001764-1851330600-1851337800@carterton-tc.gov.uk
SUMMARY:Free Coffee Morning
DESCRIPTION:Carterton Community Centre
URL:https://carterton-tc.gov.uk/event/free-coffee-morning/2028-08-31
LOCATION:Carterton Community Centre\, Marigold Square\, Carterton\, OX18 1AX
ATTACH;FMTTYPE=image/png:https://carterton-tc.gov.uk/wp-content/uploads/2023/09/carterton-council-fi.png
END:VEVENT
BEGIN:VEVENT
DTSTART;TZID=Europe/London:20280907T103000
DTEND;TZID=Europe/London:20280907T123000
DTSTAMP:20260422T055427
CREATED:20250709T130211Z
LAST-MODIFIED:20250709T130211Z
UID:10001765-1851935400-1851942600@carterton-tc.gov.uk
SUMMARY:Free Coffee Morning
DESCRIPTION:Carterton Community Centre
URL:https://carterton-tc.gov.uk/event/free-coffee-morning/2028-09-07
LOCATION:Carterton Community Centre\, Marigold Square\, Carterton\, OX18 1AX
ATTACH;FMTTYPE=image/png:https://carterton-tc.gov.uk/wp-content/uploads/2023/09/carterton-council-fi.png
END:VEVENT
BEGIN:VEVENT
DTSTART;TZID=Europe/London:20280914T103000
DTEND;TZID=Europe/London:20280914T123000
DTSTAMP:20260422T055427
CREATED:20250709T130211Z
LAST-MODIFIED:20250709T130211Z
UID:10001766-1852540200-1852547400@carterton-tc.gov.uk
SUMMARY:Free Coffee Morning
DESCRIPTION:Carterton Community Centre
URL:https://carterton-tc.gov.uk/event/free-coffee-morning/2028-09-14
LOCATION:Carterton Community Centre\, Marigold Square\, Carterton\, OX18 1AX
ATTACH;FMTTYPE=image/png:https://carterton-tc.gov.uk/wp-content/uploads/2023/09/carterton-council-fi.png
END:VEVENT
END:VCALENDAR