BEGIN:VCALENDAR
VERSION:2.0
PRODID:-//Carterton Town Council - ECPv6.15.18//NONSGML v1.0//EN
CALSCALE:GREGORIAN
METHOD:PUBLISH
X-WR-CALNAME:Carterton Town Council
X-ORIGINAL-URL:https://carterton-tc.gov.uk
X-WR-CALDESC:Events for Carterton Town Council
REFRESH-INTERVAL;VALUE=DURATION:PT1H
X-Robots-Tag:noindex
X-PUBLISHED-TTL:PT1H
BEGIN:VTIMEZONE
TZID:Europe/London
BEGIN:DAYLIGHT
TZOFFSETFROM:+0000
TZOFFSETTO:+0100
TZNAME:BST
DTSTART:20250330T010000
END:DAYLIGHT
BEGIN:STANDARD
TZOFFSETFROM:+0100
TZOFFSETTO:+0000
TZNAME:GMT
DTSTART:20251026T010000
END:STANDARD
BEGIN:DAYLIGHT
TZOFFSETFROM:+0000
TZOFFSETTO:+0100
TZNAME:BST
DTSTART:20260329T010000
END:DAYLIGHT
BEGIN:STANDARD
TZOFFSETFROM:+0100
TZOFFSETTO:+0000
TZNAME:GMT
DTSTART:20261025T010000
END:STANDARD
BEGIN:DAYLIGHT
TZOFFSETFROM:+0000
TZOFFSETTO:+0100
TZNAME:BST
DTSTART:20270328T010000
END:DAYLIGHT
BEGIN:STANDARD
TZOFFSETFROM:+0100
TZOFFSETTO:+0000
TZNAME:GMT
DTSTART:20271031T010000
END:STANDARD
BEGIN:DAYLIGHT
TZOFFSETFROM:+0000
TZOFFSETTO:+0100
TZNAME:BST
DTSTART:20280326T010000
END:DAYLIGHT
BEGIN:STANDARD
TZOFFSETFROM:+0100
TZOFFSETTO:+0000
TZNAME:GMT
DTSTART:20281029T010000
END:STANDARD
END:VTIMEZONE
BEGIN:VEVENT
DTSTART;TZID=Europe/London:20261231T103000
DTEND;TZID=Europe/London:20261231T123000
DTSTAMP:20260421T215038
CREATED:20250709T130211Z
LAST-MODIFIED:20250709T130211Z
UID:10001677-1798713000-1798720200@carterton-tc.gov.uk
SUMMARY:Free Coffee Morning
DESCRIPTION:Carterton Community Centre
URL:https://carterton-tc.gov.uk/event/free-coffee-morning/2026-12-31
LOCATION:Carterton Community Centre\, Marigold Square\, Carterton\, OX18 1AX
ATTACH;FMTTYPE=image/png:https://carterton-tc.gov.uk/wp-content/uploads/2023/09/carterton-council-fi.png
END:VEVENT
BEGIN:VEVENT
DTSTART;TZID=Europe/London:20270107T103000
DTEND;TZID=Europe/London:20270107T123000
DTSTAMP:20260421T215038
CREATED:20250709T130211Z
LAST-MODIFIED:20250709T130211Z
UID:10001678-1799317800-1799325000@carterton-tc.gov.uk
SUMMARY:Free Coffee Morning
DESCRIPTION:Carterton Community Centre
URL:https://carterton-tc.gov.uk/event/free-coffee-morning/2027-01-07
LOCATION:Carterton Community Centre\, Marigold Square\, Carterton\, OX18 1AX
ATTACH;FMTTYPE=image/png:https://carterton-tc.gov.uk/wp-content/uploads/2023/09/carterton-council-fi.png
END:VEVENT
BEGIN:VEVENT
DTSTART;TZID=Europe/London:20270114T103000
DTEND;TZID=Europe/London:20270114T123000
DTSTAMP:20260421T215038
CREATED:20250709T130211Z
LAST-MODIFIED:20250709T130211Z
UID:10001679-1799922600-1799929800@carterton-tc.gov.uk
SUMMARY:Free Coffee Morning
DESCRIPTION:Carterton Community Centre
URL:https://carterton-tc.gov.uk/event/free-coffee-morning/2027-01-14
LOCATION:Carterton Community Centre\, Marigold Square\, Carterton\, OX18 1AX
ATTACH;FMTTYPE=image/png:https://carterton-tc.gov.uk/wp-content/uploads/2023/09/carterton-council-fi.png
END:VEVENT
BEGIN:VEVENT
DTSTART;TZID=Europe/London:20270121T103000
DTEND;TZID=Europe/London:20270121T123000
DTSTAMP:20260421T215038
CREATED:20250709T130211Z
LAST-MODIFIED:20250709T130211Z
UID:10001680-1800527400-1800534600@carterton-tc.gov.uk
SUMMARY:Free Coffee Morning
DESCRIPTION:Carterton Community Centre
URL:https://carterton-tc.gov.uk/event/free-coffee-morning/2027-01-21
LOCATION:Carterton Community Centre\, Marigold Square\, Carterton\, OX18 1AX
ATTACH;FMTTYPE=image/png:https://carterton-tc.gov.uk/wp-content/uploads/2023/09/carterton-council-fi.png
END:VEVENT
BEGIN:VEVENT
DTSTART;TZID=Europe/London:20270128T103000
DTEND;TZID=Europe/London:20270128T123000
DTSTAMP:20260421T215038
CREATED:20250709T130211Z
LAST-MODIFIED:20250709T130211Z
UID:10001681-1801132200-1801139400@carterton-tc.gov.uk
SUMMARY:Free Coffee Morning
DESCRIPTION:Carterton Community Centre
URL:https://carterton-tc.gov.uk/event/free-coffee-morning/2027-01-28
LOCATION:Carterton Community Centre\, Marigold Square\, Carterton\, OX18 1AX
ATTACH;FMTTYPE=image/png:https://carterton-tc.gov.uk/wp-content/uploads/2023/09/carterton-council-fi.png
END:VEVENT
BEGIN:VEVENT
DTSTART;TZID=Europe/London:20270204T103000
DTEND;TZID=Europe/London:20270204T123000
DTSTAMP:20260421T215038
CREATED:20250709T130211Z
LAST-MODIFIED:20250709T130211Z
UID:10001682-1801737000-1801744200@carterton-tc.gov.uk
SUMMARY:Free Coffee Morning
DESCRIPTION:Carterton Community Centre
URL:https://carterton-tc.gov.uk/event/free-coffee-morning/2027-02-04
LOCATION:Carterton Community Centre\, Marigold Square\, Carterton\, OX18 1AX
ATTACH;FMTTYPE=image/png:https://carterton-tc.gov.uk/wp-content/uploads/2023/09/carterton-council-fi.png
END:VEVENT
BEGIN:VEVENT
DTSTART;TZID=Europe/London:20270211T103000
DTEND;TZID=Europe/London:20270211T123000
DTSTAMP:20260421T215038
CREATED:20250709T130211Z
LAST-MODIFIED:20250709T130211Z
UID:10001683-1802341800-1802349000@carterton-tc.gov.uk
SUMMARY:Free Coffee Morning
DESCRIPTION:Carterton Community Centre
URL:https://carterton-tc.gov.uk/event/free-coffee-morning/2027-02-11
LOCATION:Carterton Community Centre\, Marigold Square\, Carterton\, OX18 1AX
ATTACH;FMTTYPE=image/png:https://carterton-tc.gov.uk/wp-content/uploads/2023/09/carterton-council-fi.png
END:VEVENT
BEGIN:VEVENT
DTSTART;TZID=Europe/London:20270218T103000
DTEND;TZID=Europe/London:20270218T123000
DTSTAMP:20260421T215038
CREATED:20250709T130211Z
LAST-MODIFIED:20250709T130211Z
UID:10001684-1802946600-1802953800@carterton-tc.gov.uk
SUMMARY:Free Coffee Morning
DESCRIPTION:Carterton Community Centre
URL:https://carterton-tc.gov.uk/event/free-coffee-morning/2027-02-18
LOCATION:Carterton Community Centre\, Marigold Square\, Carterton\, OX18 1AX
ATTACH;FMTTYPE=image/png:https://carterton-tc.gov.uk/wp-content/uploads/2023/09/carterton-council-fi.png
END:VEVENT
BEGIN:VEVENT
DTSTART;TZID=Europe/London:20270225T103000
DTEND;TZID=Europe/London:20270225T123000
DTSTAMP:20260421T215038
CREATED:20250709T130211Z
LAST-MODIFIED:20250709T130211Z
UID:10001685-1803551400-1803558600@carterton-tc.gov.uk
SUMMARY:Free Coffee Morning
DESCRIPTION:Carterton Community Centre
URL:https://carterton-tc.gov.uk/event/free-coffee-morning/2027-02-25
LOCATION:Carterton Community Centre\, Marigold Square\, Carterton\, OX18 1AX
ATTACH;FMTTYPE=image/png:https://carterton-tc.gov.uk/wp-content/uploads/2023/09/carterton-council-fi.png
END:VEVENT
BEGIN:VEVENT
DTSTART;TZID=Europe/London:20270304T103000
DTEND;TZID=Europe/London:20270304T123000
DTSTAMP:20260421T215038
CREATED:20250709T130211Z
LAST-MODIFIED:20250709T130211Z
UID:10001686-1804156200-1804163400@carterton-tc.gov.uk
SUMMARY:Free Coffee Morning
DESCRIPTION:Carterton Community Centre
URL:https://carterton-tc.gov.uk/event/free-coffee-morning/2027-03-04
LOCATION:Carterton Community Centre\, Marigold Square\, Carterton\, OX18 1AX
ATTACH;FMTTYPE=image/png:https://carterton-tc.gov.uk/wp-content/uploads/2023/09/carterton-council-fi.png
END:VEVENT
BEGIN:VEVENT
DTSTART;TZID=Europe/London:20270311T103000
DTEND;TZID=Europe/London:20270311T123000
DTSTAMP:20260421T215038
CREATED:20250709T130211Z
LAST-MODIFIED:20250709T130211Z
UID:10001687-1804761000-1804768200@carterton-tc.gov.uk
SUMMARY:Free Coffee Morning
DESCRIPTION:Carterton Community Centre
URL:https://carterton-tc.gov.uk/event/free-coffee-morning/2027-03-11
LOCATION:Carterton Community Centre\, Marigold Square\, Carterton\, OX18 1AX
ATTACH;FMTTYPE=image/png:https://carterton-tc.gov.uk/wp-content/uploads/2023/09/carterton-council-fi.png
END:VEVENT
BEGIN:VEVENT
DTSTART;TZID=Europe/London:20270318T103000
DTEND;TZID=Europe/London:20270318T123000
DTSTAMP:20260421T215038
CREATED:20250709T130211Z
LAST-MODIFIED:20250709T130211Z
UID:10001688-1805365800-1805373000@carterton-tc.gov.uk
SUMMARY:Free Coffee Morning
DESCRIPTION:Carterton Community Centre
URL:https://carterton-tc.gov.uk/event/free-coffee-morning/2027-03-18
LOCATION:Carterton Community Centre\, Marigold Square\, Carterton\, OX18 1AX
ATTACH;FMTTYPE=image/png:https://carterton-tc.gov.uk/wp-content/uploads/2023/09/carterton-council-fi.png
END:VEVENT
BEGIN:VEVENT
DTSTART;TZID=Europe/London:20270325T103000
DTEND;TZID=Europe/London:20270325T123000
DTSTAMP:20260421T215038
CREATED:20250709T130211Z
LAST-MODIFIED:20250709T130211Z
UID:10001689-1805970600-1805977800@carterton-tc.gov.uk
SUMMARY:Free Coffee Morning
DESCRIPTION:Carterton Community Centre
URL:https://carterton-tc.gov.uk/event/free-coffee-morning/2027-03-25
LOCATION:Carterton Community Centre\, Marigold Square\, Carterton\, OX18 1AX
ATTACH;FMTTYPE=image/png:https://carterton-tc.gov.uk/wp-content/uploads/2023/09/carterton-council-fi.png
END:VEVENT
BEGIN:VEVENT
DTSTART;TZID=Europe/London:20270401T103000
DTEND;TZID=Europe/London:20270401T123000
DTSTAMP:20260421T215038
CREATED:20250709T130211Z
LAST-MODIFIED:20250709T130211Z
UID:10001690-1806575400-1806582600@carterton-tc.gov.uk
SUMMARY:Free Coffee Morning
DESCRIPTION:Carterton Community Centre
URL:https://carterton-tc.gov.uk/event/free-coffee-morning/2027-04-01
LOCATION:Carterton Community Centre\, Marigold Square\, Carterton\, OX18 1AX
ATTACH;FMTTYPE=image/png:https://carterton-tc.gov.uk/wp-content/uploads/2023/09/carterton-council-fi.png
END:VEVENT
BEGIN:VEVENT
DTSTART;TZID=Europe/London:20270408T103000
DTEND;TZID=Europe/London:20270408T123000
DTSTAMP:20260421T215038
CREATED:20250709T130211Z
LAST-MODIFIED:20250709T130211Z
UID:10001691-1807180200-1807187400@carterton-tc.gov.uk
SUMMARY:Free Coffee Morning
DESCRIPTION:Carterton Community Centre
URL:https://carterton-tc.gov.uk/event/free-coffee-morning/2027-04-08
LOCATION:Carterton Community Centre\, Marigold Square\, Carterton\, OX18 1AX
ATTACH;FMTTYPE=image/png:https://carterton-tc.gov.uk/wp-content/uploads/2023/09/carterton-council-fi.png
END:VEVENT
BEGIN:VEVENT
DTSTART;TZID=Europe/London:20270415T103000
DTEND;TZID=Europe/London:20270415T123000
DTSTAMP:20260421T215038
CREATED:20250709T130211Z
LAST-MODIFIED:20250709T130211Z
UID:10001692-1807785000-1807792200@carterton-tc.gov.uk
SUMMARY:Free Coffee Morning
DESCRIPTION:Carterton Community Centre
URL:https://carterton-tc.gov.uk/event/free-coffee-morning/2027-04-15
LOCATION:Carterton Community Centre\, Marigold Square\, Carterton\, OX18 1AX
ATTACH;FMTTYPE=image/png:https://carterton-tc.gov.uk/wp-content/uploads/2023/09/carterton-council-fi.png
END:VEVENT
BEGIN:VEVENT
DTSTART;TZID=Europe/London:20270422T103000
DTEND;TZID=Europe/London:20270422T123000
DTSTAMP:20260421T215038
CREATED:20250709T130211Z
LAST-MODIFIED:20250709T130211Z
UID:10001693-1808389800-1808397000@carterton-tc.gov.uk
SUMMARY:Free Coffee Morning
DESCRIPTION:Carterton Community Centre
URL:https://carterton-tc.gov.uk/event/free-coffee-morning/2027-04-22
LOCATION:Carterton Community Centre\, Marigold Square\, Carterton\, OX18 1AX
ATTACH;FMTTYPE=image/png:https://carterton-tc.gov.uk/wp-content/uploads/2023/09/carterton-council-fi.png
END:VEVENT
BEGIN:VEVENT
DTSTART;TZID=Europe/London:20270429T103000
DTEND;TZID=Europe/London:20270429T123000
DTSTAMP:20260421T215038
CREATED:20250709T130211Z
LAST-MODIFIED:20250709T130211Z
UID:10001694-1808994600-1809001800@carterton-tc.gov.uk
SUMMARY:Free Coffee Morning
DESCRIPTION:Carterton Community Centre
URL:https://carterton-tc.gov.uk/event/free-coffee-morning/2027-04-29
LOCATION:Carterton Community Centre\, Marigold Square\, Carterton\, OX18 1AX
ATTACH;FMTTYPE=image/png:https://carterton-tc.gov.uk/wp-content/uploads/2023/09/carterton-council-fi.png
END:VEVENT
BEGIN:VEVENT
DTSTART;TZID=Europe/London:20270506T103000
DTEND;TZID=Europe/London:20270506T123000
DTSTAMP:20260421T215038
CREATED:20250709T130211Z
LAST-MODIFIED:20250709T130211Z
UID:10001695-1809599400-1809606600@carterton-tc.gov.uk
SUMMARY:Free Coffee Morning
DESCRIPTION:Carterton Community Centre
URL:https://carterton-tc.gov.uk/event/free-coffee-morning/2027-05-06
LOCATION:Carterton Community Centre\, Marigold Square\, Carterton\, OX18 1AX
ATTACH;FMTTYPE=image/png:https://carterton-tc.gov.uk/wp-content/uploads/2023/09/carterton-council-fi.png
END:VEVENT
BEGIN:VEVENT
DTSTART;TZID=Europe/London:20270513T103000
DTEND;TZID=Europe/London:20270513T123000
DTSTAMP:20260421T215038
CREATED:20250709T130211Z
LAST-MODIFIED:20250709T130211Z
UID:10001696-1810204200-1810211400@carterton-tc.gov.uk
SUMMARY:Free Coffee Morning
DESCRIPTION:Carterton Community Centre
URL:https://carterton-tc.gov.uk/event/free-coffee-morning/2027-05-13
LOCATION:Carterton Community Centre\, Marigold Square\, Carterton\, OX18 1AX
ATTACH;FMTTYPE=image/png:https://carterton-tc.gov.uk/wp-content/uploads/2023/09/carterton-council-fi.png
END:VEVENT
BEGIN:VEVENT
DTSTART;TZID=Europe/London:20270520T103000
DTEND;TZID=Europe/London:20270520T123000
DTSTAMP:20260421T215038
CREATED:20250709T130211Z
LAST-MODIFIED:20250709T130211Z
UID:10001697-1810809000-1810816200@carterton-tc.gov.uk
SUMMARY:Free Coffee Morning
DESCRIPTION:Carterton Community Centre
URL:https://carterton-tc.gov.uk/event/free-coffee-morning/2027-05-20
LOCATION:Carterton Community Centre\, Marigold Square\, Carterton\, OX18 1AX
ATTACH;FMTTYPE=image/png:https://carterton-tc.gov.uk/wp-content/uploads/2023/09/carterton-council-fi.png
END:VEVENT
BEGIN:VEVENT
DTSTART;TZID=Europe/London:20270527T103000
DTEND;TZID=Europe/London:20270527T123000
DTSTAMP:20260421T215038
CREATED:20250709T130211Z
LAST-MODIFIED:20250709T130211Z
UID:10001698-1811413800-1811421000@carterton-tc.gov.uk
SUMMARY:Free Coffee Morning
DESCRIPTION:Carterton Community Centre
URL:https://carterton-tc.gov.uk/event/free-coffee-morning/2027-05-27
LOCATION:Carterton Community Centre\, Marigold Square\, Carterton\, OX18 1AX
ATTACH;FMTTYPE=image/png:https://carterton-tc.gov.uk/wp-content/uploads/2023/09/carterton-council-fi.png
END:VEVENT
BEGIN:VEVENT
DTSTART;TZID=Europe/London:20270603T103000
DTEND;TZID=Europe/London:20270603T123000
DTSTAMP:20260421T215038
CREATED:20250709T130211Z
LAST-MODIFIED:20250709T130211Z
UID:10001699-1812018600-1812025800@carterton-tc.gov.uk
SUMMARY:Free Coffee Morning
DESCRIPTION:Carterton Community Centre
URL:https://carterton-tc.gov.uk/event/free-coffee-morning/2027-06-03
LOCATION:Carterton Community Centre\, Marigold Square\, Carterton\, OX18 1AX
ATTACH;FMTTYPE=image/png:https://carterton-tc.gov.uk/wp-content/uploads/2023/09/carterton-council-fi.png
END:VEVENT
BEGIN:VEVENT
DTSTART;TZID=Europe/London:20270610T103000
DTEND;TZID=Europe/London:20270610T123000
DTSTAMP:20260421T215038
CREATED:20250709T130211Z
LAST-MODIFIED:20250709T130211Z
UID:10001700-1812623400-1812630600@carterton-tc.gov.uk
SUMMARY:Free Coffee Morning
DESCRIPTION:Carterton Community Centre
URL:https://carterton-tc.gov.uk/event/free-coffee-morning/2027-06-10
LOCATION:Carterton Community Centre\, Marigold Square\, Carterton\, OX18 1AX
ATTACH;FMTTYPE=image/png:https://carterton-tc.gov.uk/wp-content/uploads/2023/09/carterton-council-fi.png
END:VEVENT
BEGIN:VEVENT
DTSTART;TZID=Europe/London:20270617T103000
DTEND;TZID=Europe/London:20270617T123000
DTSTAMP:20260421T215038
CREATED:20250709T130211Z
LAST-MODIFIED:20250709T130211Z
UID:10001701-1813228200-1813235400@carterton-tc.gov.uk
SUMMARY:Free Coffee Morning
DESCRIPTION:Carterton Community Centre
URL:https://carterton-tc.gov.uk/event/free-coffee-morning/2027-06-17
LOCATION:Carterton Community Centre\, Marigold Square\, Carterton\, OX18 1AX
ATTACH;FMTTYPE=image/png:https://carterton-tc.gov.uk/wp-content/uploads/2023/09/carterton-council-fi.png
END:VEVENT
BEGIN:VEVENT
DTSTART;TZID=Europe/London:20270624T103000
DTEND;TZID=Europe/London:20270624T123000
DTSTAMP:20260421T215038
CREATED:20250709T130211Z
LAST-MODIFIED:20250709T130211Z
UID:10001702-1813833000-1813840200@carterton-tc.gov.uk
SUMMARY:Free Coffee Morning
DESCRIPTION:Carterton Community Centre
URL:https://carterton-tc.gov.uk/event/free-coffee-morning/2027-06-24
LOCATION:Carterton Community Centre\, Marigold Square\, Carterton\, OX18 1AX
ATTACH;FMTTYPE=image/png:https://carterton-tc.gov.uk/wp-content/uploads/2023/09/carterton-council-fi.png
END:VEVENT
BEGIN:VEVENT
DTSTART;TZID=Europe/London:20270701T103000
DTEND;TZID=Europe/London:20270701T123000
DTSTAMP:20260421T215038
CREATED:20250709T130211Z
LAST-MODIFIED:20250709T130211Z
UID:10001703-1814437800-1814445000@carterton-tc.gov.uk
SUMMARY:Free Coffee Morning
DESCRIPTION:Carterton Community Centre
URL:https://carterton-tc.gov.uk/event/free-coffee-morning/2027-07-01
LOCATION:Carterton Community Centre\, Marigold Square\, Carterton\, OX18 1AX
ATTACH;FMTTYPE=image/png:https://carterton-tc.gov.uk/wp-content/uploads/2023/09/carterton-council-fi.png
END:VEVENT
BEGIN:VEVENT
DTSTART;TZID=Europe/London:20270708T103000
DTEND;TZID=Europe/London:20270708T123000
DTSTAMP:20260421T215038
CREATED:20250709T130211Z
LAST-MODIFIED:20250709T130211Z
UID:10001704-1815042600-1815049800@carterton-tc.gov.uk
SUMMARY:Free Coffee Morning
DESCRIPTION:Carterton Community Centre
URL:https://carterton-tc.gov.uk/event/free-coffee-morning/2027-07-08
LOCATION:Carterton Community Centre\, Marigold Square\, Carterton\, OX18 1AX
ATTACH;FMTTYPE=image/png:https://carterton-tc.gov.uk/wp-content/uploads/2023/09/carterton-council-fi.png
END:VEVENT
BEGIN:VEVENT
DTSTART;TZID=Europe/London:20270715T103000
DTEND;TZID=Europe/London:20270715T123000
DTSTAMP:20260421T215038
CREATED:20250709T130211Z
LAST-MODIFIED:20250709T130211Z
UID:10001705-1815647400-1815654600@carterton-tc.gov.uk
SUMMARY:Free Coffee Morning
DESCRIPTION:Carterton Community Centre
URL:https://carterton-tc.gov.uk/event/free-coffee-morning/2027-07-15
LOCATION:Carterton Community Centre\, Marigold Square\, Carterton\, OX18 1AX
ATTACH;FMTTYPE=image/png:https://carterton-tc.gov.uk/wp-content/uploads/2023/09/carterton-council-fi.png
END:VEVENT
BEGIN:VEVENT
DTSTART;TZID=Europe/London:20270722T103000
DTEND;TZID=Europe/London:20270722T123000
DTSTAMP:20260421T215038
CREATED:20250709T130211Z
LAST-MODIFIED:20250709T130211Z
UID:10001706-1816252200-1816259400@carterton-tc.gov.uk
SUMMARY:Free Coffee Morning
DESCRIPTION:Carterton Community Centre
URL:https://carterton-tc.gov.uk/event/free-coffee-morning/2027-07-22
LOCATION:Carterton Community Centre\, Marigold Square\, Carterton\, OX18 1AX
ATTACH;FMTTYPE=image/png:https://carterton-tc.gov.uk/wp-content/uploads/2023/09/carterton-council-fi.png
END:VEVENT
END:VCALENDAR