BEGIN:VCALENDAR
VERSION:2.0
PRODID:-//Carterton Town Council - ECPv6.15.18//NONSGML v1.0//EN
CALSCALE:GREGORIAN
METHOD:PUBLISH
X-WR-CALNAME:Carterton Town Council
X-ORIGINAL-URL:https://carterton-tc.gov.uk
X-WR-CALDESC:Events for Carterton Town Council
REFRESH-INTERVAL;VALUE=DURATION:PT1H
X-Robots-Tag:noindex
X-PUBLISHED-TTL:PT1H
BEGIN:VTIMEZONE
TZID:Europe/London
BEGIN:DAYLIGHT
TZOFFSETFROM:+0000
TZOFFSETTO:+0100
TZNAME:BST
DTSTART:20250330T010000
END:DAYLIGHT
BEGIN:STANDARD
TZOFFSETFROM:+0100
TZOFFSETTO:+0000
TZNAME:GMT
DTSTART:20251026T010000
END:STANDARD
BEGIN:DAYLIGHT
TZOFFSETFROM:+0000
TZOFFSETTO:+0100
TZNAME:BST
DTSTART:20260329T010000
END:DAYLIGHT
BEGIN:STANDARD
TZOFFSETFROM:+0100
TZOFFSETTO:+0000
TZNAME:GMT
DTSTART:20261025T010000
END:STANDARD
BEGIN:DAYLIGHT
TZOFFSETFROM:+0000
TZOFFSETTO:+0100
TZNAME:BST
DTSTART:20270328T010000
END:DAYLIGHT
BEGIN:STANDARD
TZOFFSETFROM:+0100
TZOFFSETTO:+0000
TZNAME:GMT
DTSTART:20271031T010000
END:STANDARD
BEGIN:DAYLIGHT
TZOFFSETFROM:+0000
TZOFFSETTO:+0100
TZNAME:BST
DTSTART:20280326T010000
END:DAYLIGHT
BEGIN:STANDARD
TZOFFSETFROM:+0100
TZOFFSETTO:+0000
TZNAME:GMT
DTSTART:20281029T010000
END:STANDARD
END:VTIMEZONE
BEGIN:VEVENT
DTSTART;TZID=Europe/London:20260716T103000
DTEND;TZID=Europe/London:20260716T123000
DTSTAMP:20260421T190124
CREATED:20250709T130211Z
LAST-MODIFIED:20250709T130211Z
UID:10001653-1784197800-1784205000@carterton-tc.gov.uk
SUMMARY:Free Coffee Morning
DESCRIPTION:Carterton Community Centre
URL:https://carterton-tc.gov.uk/event/free-coffee-morning/2026-07-16
LOCATION:Carterton Community Centre\, Marigold Square\, Carterton\, OX18 1AX
ATTACH;FMTTYPE=image/png:https://carterton-tc.gov.uk/wp-content/uploads/2023/09/carterton-council-fi.png
END:VEVENT
BEGIN:VEVENT
DTSTART;TZID=Europe/London:20260723T103000
DTEND;TZID=Europe/London:20260723T123000
DTSTAMP:20260421T190124
CREATED:20250709T130211Z
LAST-MODIFIED:20250709T130211Z
UID:10001654-1784802600-1784809800@carterton-tc.gov.uk
SUMMARY:Free Coffee Morning
DESCRIPTION:Carterton Community Centre
URL:https://carterton-tc.gov.uk/event/free-coffee-morning/2026-07-23
LOCATION:Carterton Community Centre\, Marigold Square\, Carterton\, OX18 1AX
ATTACH;FMTTYPE=image/png:https://carterton-tc.gov.uk/wp-content/uploads/2023/09/carterton-council-fi.png
END:VEVENT
BEGIN:VEVENT
DTSTART;TZID=Europe/London:20260730T103000
DTEND;TZID=Europe/London:20260730T123000
DTSTAMP:20260421T190124
CREATED:20250709T130211Z
LAST-MODIFIED:20250709T130211Z
UID:10001655-1785407400-1785414600@carterton-tc.gov.uk
SUMMARY:Free Coffee Morning
DESCRIPTION:Carterton Community Centre
URL:https://carterton-tc.gov.uk/event/free-coffee-morning/2026-07-30
LOCATION:Carterton Community Centre\, Marigold Square\, Carterton\, OX18 1AX
ATTACH;FMTTYPE=image/png:https://carterton-tc.gov.uk/wp-content/uploads/2023/09/carterton-council-fi.png
END:VEVENT
BEGIN:VEVENT
DTSTART;TZID=Europe/London:20260806T103000
DTEND;TZID=Europe/London:20260806T123000
DTSTAMP:20260421T190124
CREATED:20250709T130211Z
LAST-MODIFIED:20250709T130211Z
UID:10001656-1786012200-1786019400@carterton-tc.gov.uk
SUMMARY:Free Coffee Morning
DESCRIPTION:Carterton Community Centre
URL:https://carterton-tc.gov.uk/event/free-coffee-morning/2026-08-06
LOCATION:Carterton Community Centre\, Marigold Square\, Carterton\, OX18 1AX
ATTACH;FMTTYPE=image/png:https://carterton-tc.gov.uk/wp-content/uploads/2023/09/carterton-council-fi.png
END:VEVENT
BEGIN:VEVENT
DTSTART;TZID=Europe/London:20260813T103000
DTEND;TZID=Europe/London:20260813T123000
DTSTAMP:20260421T190124
CREATED:20250709T130211Z
LAST-MODIFIED:20250709T130211Z
UID:10001657-1786617000-1786624200@carterton-tc.gov.uk
SUMMARY:Free Coffee Morning
DESCRIPTION:Carterton Community Centre
URL:https://carterton-tc.gov.uk/event/free-coffee-morning/2026-08-13
LOCATION:Carterton Community Centre\, Marigold Square\, Carterton\, OX18 1AX
ATTACH;FMTTYPE=image/png:https://carterton-tc.gov.uk/wp-content/uploads/2023/09/carterton-council-fi.png
END:VEVENT
BEGIN:VEVENT
DTSTART;TZID=Europe/London:20260820T103000
DTEND;TZID=Europe/London:20260820T123000
DTSTAMP:20260421T190124
CREATED:20250709T130211Z
LAST-MODIFIED:20250709T130211Z
UID:10001658-1787221800-1787229000@carterton-tc.gov.uk
SUMMARY:Free Coffee Morning
DESCRIPTION:Carterton Community Centre
URL:https://carterton-tc.gov.uk/event/free-coffee-morning/2026-08-20
LOCATION:Carterton Community Centre\, Marigold Square\, Carterton\, OX18 1AX
ATTACH;FMTTYPE=image/png:https://carterton-tc.gov.uk/wp-content/uploads/2023/09/carterton-council-fi.png
END:VEVENT
BEGIN:VEVENT
DTSTART;TZID=Europe/London:20260827T103000
DTEND;TZID=Europe/London:20260827T123000
DTSTAMP:20260421T190124
CREATED:20250709T130211Z
LAST-MODIFIED:20250709T130211Z
UID:10001659-1787826600-1787833800@carterton-tc.gov.uk
SUMMARY:Free Coffee Morning
DESCRIPTION:Carterton Community Centre
URL:https://carterton-tc.gov.uk/event/free-coffee-morning/2026-08-27
LOCATION:Carterton Community Centre\, Marigold Square\, Carterton\, OX18 1AX
ATTACH;FMTTYPE=image/png:https://carterton-tc.gov.uk/wp-content/uploads/2023/09/carterton-council-fi.png
END:VEVENT
BEGIN:VEVENT
DTSTART;TZID=Europe/London:20260903T103000
DTEND;TZID=Europe/London:20260903T123000
DTSTAMP:20260421T190124
CREATED:20250709T130211Z
LAST-MODIFIED:20250709T130211Z
UID:10001660-1788431400-1788438600@carterton-tc.gov.uk
SUMMARY:Free Coffee Morning
DESCRIPTION:Carterton Community Centre
URL:https://carterton-tc.gov.uk/event/free-coffee-morning/2026-09-03
LOCATION:Carterton Community Centre\, Marigold Square\, Carterton\, OX18 1AX
ATTACH;FMTTYPE=image/png:https://carterton-tc.gov.uk/wp-content/uploads/2023/09/carterton-council-fi.png
END:VEVENT
BEGIN:VEVENT
DTSTART;TZID=Europe/London:20260910T103000
DTEND;TZID=Europe/London:20260910T123000
DTSTAMP:20260421T190124
CREATED:20250709T130211Z
LAST-MODIFIED:20250709T130211Z
UID:10001661-1789036200-1789043400@carterton-tc.gov.uk
SUMMARY:Free Coffee Morning
DESCRIPTION:Carterton Community Centre
URL:https://carterton-tc.gov.uk/event/free-coffee-morning/2026-09-10
LOCATION:Carterton Community Centre\, Marigold Square\, Carterton\, OX18 1AX
ATTACH;FMTTYPE=image/png:https://carterton-tc.gov.uk/wp-content/uploads/2023/09/carterton-council-fi.png
END:VEVENT
BEGIN:VEVENT
DTSTART;TZID=Europe/London:20260917T103000
DTEND;TZID=Europe/London:20260917T123000
DTSTAMP:20260421T190124
CREATED:20250709T130211Z
LAST-MODIFIED:20250709T130211Z
UID:10001662-1789641000-1789648200@carterton-tc.gov.uk
SUMMARY:Free Coffee Morning
DESCRIPTION:Carterton Community Centre
URL:https://carterton-tc.gov.uk/event/free-coffee-morning/2026-09-17
LOCATION:Carterton Community Centre\, Marigold Square\, Carterton\, OX18 1AX
ATTACH;FMTTYPE=image/png:https://carterton-tc.gov.uk/wp-content/uploads/2023/09/carterton-council-fi.png
END:VEVENT
BEGIN:VEVENT
DTSTART;TZID=Europe/London:20260924T103000
DTEND;TZID=Europe/London:20260924T123000
DTSTAMP:20260421T190124
CREATED:20250709T130211Z
LAST-MODIFIED:20250709T130211Z
UID:10001663-1790245800-1790253000@carterton-tc.gov.uk
SUMMARY:Free Coffee Morning
DESCRIPTION:Carterton Community Centre
URL:https://carterton-tc.gov.uk/event/free-coffee-morning/2026-09-24
LOCATION:Carterton Community Centre\, Marigold Square\, Carterton\, OX18 1AX
ATTACH;FMTTYPE=image/png:https://carterton-tc.gov.uk/wp-content/uploads/2023/09/carterton-council-fi.png
END:VEVENT
BEGIN:VEVENT
DTSTART;TZID=Europe/London:20261001T103000
DTEND;TZID=Europe/London:20261001T123000
DTSTAMP:20260421T190124
CREATED:20250709T130211Z
LAST-MODIFIED:20250709T130211Z
UID:10001664-1790850600-1790857800@carterton-tc.gov.uk
SUMMARY:Free Coffee Morning
DESCRIPTION:Carterton Community Centre
URL:https://carterton-tc.gov.uk/event/free-coffee-morning/2026-10-01
LOCATION:Carterton Community Centre\, Marigold Square\, Carterton\, OX18 1AX
ATTACH;FMTTYPE=image/png:https://carterton-tc.gov.uk/wp-content/uploads/2023/09/carterton-council-fi.png
END:VEVENT
BEGIN:VEVENT
DTSTART;TZID=Europe/London:20261008T103000
DTEND;TZID=Europe/London:20261008T123000
DTSTAMP:20260421T190124
CREATED:20250709T130211Z
LAST-MODIFIED:20250709T130211Z
UID:10001665-1791455400-1791462600@carterton-tc.gov.uk
SUMMARY:Free Coffee Morning
DESCRIPTION:Carterton Community Centre
URL:https://carterton-tc.gov.uk/event/free-coffee-morning/2026-10-08
LOCATION:Carterton Community Centre\, Marigold Square\, Carterton\, OX18 1AX
ATTACH;FMTTYPE=image/png:https://carterton-tc.gov.uk/wp-content/uploads/2023/09/carterton-council-fi.png
END:VEVENT
BEGIN:VEVENT
DTSTART;TZID=Europe/London:20261015T103000
DTEND;TZID=Europe/London:20261015T123000
DTSTAMP:20260421T190124
CREATED:20250709T130211Z
LAST-MODIFIED:20250709T130211Z
UID:10001666-1792060200-1792067400@carterton-tc.gov.uk
SUMMARY:Free Coffee Morning
DESCRIPTION:Carterton Community Centre
URL:https://carterton-tc.gov.uk/event/free-coffee-morning/2026-10-15
LOCATION:Carterton Community Centre\, Marigold Square\, Carterton\, OX18 1AX
ATTACH;FMTTYPE=image/png:https://carterton-tc.gov.uk/wp-content/uploads/2023/09/carterton-council-fi.png
END:VEVENT
BEGIN:VEVENT
DTSTART;TZID=Europe/London:20261022T103000
DTEND;TZID=Europe/London:20261022T123000
DTSTAMP:20260421T190124
CREATED:20250709T130211Z
LAST-MODIFIED:20250709T130211Z
UID:10001667-1792665000-1792672200@carterton-tc.gov.uk
SUMMARY:Free Coffee Morning
DESCRIPTION:Carterton Community Centre
URL:https://carterton-tc.gov.uk/event/free-coffee-morning/2026-10-22
LOCATION:Carterton Community Centre\, Marigold Square\, Carterton\, OX18 1AX
ATTACH;FMTTYPE=image/png:https://carterton-tc.gov.uk/wp-content/uploads/2023/09/carterton-council-fi.png
END:VEVENT
BEGIN:VEVENT
DTSTART;TZID=Europe/London:20261029T103000
DTEND;TZID=Europe/London:20261029T123000
DTSTAMP:20260421T190124
CREATED:20250709T130211Z
LAST-MODIFIED:20250709T130211Z
UID:10001668-1793269800-1793277000@carterton-tc.gov.uk
SUMMARY:Free Coffee Morning
DESCRIPTION:Carterton Community Centre
URL:https://carterton-tc.gov.uk/event/free-coffee-morning/2026-10-29
LOCATION:Carterton Community Centre\, Marigold Square\, Carterton\, OX18 1AX
ATTACH;FMTTYPE=image/png:https://carterton-tc.gov.uk/wp-content/uploads/2023/09/carterton-council-fi.png
END:VEVENT
BEGIN:VEVENT
DTSTART;TZID=Europe/London:20261105T103000
DTEND;TZID=Europe/London:20261105T123000
DTSTAMP:20260421T190124
CREATED:20250709T130211Z
LAST-MODIFIED:20250709T130211Z
UID:10001669-1793874600-1793881800@carterton-tc.gov.uk
SUMMARY:Free Coffee Morning
DESCRIPTION:Carterton Community Centre
URL:https://carterton-tc.gov.uk/event/free-coffee-morning/2026-11-05
LOCATION:Carterton Community Centre\, Marigold Square\, Carterton\, OX18 1AX
ATTACH;FMTTYPE=image/png:https://carterton-tc.gov.uk/wp-content/uploads/2023/09/carterton-council-fi.png
END:VEVENT
BEGIN:VEVENT
DTSTART;TZID=Europe/London:20261112T103000
DTEND;TZID=Europe/London:20261112T123000
DTSTAMP:20260421T190124
CREATED:20250709T130211Z
LAST-MODIFIED:20250709T130211Z
UID:10001670-1794479400-1794486600@carterton-tc.gov.uk
SUMMARY:Free Coffee Morning
DESCRIPTION:Carterton Community Centre
URL:https://carterton-tc.gov.uk/event/free-coffee-morning/2026-11-12
LOCATION:Carterton Community Centre\, Marigold Square\, Carterton\, OX18 1AX
ATTACH;FMTTYPE=image/png:https://carterton-tc.gov.uk/wp-content/uploads/2023/09/carterton-council-fi.png
END:VEVENT
BEGIN:VEVENT
DTSTART;TZID=Europe/London:20261119T103000
DTEND;TZID=Europe/London:20261119T123000
DTSTAMP:20260421T190124
CREATED:20250709T130211Z
LAST-MODIFIED:20250709T130211Z
UID:10001671-1795084200-1795091400@carterton-tc.gov.uk
SUMMARY:Free Coffee Morning
DESCRIPTION:Carterton Community Centre
URL:https://carterton-tc.gov.uk/event/free-coffee-morning/2026-11-19
LOCATION:Carterton Community Centre\, Marigold Square\, Carterton\, OX18 1AX
ATTACH;FMTTYPE=image/png:https://carterton-tc.gov.uk/wp-content/uploads/2023/09/carterton-council-fi.png
END:VEVENT
BEGIN:VEVENT
DTSTART;TZID=Europe/London:20261126T103000
DTEND;TZID=Europe/London:20261126T123000
DTSTAMP:20260421T190124
CREATED:20250709T130211Z
LAST-MODIFIED:20250709T130211Z
UID:10001672-1795689000-1795696200@carterton-tc.gov.uk
SUMMARY:Free Coffee Morning
DESCRIPTION:Carterton Community Centre
URL:https://carterton-tc.gov.uk/event/free-coffee-morning/2026-11-26
LOCATION:Carterton Community Centre\, Marigold Square\, Carterton\, OX18 1AX
ATTACH;FMTTYPE=image/png:https://carterton-tc.gov.uk/wp-content/uploads/2023/09/carterton-council-fi.png
END:VEVENT
BEGIN:VEVENT
DTSTART;TZID=Europe/London:20261203T103000
DTEND;TZID=Europe/London:20261203T123000
DTSTAMP:20260421T190124
CREATED:20250709T130211Z
LAST-MODIFIED:20250709T130211Z
UID:10001673-1796293800-1796301000@carterton-tc.gov.uk
SUMMARY:Free Coffee Morning
DESCRIPTION:Carterton Community Centre
URL:https://carterton-tc.gov.uk/event/free-coffee-morning/2026-12-03
LOCATION:Carterton Community Centre\, Marigold Square\, Carterton\, OX18 1AX
ATTACH;FMTTYPE=image/png:https://carterton-tc.gov.uk/wp-content/uploads/2023/09/carterton-council-fi.png
END:VEVENT
BEGIN:VEVENT
DTSTART;TZID=Europe/London:20261210T103000
DTEND;TZID=Europe/London:20261210T123000
DTSTAMP:20260421T190124
CREATED:20250709T130211Z
LAST-MODIFIED:20250709T130211Z
UID:10001674-1796898600-1796905800@carterton-tc.gov.uk
SUMMARY:Free Coffee Morning
DESCRIPTION:Carterton Community Centre
URL:https://carterton-tc.gov.uk/event/free-coffee-morning/2026-12-10
LOCATION:Carterton Community Centre\, Marigold Square\, Carterton\, OX18 1AX
ATTACH;FMTTYPE=image/png:https://carterton-tc.gov.uk/wp-content/uploads/2023/09/carterton-council-fi.png
END:VEVENT
BEGIN:VEVENT
DTSTART;TZID=Europe/London:20261217T103000
DTEND;TZID=Europe/London:20261217T123000
DTSTAMP:20260421T190124
CREATED:20250709T130211Z
LAST-MODIFIED:20250709T130211Z
UID:10001675-1797503400-1797510600@carterton-tc.gov.uk
SUMMARY:Free Coffee Morning
DESCRIPTION:Carterton Community Centre
URL:https://carterton-tc.gov.uk/event/free-coffee-morning/2026-12-17
LOCATION:Carterton Community Centre\, Marigold Square\, Carterton\, OX18 1AX
ATTACH;FMTTYPE=image/png:https://carterton-tc.gov.uk/wp-content/uploads/2023/09/carterton-council-fi.png
END:VEVENT
BEGIN:VEVENT
DTSTART;TZID=Europe/London:20261224T103000
DTEND;TZID=Europe/London:20261224T123000
DTSTAMP:20260421T190124
CREATED:20250709T130211Z
LAST-MODIFIED:20250709T130211Z
UID:10001676-1798108200-1798115400@carterton-tc.gov.uk
SUMMARY:Free Coffee Morning
DESCRIPTION:Carterton Community Centre
URL:https://carterton-tc.gov.uk/event/free-coffee-morning/2026-12-24
LOCATION:Carterton Community Centre\, Marigold Square\, Carterton\, OX18 1AX
ATTACH;FMTTYPE=image/png:https://carterton-tc.gov.uk/wp-content/uploads/2023/09/carterton-council-fi.png
END:VEVENT
BEGIN:VEVENT
DTSTART;TZID=Europe/London:20261231T103000
DTEND;TZID=Europe/London:20261231T123000
DTSTAMP:20260421T190124
CREATED:20250709T130211Z
LAST-MODIFIED:20250709T130211Z
UID:10001677-1798713000-1798720200@carterton-tc.gov.uk
SUMMARY:Free Coffee Morning
DESCRIPTION:Carterton Community Centre
URL:https://carterton-tc.gov.uk/event/free-coffee-morning/2026-12-31
LOCATION:Carterton Community Centre\, Marigold Square\, Carterton\, OX18 1AX
ATTACH;FMTTYPE=image/png:https://carterton-tc.gov.uk/wp-content/uploads/2023/09/carterton-council-fi.png
END:VEVENT
BEGIN:VEVENT
DTSTART;TZID=Europe/London:20270107T103000
DTEND;TZID=Europe/London:20270107T123000
DTSTAMP:20260421T190124
CREATED:20250709T130211Z
LAST-MODIFIED:20250709T130211Z
UID:10001678-1799317800-1799325000@carterton-tc.gov.uk
SUMMARY:Free Coffee Morning
DESCRIPTION:Carterton Community Centre
URL:https://carterton-tc.gov.uk/event/free-coffee-morning/2027-01-07
LOCATION:Carterton Community Centre\, Marigold Square\, Carterton\, OX18 1AX
ATTACH;FMTTYPE=image/png:https://carterton-tc.gov.uk/wp-content/uploads/2023/09/carterton-council-fi.png
END:VEVENT
BEGIN:VEVENT
DTSTART;TZID=Europe/London:20270114T103000
DTEND;TZID=Europe/London:20270114T123000
DTSTAMP:20260421T190124
CREATED:20250709T130211Z
LAST-MODIFIED:20250709T130211Z
UID:10001679-1799922600-1799929800@carterton-tc.gov.uk
SUMMARY:Free Coffee Morning
DESCRIPTION:Carterton Community Centre
URL:https://carterton-tc.gov.uk/event/free-coffee-morning/2027-01-14
LOCATION:Carterton Community Centre\, Marigold Square\, Carterton\, OX18 1AX
ATTACH;FMTTYPE=image/png:https://carterton-tc.gov.uk/wp-content/uploads/2023/09/carterton-council-fi.png
END:VEVENT
BEGIN:VEVENT
DTSTART;TZID=Europe/London:20270121T103000
DTEND;TZID=Europe/London:20270121T123000
DTSTAMP:20260421T190124
CREATED:20250709T130211Z
LAST-MODIFIED:20250709T130211Z
UID:10001680-1800527400-1800534600@carterton-tc.gov.uk
SUMMARY:Free Coffee Morning
DESCRIPTION:Carterton Community Centre
URL:https://carterton-tc.gov.uk/event/free-coffee-morning/2027-01-21
LOCATION:Carterton Community Centre\, Marigold Square\, Carterton\, OX18 1AX
ATTACH;FMTTYPE=image/png:https://carterton-tc.gov.uk/wp-content/uploads/2023/09/carterton-council-fi.png
END:VEVENT
BEGIN:VEVENT
DTSTART;TZID=Europe/London:20270128T103000
DTEND;TZID=Europe/London:20270128T123000
DTSTAMP:20260421T190124
CREATED:20250709T130211Z
LAST-MODIFIED:20250709T130211Z
UID:10001681-1801132200-1801139400@carterton-tc.gov.uk
SUMMARY:Free Coffee Morning
DESCRIPTION:Carterton Community Centre
URL:https://carterton-tc.gov.uk/event/free-coffee-morning/2027-01-28
LOCATION:Carterton Community Centre\, Marigold Square\, Carterton\, OX18 1AX
ATTACH;FMTTYPE=image/png:https://carterton-tc.gov.uk/wp-content/uploads/2023/09/carterton-council-fi.png
END:VEVENT
BEGIN:VEVENT
DTSTART;TZID=Europe/London:20270204T103000
DTEND;TZID=Europe/London:20270204T123000
DTSTAMP:20260421T190124
CREATED:20250709T130211Z
LAST-MODIFIED:20250709T130211Z
UID:10001682-1801737000-1801744200@carterton-tc.gov.uk
SUMMARY:Free Coffee Morning
DESCRIPTION:Carterton Community Centre
URL:https://carterton-tc.gov.uk/event/free-coffee-morning/2027-02-04
LOCATION:Carterton Community Centre\, Marigold Square\, Carterton\, OX18 1AX
ATTACH;FMTTYPE=image/png:https://carterton-tc.gov.uk/wp-content/uploads/2023/09/carterton-council-fi.png
END:VEVENT
END:VCALENDAR