BEGIN:VCALENDAR
VERSION:2.0
PRODID:-//Carterton Town Council - ECPv6.15.18//NONSGML v1.0//EN
CALSCALE:GREGORIAN
METHOD:PUBLISH
X-WR-CALNAME:Carterton Town Council
X-ORIGINAL-URL:https://carterton-tc.gov.uk
X-WR-CALDESC:Events for Carterton Town Council
REFRESH-INTERVAL;VALUE=DURATION:PT1H
X-Robots-Tag:noindex
X-PUBLISHED-TTL:PT1H
BEGIN:VTIMEZONE
TZID:Europe/London
BEGIN:DAYLIGHT
TZOFFSETFROM:+0000
TZOFFSETTO:+0100
TZNAME:BST
DTSTART:20220327T010000
END:DAYLIGHT
BEGIN:STANDARD
TZOFFSETFROM:+0100
TZOFFSETTO:+0000
TZNAME:GMT
DTSTART:20221030T010000
END:STANDARD
BEGIN:DAYLIGHT
TZOFFSETFROM:+0000
TZOFFSETTO:+0100
TZNAME:BST
DTSTART:20230326T010000
END:DAYLIGHT
BEGIN:STANDARD
TZOFFSETFROM:+0100
TZOFFSETTO:+0000
TZNAME:GMT
DTSTART:20231029T010000
END:STANDARD
BEGIN:DAYLIGHT
TZOFFSETFROM:+0000
TZOFFSETTO:+0100
TZNAME:BST
DTSTART:20240331T010000
END:DAYLIGHT
BEGIN:STANDARD
TZOFFSETFROM:+0100
TZOFFSETTO:+0000
TZNAME:GMT
DTSTART:20241027T010000
END:STANDARD
BEGIN:DAYLIGHT
TZOFFSETFROM:+0000
TZOFFSETTO:+0100
TZNAME:BST
DTSTART:20250330T010000
END:DAYLIGHT
BEGIN:STANDARD
TZOFFSETFROM:+0100
TZOFFSETTO:+0000
TZNAME:GMT
DTSTART:20251026T010000
END:STANDARD
END:VTIMEZONE
BEGIN:VEVENT
DTSTART;TZID=Europe/London:20240206T180000
DTEND;TZID=Europe/London:20240206T180000
DTSTAMP:20260423T020637
CREATED:20240112T153738Z
LAST-MODIFIED:20240112T153738Z
UID:10000039-1707242400-1707242400@carterton-tc.gov.uk
SUMMARY:Administration Committee Meeting
DESCRIPTION:This meeting will be held at Town Hall. Members of the public are welcome to attend; please see the agenda for more details.
URL:https://carterton-tc.gov.uk/event/administration-committee-meeting-4
LOCATION:Town Hall
CATEGORIES:Town Council Meetings
ATTACH;FMTTYPE=image/png:https://carterton-tc.gov.uk/wp-content/uploads/2023/09/carterton-council-fi.png
END:VEVENT
BEGIN:VEVENT
DTSTART;TZID=Europe/London:20240130T190000
DTEND;TZID=Europe/London:20240130T190000
DTSTAMP:20260423T020637
CREATED:20240223T084756Z
LAST-MODIFIED:20240223T084756Z
UID:10000040-1706641200-1706641200@carterton-tc.gov.uk
SUMMARY:Extraordinary Meeting
DESCRIPTION:This meeting will be held at Town Hall. Members of the public are welcome to attend; please see the agenda for more details.
URL:https://carterton-tc.gov.uk/event/extraordinary-meeting-2
LOCATION:Town Hall
CATEGORIES:Town Council Meetings
ATTACH;FMTTYPE=image/png:https://carterton-tc.gov.uk/wp-content/uploads/2023/09/carterton-council-fi.png
END:VEVENT
BEGIN:VEVENT
DTSTART;TZID=Europe/London:20240116T190000
DTEND;TZID=Europe/London:20240116T190000
DTSTAMP:20260423T020637
CREATED:20231221T155834Z
LAST-MODIFIED:20240408T130452Z
UID:10000030-1705431600-1705431600@carterton-tc.gov.uk
SUMMARY:Town Council Meeting
DESCRIPTION:This meeting will be held at Town Hall. Members of the public are welcome to attend; please see the agenda for more details.
URL:https://carterton-tc.gov.uk/event/town-council-meeting-5
LOCATION:Town Hall
CATEGORIES:Town Council Meetings
ATTACH;FMTTYPE=image/png:https://carterton-tc.gov.uk/wp-content/uploads/2023/09/carterton-council-fi.png
END:VEVENT
BEGIN:VEVENT
DTSTART;TZID=Europe/London:20240116T183000
DTEND;TZID=Europe/London:20240116T183000
DTSTAMP:20260423T020637
CREATED:20231221T155751Z
LAST-MODIFIED:20240223T084906Z
UID:10000029-1705429800-1705429800@carterton-tc.gov.uk
SUMMARY:Planning Committee Meeting
DESCRIPTION:This meeting will be held at Town Hall. Members of the public are welcome to attend; please see the agenda for more details.
URL:https://carterton-tc.gov.uk/event/planning-committee-meeting-5
LOCATION:Town Hall
CATEGORIES:Town Council Meetings
ATTACH;FMTTYPE=image/png:https://carterton-tc.gov.uk/wp-content/uploads/2023/09/carterton-council-fi.png
END:VEVENT
BEGIN:VEVENT
DTSTART;TZID=Europe/London:20240104T183000
DTEND;TZID=Europe/London:20240104T183000
DTSTAMP:20260423T020637
CREATED:20231221T155407Z
LAST-MODIFIED:20240125T122548Z
UID:10000028-1704393000-1704393000@carterton-tc.gov.uk
SUMMARY:Extraordinary Meeting
DESCRIPTION:This meeting will be held at Town Hall. Members of the public are welcome to attend; please see the agenda for more details.
URL:https://carterton-tc.gov.uk/event/extraordinary-meeting
LOCATION:Town Hall
CATEGORIES:Town Council Meetings
ATTACH;FMTTYPE=image/png:https://carterton-tc.gov.uk/wp-content/uploads/2023/09/carterton-council-fi.png
END:VEVENT
BEGIN:VEVENT
DTSTART;TZID=Europe/London:20231219T183000
DTEND;TZID=Europe/London:20231219T183000
DTSTAMP:20260423T020637
CREATED:20230911T160300Z
LAST-MODIFIED:20240125T123235Z
UID:10000014-1703010600-1703010600@carterton-tc.gov.uk
SUMMARY:Planning Committee Meeting
DESCRIPTION:This meeting will be held at Town Hall. Members of the public are welcome to attend; please see the agenda for more details.
URL:https://carterton-tc.gov.uk/event/planning-committee-meeting-4
LOCATION:Town Hall
CATEGORIES:Town Council Meetings
ATTACH;FMTTYPE=image/png:https://carterton-tc.gov.uk/wp-content/uploads/2023/09/carterton-council-fi.png
END:VEVENT
BEGIN:VEVENT
DTSTART;TZID=Europe/London:20231205T180000
DTEND;TZID=Europe/London:20231205T180000
DTSTAMP:20260423T020637
CREATED:20230911T160217Z
LAST-MODIFIED:20231224T093803Z
UID:10000013-1701799200-1701799200@carterton-tc.gov.uk
SUMMARY:Grants Committee Meeting
DESCRIPTION:This meeting will be held at Town Hall. Members of the public are welcome to attend; please see the agenda for more details.
URL:https://carterton-tc.gov.uk/event/grants-committee-meeting-2
LOCATION:Town Hall
CATEGORIES:Town Council Meetings
ATTACH;FMTTYPE=image/png:https://carterton-tc.gov.uk/wp-content/uploads/2023/09/carterton-council-fi.png
END:VEVENT
BEGIN:VEVENT
DTSTART;TZID=Europe/London:20231121T190000
DTEND;TZID=Europe/London:20231121T190000
DTSTAMP:20260423T020637
CREATED:20230911T160319Z
LAST-MODIFIED:20240109T142656Z
UID:10000015-1700593200-1700593200@carterton-tc.gov.uk
SUMMARY:Town Council Meeting
DESCRIPTION:This meeting will be held at Town Hall. Members of the public are welcome to attend; please see the agenda for more details.
URL:https://carterton-tc.gov.uk/event/town-council-meeting-4
LOCATION:Town Hall
CATEGORIES:Town Council Meetings
ATTACH;FMTTYPE=image/png:https://carterton-tc.gov.uk/wp-content/uploads/2023/09/carterton-council-fi.png
END:VEVENT
BEGIN:VEVENT
DTSTART;TZID=Europe/London:20231121T190000
DTEND;TZID=Europe/London:20231121T190000
DTSTAMP:20260423T020637
CREATED:20230911T160141Z
LAST-MODIFIED:20240125T121322Z
UID:10000012-1700593200-1700593200@carterton-tc.gov.uk
SUMMARY:Town Council Meeting
DESCRIPTION:This meeting will be held at Town Hall. Members of the public are welcome to attend; please see the agenda for more details.
URL:https://carterton-tc.gov.uk/event/town-council-meeting-3
LOCATION:Town Hall
CATEGORIES:Town Council Meetings
ATTACH;FMTTYPE=image/png:https://carterton-tc.gov.uk/wp-content/uploads/2023/09/carterton-council-fi.png
END:VEVENT
BEGIN:VEVENT
DTSTART;TZID=Europe/London:20231121T184500
DTEND;TZID=Europe/London:20231121T184500
DTSTAMP:20260423T020637
CREATED:20230911T160111Z
LAST-MODIFIED:20240112T112751Z
UID:10000011-1700592300-1700592300@carterton-tc.gov.uk
SUMMARY:Planning Committee Meeting
DESCRIPTION:This meeting will be held at Town Hall. Members of the public are welcome to attend; please see the agenda for more details.
URL:https://carterton-tc.gov.uk/event/planning-committee-meeting-3
LOCATION:Town Hall
CATEGORIES:Town Council Meetings
ATTACH;FMTTYPE=image/png:https://carterton-tc.gov.uk/wp-content/uploads/2023/09/carterton-council-fi.png
END:VEVENT
BEGIN:VEVENT
DTSTART;TZID=Europe/London:20231114T180000
DTEND;TZID=Europe/London:20231114T180000
DTSTAMP:20260423T020637
CREATED:20230911T160028Z
LAST-MODIFIED:20231224T093251Z
UID:10000010-1699984800-1699984800@carterton-tc.gov.uk
SUMMARY:Amenities & Economic Regeneration Committee Meeting
DESCRIPTION:This meeting will be held at Town Hall. Members of the public are welcome to attend; please see the agenda for more details.
URL:https://carterton-tc.gov.uk/event/amenities-economic-regeneration-committee-meeting-2
LOCATION:Town Hall
CATEGORIES:Town Council Meetings
ATTACH;FMTTYPE=image/png:https://carterton-tc.gov.uk/wp-content/uploads/2023/09/carterton-council-fi.png
END:VEVENT
BEGIN:VEVENT
DTSTART;TZID=Europe/London:20231107T180000
DTEND;TZID=Europe/London:20231107T180000
DTSTAMP:20260423T020637
CREATED:20230911T155946Z
LAST-MODIFIED:20231117T153656Z
UID:10000009-1699380000-1699380000@carterton-tc.gov.uk
SUMMARY:Administration Committee Meeting
DESCRIPTION:This meeting will be held at Town Hall. Members of the public are welcome to attend; please see the agenda for more details.
URL:https://carterton-tc.gov.uk/event/administration-committee-meeting-2
LOCATION:Town Hall
CATEGORIES:Town Council Meetings
ATTACH;FMTTYPE=image/png:https://carterton-tc.gov.uk/wp-content/uploads/2023/09/carterton-council-fi.png
END:VEVENT
BEGIN:VEVENT
DTSTART;TZID=Europe/London:20231017T190000
DTEND;TZID=Europe/London:20231017T190000
DTSTAMP:20260423T020637
CREATED:20230911T155840Z
LAST-MODIFIED:20240125T120034Z
UID:10000008-1697569200-1697569200@carterton-tc.gov.uk
SUMMARY:Town Council Meeting
DESCRIPTION:This meeting will be held at Town Hall. Members of the public are welcome to attend; please see the agenda for more details.
URL:https://carterton-tc.gov.uk/event/town-council-meeting-2
LOCATION:Town Hall
CATEGORIES:Town Council Meetings
ATTACH;FMTTYPE=image/png:https://carterton-tc.gov.uk/wp-content/uploads/2023/09/carterton-council-fi.png
END:VEVENT
BEGIN:VEVENT
DTSTART;TZID=Europe/London:20231017T181500
DTEND;TZID=Europe/London:20231017T181500
DTSTAMP:20260423T020637
CREATED:20230911T155805Z
LAST-MODIFIED:20240112T113746Z
UID:10000007-1697566500-1697566500@carterton-tc.gov.uk
SUMMARY:Planning Committee Meeting
DESCRIPTION:This meeting will be held at Town Hall. Members of the public are welcome to attend; please see the agenda for more details.
URL:https://carterton-tc.gov.uk/event/planning-committee-meeting-2
LOCATION:Town Hall
CATEGORIES:Town Council Meetings
ATTACH;FMTTYPE=image/png:https://carterton-tc.gov.uk/wp-content/uploads/2023/09/carterton-council-fi.png
END:VEVENT
BEGIN:VEVENT
DTSTART;TZID=Europe/London:20231003T180000
DTEND;TZID=Europe/London:20231003T180000
DTSTAMP:20260423T020637
CREATED:20230911T155536Z
LAST-MODIFIED:20230927T140249Z
UID:10000006-1696356000-1696356000@carterton-tc.gov.uk
SUMMARY:Grants Committee Meeting
DESCRIPTION:This meeting will be held at Town Hall. Members of the public are welcome to attend; please see the agenda for more details.
URL:https://carterton-tc.gov.uk/event/grants-committee-meeting
LOCATION:Town Hall
CATEGORIES:Town Council Meetings
ATTACH;FMTTYPE=image/png:https://carterton-tc.gov.uk/wp-content/uploads/2023/09/carterton-council-fi.png
END:VEVENT
BEGIN:VEVENT
DTSTART;TZID=Europe/London:20230919T190000
DTEND;TZID=Europe/London:20230919T190000
DTSTAMP:20260423T020637
CREATED:20230816T100017Z
LAST-MODIFIED:20240112T113331Z
UID:10000005-1695150000-1695150000@carterton-tc.gov.uk
SUMMARY:Town Council Meeting
DESCRIPTION:This meeting will be held at Town Hall. Members of the public are welcome to attend; please see the agenda for more details.
URL:https://carterton-tc.gov.uk/event/town-council-meeting
LOCATION:Town Hall
CATEGORIES:Town Council Meetings
ATTACH;FMTTYPE=image/png:https://carterton-tc.gov.uk/wp-content/uploads/2023/09/carterton-council-fi.png
END:VEVENT
BEGIN:VEVENT
DTSTART;TZID=Europe/London:20230919T181500
DTEND;TZID=Europe/London:20230919T181500
DTSTAMP:20260423T020637
CREATED:20230816T095950Z
LAST-MODIFIED:20240112T113010Z
UID:10000004-1695147300-1695147300@carterton-tc.gov.uk
SUMMARY:Planning Committee Meeting
DESCRIPTION:This meeting will be held at Town Hall. Members of the public are welcome to attend; please see the agenda for more details.
URL:https://carterton-tc.gov.uk/event/planning-committee-meeting
LOCATION:Town Hall
CATEGORIES:Town Council Meetings
ATTACH;FMTTYPE=image/png:https://carterton-tc.gov.uk/wp-content/uploads/2023/09/carterton-council-fi.png
END:VEVENT
BEGIN:VEVENT
DTSTART;TZID=Europe/London:20230912T180000
DTEND;TZID=Europe/London:20230912T180000
DTSTAMP:20260423T020637
CREATED:20230816T095902Z
LAST-MODIFIED:20240112T112337Z
UID:10000003-1694541600-1694541600@carterton-tc.gov.uk
SUMMARY:Amenities & Economic Regeneration Committee Meeting
DESCRIPTION:This meeting will be held at Town Hall. Members of the public are welcome to attend; please see the agenda for more details.
URL:https://carterton-tc.gov.uk/event/amenities-economic-regeneration-committee-meeting
LOCATION:Town Hall
CATEGORIES:Town Council Meetings
ATTACH;FMTTYPE=image/png:https://carterton-tc.gov.uk/wp-content/uploads/2023/09/carterton-council-fi.png
END:VEVENT
BEGIN:VEVENT
DTSTART;TZID=Europe/London:20230905T180000
DTEND;TZID=Europe/London:20230905T180000
DTSTAMP:20260423T020637
CREATED:20230816T095817Z
LAST-MODIFIED:20240112T112557Z
UID:10000002-1693936800-1693936800@carterton-tc.gov.uk
SUMMARY:Administration Committee Meeting
DESCRIPTION:This meeting will be held at Town Hall. Members of the public are welcome to attend; please see the agenda for more details.
URL:https://carterton-tc.gov.uk/event/administration-committee-meeting
LOCATION:Town Hall
CATEGORIES:Town Council Meetings
ATTACH;FMTTYPE=image/png:https://carterton-tc.gov.uk/wp-content/uploads/2023/09/carterton-council-fi.png
END:VEVENT
BEGIN:VEVENT
DTSTART;TZID=Europe/London:20230523T190000
DTEND;TZID=Europe/London:20230523T190000
DTSTAMP:20260423T020637
CREATED:20230414T165156Z
LAST-MODIFIED:20231003T094040Z
UID:10000001-1684868400-1684868400@carterton-tc.gov.uk
SUMMARY:Annual Town Meeting
DESCRIPTION:This meeting will be held at Town Hall. Members of the public are welcome to attend; please see the agenda for more details.
URL:https://carterton-tc.gov.uk/event/annual-town-meeting
LOCATION:Town Hall
CATEGORIES:Town Council Meetings
ATTACH;FMTTYPE=image/png:https://carterton-tc.gov.uk/wp-content/uploads/2023/09/carterton-council-fi.png
END:VEVENT
END:VCALENDAR