BEGIN:VCALENDAR
VERSION:2.0
PRODID:-//Carterton Town Council - ECPv6.15.18//NONSGML v1.0//EN
CALSCALE:GREGORIAN
METHOD:PUBLISH
X-ORIGINAL-URL:https://carterton-tc.gov.uk
X-WR-CALDESC:Events for Carterton Town Council
REFRESH-INTERVAL;VALUE=DURATION:PT1H
X-Robots-Tag:noindex
X-PUBLISHED-TTL:PT1H
BEGIN:VTIMEZONE
TZID:Europe/London
BEGIN:DAYLIGHT
TZOFFSETFROM:+0000
TZOFFSETTO:+0100
TZNAME:BST
DTSTART:20230326T010000
END:DAYLIGHT
BEGIN:STANDARD
TZOFFSETFROM:+0100
TZOFFSETTO:+0000
TZNAME:GMT
DTSTART:20231029T010000
END:STANDARD
BEGIN:DAYLIGHT
TZOFFSETFROM:+0000
TZOFFSETTO:+0100
TZNAME:BST
DTSTART:20240331T010000
END:DAYLIGHT
BEGIN:STANDARD
TZOFFSETFROM:+0100
TZOFFSETTO:+0000
TZNAME:GMT
DTSTART:20241027T010000
END:STANDARD
BEGIN:DAYLIGHT
TZOFFSETFROM:+0000
TZOFFSETTO:+0100
TZNAME:BST
DTSTART:20250330T010000
END:DAYLIGHT
BEGIN:STANDARD
TZOFFSETFROM:+0100
TZOFFSETTO:+0000
TZNAME:GMT
DTSTART:20251026T010000
END:STANDARD
BEGIN:DAYLIGHT
TZOFFSETFROM:+0000
TZOFFSETTO:+0100
TZNAME:BST
DTSTART:20260329T010000
END:DAYLIGHT
BEGIN:STANDARD
TZOFFSETFROM:+0100
TZOFFSETTO:+0000
TZNAME:GMT
DTSTART:20261025T010000
END:STANDARD
END:VTIMEZONE
BEGIN:VEVENT
DTSTART;TZID=Europe/London:20250318T190000
DTEND;TZID=Europe/London:20250318T190000
DTSTAMP:20260422T201001
CREATED:20240611T110300Z
LAST-MODIFIED:20250520T091921Z
UID:10000727-1742324400-1742324400@carterton-tc.gov.uk
SUMMARY:Town Council Meeting
DESCRIPTION:This meeting will be held at Town Hall. Members of the public are welcome to attend; please see the agenda for more details.
URL:https://carterton-tc.gov.uk/event/town-council-meeting-16
LOCATION:Town Hall
CATEGORIES:Town Council Meetings
ATTACH;FMTTYPE=image/png:https://carterton-tc.gov.uk/wp-content/uploads/2023/09/carterton-council-fi.png
END:VEVENT
BEGIN:VEVENT
DTSTART;TZID=Europe/London:20250318T183000
DTEND;TZID=Europe/London:20250318T183000
DTSTAMP:20260422T201001
CREATED:20240611T110222Z
LAST-MODIFIED:20250520T091753Z
UID:10000726-1742322600-1742322600@carterton-tc.gov.uk
SUMMARY:Planning Committee Meeting
DESCRIPTION:This meeting will be held at Town Hall. Members of the public are welcome to attend; please see the agenda for more details.
URL:https://carterton-tc.gov.uk/event/planning-committee-meeting-16
LOCATION:Town Hall
CATEGORIES:Town Council Meetings
ATTACH;FMTTYPE=image/png:https://carterton-tc.gov.uk/wp-content/uploads/2023/09/carterton-council-fi.png
END:VEVENT
BEGIN:VEVENT
DTSTART;TZID=Europe/London:20250311T180000
DTEND;TZID=Europe/London:20250311T180000
DTSTAMP:20260422T201001
CREATED:20250306T172409Z
LAST-MODIFIED:20250807T140645Z
UID:10001456-1741716000-1741716000@carterton-tc.gov.uk
SUMMARY:Grants Committee Meeting
DESCRIPTION:This meeting will be held at Town Hall. Members of the public are welcome to attend; please see the agenda for more details.
URL:https://carterton-tc.gov.uk/event/grants-committee-meeting-4
LOCATION:Town Hall
CATEGORIES:Town Council Meetings
ATTACH;FMTTYPE=image/png:https://carterton-tc.gov.uk/wp-content/uploads/2023/09/carterton-council-fi.png
END:VEVENT
BEGIN:VEVENT
DTSTART;TZID=Europe/London:20250304T180000
DTEND;TZID=Europe/London:20250304T180000
DTSTAMP:20260422T201001
CREATED:20240611T110134Z
LAST-MODIFIED:20250811T113233Z
UID:10000725-1741111200-1741111200@carterton-tc.gov.uk
SUMMARY:Finance & Governance Committee Meeting
DESCRIPTION:
URL:https://carterton-tc.gov.uk/event/finance-governance-committee-meeting-2
LOCATION:Town Hall
CATEGORIES:Town Council Meetings
ATTACH;FMTTYPE=image/png:https://carterton-tc.gov.uk/wp-content/uploads/2023/09/carterton-council-fi.png
END:VEVENT
BEGIN:VEVENT
DTSTART;TZID=Europe/London:20250218T190000
DTEND;TZID=Europe/London:20250218T190000
DTSTAMP:20260422T201001
CREATED:20240611T110005Z
LAST-MODIFIED:20250520T091849Z
UID:10000723-1739905200-1739905200@carterton-tc.gov.uk
SUMMARY:Town Council Meeting
DESCRIPTION:This meeting will be held at Town Hall. Members of the public are welcome to attend; please see the agenda for more details.
URL:https://carterton-tc.gov.uk/event/town-council-meeting-15
LOCATION:Town Hall
CATEGORIES:Town Council Meetings
ATTACH;FMTTYPE=image/png:https://carterton-tc.gov.uk/wp-content/uploads/2023/09/carterton-council-fi.png
END:VEVENT
BEGIN:VEVENT
DTSTART;TZID=Europe/London:20250218T184500
DTEND;TZID=Europe/London:20250218T184500
DTSTAMP:20260422T201001
CREATED:20240611T105926Z
LAST-MODIFIED:20250416T145050Z
UID:10000722-1739904300-1739904300@carterton-tc.gov.uk
SUMMARY:Planning Committee Meeting
DESCRIPTION:This meeting will be held at Town Hall. Members of the public are welcome to attend; please see the agenda for more details.
URL:https://carterton-tc.gov.uk/event/planning-committee-meeting-15
LOCATION:Town Hall
CATEGORIES:Town Council Meetings
ATTACH;FMTTYPE=image/png:https://carterton-tc.gov.uk/wp-content/uploads/2023/09/carterton-council-fi.png
END:VEVENT
BEGIN:VEVENT
DTSTART;TZID=Europe/London:20250204T180000
DTEND;TZID=Europe/London:20250204T180000
DTSTAMP:20260422T201001
CREATED:20240611T105838Z
LAST-MODIFIED:20250807T140515Z
UID:10000721-1738692000-1738692000@carterton-tc.gov.uk
SUMMARY:Economic Regeneration & Environment Committee Meeting
DESCRIPTION:
URL:https://carterton-tc.gov.uk/event/economic-regeneration-environment-committee-meeting-2
LOCATION:Town Hall
CATEGORIES:Town Council Meetings
ATTACH;FMTTYPE=image/png:https://carterton-tc.gov.uk/wp-content/uploads/2023/09/carterton-council-fi.png
END:VEVENT
BEGIN:VEVENT
DTSTART;TZID=Europe/London:20250121T190000
DTEND;TZID=Europe/London:20250121T190000
DTSTAMP:20260422T201001
CREATED:20240611T105732Z
LAST-MODIFIED:20250317T151219Z
UID:10000720-1737486000-1737486000@carterton-tc.gov.uk
SUMMARY:Town Council Meeting
DESCRIPTION:This meeting will be held at Town Hall. Members of the public are welcome to attend; please see the agenda for more details.
URL:https://carterton-tc.gov.uk/event/town-council-meeting-14
LOCATION:Town Hall
CATEGORIES:Town Council Meetings
ATTACH;FMTTYPE=image/png:https://carterton-tc.gov.uk/wp-content/uploads/2023/09/carterton-council-fi.png
END:VEVENT
BEGIN:VEVENT
DTSTART;TZID=Europe/London:20250121T183000
DTEND;TZID=Europe/London:20250121T183000
DTSTAMP:20260422T201001
CREATED:20240611T105628Z
LAST-MODIFIED:20250317T151131Z
UID:10000719-1737484200-1737484200@carterton-tc.gov.uk
SUMMARY:Planning Committee Meeting
DESCRIPTION:This meeting will be held at Town Hall. Members of the public are welcome to attend; please see the agenda for more details.
URL:https://carterton-tc.gov.uk/event/planning-committee-meeting-14
LOCATION:Town Hall
CATEGORIES:Town Council Meetings
ATTACH;FMTTYPE=image/png:https://carterton-tc.gov.uk/wp-content/uploads/2023/09/carterton-council-fi.png
END:VEVENT
BEGIN:VEVENT
DTSTART;TZID=Europe/London:20241210T190000
DTEND;TZID=Europe/London:20241210T190000
DTSTAMP:20260422T201001
CREATED:20241112T130320Z
LAST-MODIFIED:20250205T161523Z
UID:10001129-1733857200-1733857200@carterton-tc.gov.uk
SUMMARY:Town Council Meeting
DESCRIPTION:This meeting will be held at Town Hall. Members of the public are welcome to attend; please see the agenda for more details.
URL:https://carterton-tc.gov.uk/event/town-council-meeting-18
LOCATION:Town Hall
CATEGORIES:Town Council Meetings
ATTACH;FMTTYPE=image/png:https://carterton-tc.gov.uk/wp-content/uploads/2023/09/carterton-council-fi.png
END:VEVENT
BEGIN:VEVENT
DTSTART;TZID=Europe/London:20241210T183000
DTEND;TZID=Europe/London:20241210T183000
DTSTAMP:20260422T201001
CREATED:20241112T130408Z
LAST-MODIFIED:20250317T151039Z
UID:10001130-1733855400-1733855400@carterton-tc.gov.uk
SUMMARY:Planning Meeting
DESCRIPTION:This meeting will be held at Town Hall. Members of the public are welcome to attend; please see the agenda for more details.
URL:https://carterton-tc.gov.uk/event/planning-meeting
LOCATION:Town Hall
CATEGORIES:Town Council Meetings
ATTACH;FMTTYPE=image/png:https://carterton-tc.gov.uk/wp-content/uploads/2023/09/carterton-council-fi.png
END:VEVENT
BEGIN:VEVENT
DTSTART;TZID=Europe/London:20241203T180000
DTEND;TZID=Europe/London:20241203T180000
DTSTAMP:20260422T201001
CREATED:20240603T152242Z
LAST-MODIFIED:20241128T165103Z
UID:10000707-1733248800-1733248800@carterton-tc.gov.uk
SUMMARY:Recreation & Amenities Committee
DESCRIPTION:
URL:https://carterton-tc.gov.uk/event/recreation-amenities-committee-2
LOCATION:Town Hall
CATEGORIES:Town Council Meetings
ATTACH;FMTTYPE=image/png:https://carterton-tc.gov.uk/wp-content/uploads/2023/09/carterton-council-fi.png
END:VEVENT
BEGIN:VEVENT
DTSTART;VALUE=DATE:20241130
DTEND;VALUE=DATE:20241201
DTSTAMP:20260422T201001
CREATED:20240405T102617Z
LAST-MODIFIED:20241129T165415Z
UID:10000568-1732924800-1733011199@carterton-tc.gov.uk
SUMMARY:Christmas Lights Switch On/Lantern Parade
DESCRIPTION:  \n \n \n  \nCarterton Town Council would like to thank the following companies for their generous donations of raffle prizes: \n\nBatsford Arboretum\nBattle of Britain Memorial Flight\nBekonscot Model Village\nBirdland Park & Gardens\nBlenheim Palace\nBletchley Park Trust\nBlunsdon House Hotel\nCotswold Archery\nCotswold Wildlife Park\nDelta Force Paintball\nExcel Tennis Academy\nFairytale Farm\nFat Squirrel Outdoor Company\nFleur de Lys\nGlee Club\nHector & Queen\nJazzercise\nOriginal Factory Shop\nPeking Chef\nShake Shop – Witney\nSiege of Orleans\nSilent Pool Distillers\nRAF Cosford Air Show\nTerra Pizza\nWilliams F1 Racing\n\n 
URL:https://carterton-tc.gov.uk/event/christmas-lights-switch-on-lantern-parade
LOCATION:Market Square\, Alvescot Road\, Carterton\, OX18 3JL
ATTACH;FMTTYPE=image/png:https://carterton-tc.gov.uk/wp-content/uploads/2023/09/carterton-council-fi.png
END:VEVENT
BEGIN:VEVENT
DTSTART;TZID=Europe/London:20241119T190000
DTEND;TZID=Europe/London:20241119T190000
DTSTAMP:20260422T201001
CREATED:20240603T153156Z
LAST-MODIFIED:20250205T161440Z
UID:10000714-1732042800-1732042800@carterton-tc.gov.uk
SUMMARY:Town Council Meeting
DESCRIPTION:This meeting will be held at Town Hall. Members of the public are welcome to attend; please see the agenda for more details.
URL:https://carterton-tc.gov.uk/event/town-council-meeting-13
LOCATION:Town Hall
CATEGORIES:Town Council Meetings
ATTACH;FMTTYPE=image/png:https://carterton-tc.gov.uk/wp-content/uploads/2023/09/carterton-council-fi.png
END:VEVENT
BEGIN:VEVENT
DTSTART;TZID=Europe/London:20241119T183000
DTEND;TZID=Europe/London:20241119T183000
DTSTAMP:20260422T201001
CREATED:20240603T153114Z
LAST-MODIFIED:20241211T142643Z
UID:10000713-1732041000-1732041000@carterton-tc.gov.uk
SUMMARY:Planning Committee Meeting
DESCRIPTION:This meeting will be held at Town Hall. Members of the public are welcome to attend; please see the agenda for more details.
URL:https://carterton-tc.gov.uk/event/planning-committee-meeting-13
LOCATION:Town Hall
CATEGORIES:Town Council Meetings
ATTACH;FMTTYPE=image/png:https://carterton-tc.gov.uk/wp-content/uploads/2023/09/carterton-council-fi.png
END:VEVENT
BEGIN:VEVENT
DTSTART;TZID=Europe/London:20241112T183000
DTEND;TZID=Europe/London:20241112T183000
DTSTAMP:20260422T201001
CREATED:20241112T093031Z
LAST-MODIFIED:20241112T093031Z
UID:10001128-1731436200-1731436200@carterton-tc.gov.uk
SUMMARY:Carterton Recreation Ground Charity
DESCRIPTION:This meeting will be held at Town Hall. Members of the public are welcome to attend; please see the agenda for more details.
URL:https://carterton-tc.gov.uk/event/carterton-recreation-ground-charity
LOCATION:Town Hall
CATEGORIES:Town Council Meetings
ATTACH;FMTTYPE=image/png:https://carterton-tc.gov.uk/wp-content/uploads/2023/09/carterton-council-fi.png
END:VEVENT
BEGIN:VEVENT
DTSTART;TZID=Europe/London:20241105T180000
DTEND;TZID=Europe/London:20241105T180000
DTSTAMP:20260422T201001
CREATED:20240603T151459Z
LAST-MODIFIED:20250314T155859Z
UID:10000705-1730829600-1730829600@carterton-tc.gov.uk
SUMMARY:Finance & Governance Committee
DESCRIPTION:
URL:https://carterton-tc.gov.uk/event/finance-governance-committee-3
LOCATION:Town Hall
CATEGORIES:Town Council Meetings
ATTACH;FMTTYPE=image/png:https://carterton-tc.gov.uk/wp-content/uploads/2023/09/carterton-council-fi.png
END:VEVENT
BEGIN:VEVENT
DTSTART;TZID=Europe/London:20241015T190000
DTEND;TZID=Europe/London:20241015T190000
DTSTAMP:20260422T201001
CREATED:20240603T153036Z
LAST-MODIFIED:20241205T123559Z
UID:10000712-1729018800-1729018800@carterton-tc.gov.uk
SUMMARY:Town Council Meeting
DESCRIPTION:This meeting will be held at Town Hall. Members of the public are welcome to attend; please see the agenda for more details.
URL:https://carterton-tc.gov.uk/event/town-council-meeting-12
LOCATION:Town Hall
CATEGORIES:Town Council Meetings
ATTACH;FMTTYPE=image/png:https://carterton-tc.gov.uk/wp-content/uploads/2023/09/carterton-council-fi.png
END:VEVENT
BEGIN:VEVENT
DTSTART;TZID=Europe/London:20241015T183000
DTEND;TZID=Europe/London:20241015T183000
DTSTAMP:20260422T201001
CREATED:20240603T152804Z
LAST-MODIFIED:20250314T151824Z
UID:10000711-1729017000-1729017000@carterton-tc.gov.uk
SUMMARY:Planning Committee Meeting
DESCRIPTION:This meeting will be held at Town Hall. Members of the public are welcome to attend; please see the agenda for more details.
URL:https://carterton-tc.gov.uk/event/planning-committee-meeting-12
LOCATION:Town Hall
CATEGORIES:Town Council Meetings
ATTACH;FMTTYPE=image/png:https://carterton-tc.gov.uk/wp-content/uploads/2023/09/carterton-council-fi.png
END:VEVENT
BEGIN:VEVENT
DTSTART;TZID=Europe/London:20241001T180000
DTEND;TZID=Europe/London:20241001T180000
DTSTAMP:20260422T201001
CREATED:20240603T153302Z
LAST-MODIFIED:20250317T151334Z
UID:10000715-1727805600-1727805600@carterton-tc.gov.uk
SUMMARY:Economic Regeneration & Environment Committee Meeting
DESCRIPTION:
URL:https://carterton-tc.gov.uk/event/economic-regeneration-environment-committee-meeting
LOCATION:Town Hall
CATEGORIES:Town Council Meetings
ATTACH;FMTTYPE=image/png:https://carterton-tc.gov.uk/wp-content/uploads/2023/09/carterton-council-fi.png
END:VEVENT
BEGIN:VEVENT
DTSTART;TZID=Europe/London:20240917T190000
DTEND;TZID=Europe/London:20240917T190000
DTSTAMP:20260422T201001
CREATED:20240603T152709Z
LAST-MODIFIED:20241211T142546Z
UID:10000710-1726599600-1726599600@carterton-tc.gov.uk
SUMMARY:Town Council Meeting
DESCRIPTION:This meeting will be held at Town Hall. Members of the public are welcome to attend; please see the agenda for more details.
URL:https://carterton-tc.gov.uk/event/town-council-meeting-11
LOCATION:Town Hall
CATEGORIES:Town Council Meetings
ATTACH;FMTTYPE=image/png:https://carterton-tc.gov.uk/wp-content/uploads/2023/09/carterton-council-fi.png
END:VEVENT
BEGIN:VEVENT
DTSTART;TZID=Europe/London:20240917T180000
DTEND;TZID=Europe/London:20240917T180000
DTSTAMP:20260422T201001
CREATED:20240603T152629Z
LAST-MODIFIED:20241112T131427Z
UID:10000709-1726596000-1726596000@carterton-tc.gov.uk
SUMMARY:Planning Committee Meeting
DESCRIPTION:This meeting will be held at Town Hall. Members of the public are welcome to attend; please see the agenda for more details.
URL:https://carterton-tc.gov.uk/event/planning-committee-meeting-11
LOCATION:Town Hall
CATEGORIES:Town Council Meetings
ATTACH;FMTTYPE=image/png:https://carterton-tc.gov.uk/wp-content/uploads/2023/09/carterton-council-fi.png
END:VEVENT
BEGIN:VEVENT
DTSTART;TZID=Europe/London:20240910T183000
DTEND;TZID=Europe/London:20240910T183000
DTSTAMP:20260422T201001
CREATED:20240905T163753Z
LAST-MODIFIED:20250110T095908Z
UID:10000786-1725993000-1725993000@carterton-tc.gov.uk
SUMMARY:Carterton Recreation Ground Charity Trustees Meeting
DESCRIPTION:This meeting will be held at Town Hall. Members of the public are welcome to attend; please see the agenda for more details.
URL:https://carterton-tc.gov.uk/event/carterton-recreation-ground-charity-trustees-meeting
LOCATION:Town Hall
CATEGORIES:Town Council Meetings
ATTACH;FMTTYPE=image/png:https://carterton-tc.gov.uk/wp-content/uploads/2023/09/carterton-council-fi.png
END:VEVENT
BEGIN:VEVENT
DTSTART;TZID=Europe/London:20240903T180000
DTEND;TZID=Europe/London:20240903T180000
DTSTAMP:20260422T201001
CREATED:20240603T151418Z
LAST-MODIFIED:20241212T141925Z
UID:10000704-1725386400-1725386400@carterton-tc.gov.uk
SUMMARY:Finance & Governance Committee
DESCRIPTION:
URL:https://carterton-tc.gov.uk/event/finance-governance-committee-2
LOCATION:Town Hall
CATEGORIES:Town Council Meetings
ATTACH;FMTTYPE=image/png:https://carterton-tc.gov.uk/wp-content/uploads/2023/09/carterton-council-fi.png
END:VEVENT
BEGIN:VEVENT
DTSTART;TZID=Europe/London:20240723T180000
DTEND;TZID=Europe/London:20240723T180000
DTSTAMP:20260422T201001
CREATED:20240603T152155Z
LAST-MODIFIED:20250314T152009Z
UID:10000706-1721757600-1721757600@carterton-tc.gov.uk
SUMMARY:Recreation & Amenities Committee
DESCRIPTION:
URL:https://carterton-tc.gov.uk/event/recreation-amenities-committee
LOCATION:Town Hall
CATEGORIES:Town Council Meetings
ATTACH;FMTTYPE=image/png:https://carterton-tc.gov.uk/wp-content/uploads/2023/09/carterton-council-fi.png
END:VEVENT
BEGIN:VEVENT
DTSTART;TZID=Europe/London:20240716T190000
DTEND;TZID=Europe/London:20240716T190000
DTSTAMP:20260422T201001
CREATED:20240603T152505Z
LAST-MODIFIED:20241212T171251Z
UID:10000708-1721156400-1721156400@carterton-tc.gov.uk
SUMMARY:Full Town Council Meeting
DESCRIPTION:This meeting will be held at Town Hall. Members of the public are welcome to attend; please see the agenda for more details.
URL:https://carterton-tc.gov.uk/event/town-council-meeting-10
LOCATION:Town Hall
CATEGORIES:Town Council Meetings
ATTACH;FMTTYPE=image/png:https://carterton-tc.gov.uk/wp-content/uploads/2023/09/carterton-council-fi.png
END:VEVENT
BEGIN:VEVENT
DTSTART;TZID=Europe/London:20240716T183000
DTEND;TZID=Europe/London:20240716T183000
DTSTAMP:20260422T201001
CREATED:20240603T113340Z
LAST-MODIFIED:20241112T131346Z
UID:10000700-1721154600-1721154600@carterton-tc.gov.uk
SUMMARY:Planning Committee Meeting
DESCRIPTION:This meeting will be held at Town Hall. Members of the public are welcome to attend; please see the agenda for more details.
URL:https://carterton-tc.gov.uk/event/planning-committee-meeting-10
LOCATION:Town Hall
CATEGORIES:Town Council Meetings
ATTACH;FMTTYPE=image/png:https://carterton-tc.gov.uk/wp-content/uploads/2023/09/carterton-council-fi.png
END:VEVENT
BEGIN:VEVENT
DTSTART;TZID=Europe/London:20240709T180000
DTEND;TZID=Europe/London:20240709T180000
DTSTAMP:20260422T201001
CREATED:20240603T151324Z
LAST-MODIFIED:20241212T141849Z
UID:10000703-1720548000-1720548000@carterton-tc.gov.uk
SUMMARY:Finance & Governance Committee
DESCRIPTION:
URL:https://carterton-tc.gov.uk/event/finance-governance-committee
LOCATION:Town Hall
CATEGORIES:Town Council Meetings
ATTACH;FMTTYPE=image/png:https://carterton-tc.gov.uk/wp-content/uploads/2023/09/carterton-council-fi.png
END:VEVENT
BEGIN:VEVENT
DTSTART;TZID=Europe/London:20240709T170000
DTEND;TZID=Europe/London:20240709T170000
DTSTAMP:20260422T201001
CREATED:20240701T121518Z
LAST-MODIFIED:20240703T155249Z
UID:10000742-1720544400-1720544400@carterton-tc.gov.uk
SUMMARY:Grants Committee Meeting
DESCRIPTION:This meeting will be held at Town Hall. Members of the public are welcome to attend; please see the agenda for more details.
URL:https://carterton-tc.gov.uk/event/grants-committee-meeting-3
LOCATION:Town Hall
CATEGORIES:Town Council Meetings
ATTACH;FMTTYPE=image/png:https://carterton-tc.gov.uk/wp-content/uploads/2023/09/carterton-council-fi.png
END:VEVENT
BEGIN:VEVENT
DTSTART;TZID=Europe/London:20240618T190000
DTEND;TZID=Europe/London:20240618T190000
DTSTAMP:20260422T201001
CREATED:20240531T103715Z
LAST-MODIFIED:20241212T171144Z
UID:10000698-1718737200-1718737200@carterton-tc.gov.uk
SUMMARY:Full Town Council Meeting
DESCRIPTION:This meeting will be held at Town Hall. Members of the public are welcome to attend; please see the agenda for more details.
URL:https://carterton-tc.gov.uk/event/town-council-meeting-7
LOCATION:Town Hall
CATEGORIES:Town Council Meetings
ATTACH;FMTTYPE=image/png:https://carterton-tc.gov.uk/wp-content/uploads/2023/09/carterton-council-fi.png
END:VEVENT
END:VCALENDAR