BEGIN:VCALENDAR
VERSION:2.0
PRODID:-//Carterton Town Council - ECPv6.15.18//NONSGML v1.0//EN
CALSCALE:GREGORIAN
METHOD:PUBLISH
X-WR-CALNAME:Carterton Town Council
X-ORIGINAL-URL:https://carterton-tc.gov.uk
X-WR-CALDESC:Events for Carterton Town Council
REFRESH-INTERVAL;VALUE=DURATION:PT1H
X-Robots-Tag:noindex
X-PUBLISHED-TTL:PT1H
BEGIN:VTIMEZONE
TZID:Europe/London
BEGIN:DAYLIGHT
TZOFFSETFROM:+0000
TZOFFSETTO:+0100
TZNAME:BST
DTSTART:20220327T010000
END:DAYLIGHT
BEGIN:STANDARD
TZOFFSETFROM:+0100
TZOFFSETTO:+0000
TZNAME:GMT
DTSTART:20221030T010000
END:STANDARD
BEGIN:DAYLIGHT
TZOFFSETFROM:+0000
TZOFFSETTO:+0100
TZNAME:BST
DTSTART:20230326T010000
END:DAYLIGHT
BEGIN:STANDARD
TZOFFSETFROM:+0100
TZOFFSETTO:+0000
TZNAME:GMT
DTSTART:20231029T010000
END:STANDARD
BEGIN:DAYLIGHT
TZOFFSETFROM:+0000
TZOFFSETTO:+0100
TZNAME:BST
DTSTART:20240331T010000
END:DAYLIGHT
BEGIN:STANDARD
TZOFFSETFROM:+0100
TZOFFSETTO:+0000
TZNAME:GMT
DTSTART:20241027T010000
END:STANDARD
END:VTIMEZONE
BEGIN:VEVENT
DTSTART;TZID=Europe/London:20231017T190000
DTEND;TZID=Europe/London:20231017T190000
DTSTAMP:20260423T033835
CREATED:20230911T155840Z
LAST-MODIFIED:20240125T120034Z
UID:10000008-1697569200-1697569200@carterton-tc.gov.uk
SUMMARY:Town Council Meeting
DESCRIPTION:This meeting will be held at Town Hall. Members of the public are welcome to attend; please see the agenda for more details.
URL:https://carterton-tc.gov.uk/event/town-council-meeting-2
LOCATION:Town Hall
CATEGORIES:Town Council Meetings
ATTACH;FMTTYPE=image/png:https://carterton-tc.gov.uk/wp-content/uploads/2023/09/carterton-council-fi.png
END:VEVENT
BEGIN:VEVENT
DTSTART;TZID=Europe/London:20231017T181500
DTEND;TZID=Europe/London:20231017T181500
DTSTAMP:20260423T033835
CREATED:20230911T155805Z
LAST-MODIFIED:20240112T113746Z
UID:10000007-1697566500-1697566500@carterton-tc.gov.uk
SUMMARY:Planning Committee Meeting
DESCRIPTION:This meeting will be held at Town Hall. Members of the public are welcome to attend; please see the agenda for more details.
URL:https://carterton-tc.gov.uk/event/planning-committee-meeting-2
LOCATION:Town Hall
CATEGORIES:Town Council Meetings
ATTACH;FMTTYPE=image/png:https://carterton-tc.gov.uk/wp-content/uploads/2023/09/carterton-council-fi.png
END:VEVENT
BEGIN:VEVENT
DTSTART;TZID=Europe/London:20231003T180000
DTEND;TZID=Europe/London:20231003T180000
DTSTAMP:20260423T033835
CREATED:20230911T155536Z
LAST-MODIFIED:20230927T140249Z
UID:10000006-1696356000-1696356000@carterton-tc.gov.uk
SUMMARY:Grants Committee Meeting
DESCRIPTION:This meeting will be held at Town Hall. Members of the public are welcome to attend; please see the agenda for more details.
URL:https://carterton-tc.gov.uk/event/grants-committee-meeting
LOCATION:Town Hall
CATEGORIES:Town Council Meetings
ATTACH;FMTTYPE=image/png:https://carterton-tc.gov.uk/wp-content/uploads/2023/09/carterton-council-fi.png
END:VEVENT
BEGIN:VEVENT
DTSTART;TZID=Europe/London:20230919T190000
DTEND;TZID=Europe/London:20230919T190000
DTSTAMP:20260423T033835
CREATED:20230816T100017Z
LAST-MODIFIED:20240112T113331Z
UID:10000005-1695150000-1695150000@carterton-tc.gov.uk
SUMMARY:Town Council Meeting
DESCRIPTION:This meeting will be held at Town Hall. Members of the public are welcome to attend; please see the agenda for more details.
URL:https://carterton-tc.gov.uk/event/town-council-meeting
LOCATION:Town Hall
CATEGORIES:Town Council Meetings
ATTACH;FMTTYPE=image/png:https://carterton-tc.gov.uk/wp-content/uploads/2023/09/carterton-council-fi.png
END:VEVENT
BEGIN:VEVENT
DTSTART;TZID=Europe/London:20230919T181500
DTEND;TZID=Europe/London:20230919T181500
DTSTAMP:20260423T033835
CREATED:20230816T095950Z
LAST-MODIFIED:20240112T113010Z
UID:10000004-1695147300-1695147300@carterton-tc.gov.uk
SUMMARY:Planning Committee Meeting
DESCRIPTION:This meeting will be held at Town Hall. Members of the public are welcome to attend; please see the agenda for more details.
URL:https://carterton-tc.gov.uk/event/planning-committee-meeting
LOCATION:Town Hall
CATEGORIES:Town Council Meetings
ATTACH;FMTTYPE=image/png:https://carterton-tc.gov.uk/wp-content/uploads/2023/09/carterton-council-fi.png
END:VEVENT
BEGIN:VEVENT
DTSTART;TZID=Europe/London:20230912T180000
DTEND;TZID=Europe/London:20230912T180000
DTSTAMP:20260423T033835
CREATED:20230816T095902Z
LAST-MODIFIED:20240112T112337Z
UID:10000003-1694541600-1694541600@carterton-tc.gov.uk
SUMMARY:Amenities & Economic Regeneration Committee Meeting
DESCRIPTION:This meeting will be held at Town Hall. Members of the public are welcome to attend; please see the agenda for more details.
URL:https://carterton-tc.gov.uk/event/amenities-economic-regeneration-committee-meeting
LOCATION:Town Hall
CATEGORIES:Town Council Meetings
ATTACH;FMTTYPE=image/png:https://carterton-tc.gov.uk/wp-content/uploads/2023/09/carterton-council-fi.png
END:VEVENT
BEGIN:VEVENT
DTSTART;TZID=Europe/London:20230905T180000
DTEND;TZID=Europe/London:20230905T180000
DTSTAMP:20260423T033835
CREATED:20230816T095817Z
LAST-MODIFIED:20240112T112557Z
UID:10000002-1693936800-1693936800@carterton-tc.gov.uk
SUMMARY:Administration Committee Meeting
DESCRIPTION:This meeting will be held at Town Hall. Members of the public are welcome to attend; please see the agenda for more details.
URL:https://carterton-tc.gov.uk/event/administration-committee-meeting
LOCATION:Town Hall
CATEGORIES:Town Council Meetings
ATTACH;FMTTYPE=image/png:https://carterton-tc.gov.uk/wp-content/uploads/2023/09/carterton-council-fi.png
END:VEVENT
BEGIN:VEVENT
DTSTART;TZID=Europe/London:20230523T190000
DTEND;TZID=Europe/London:20230523T190000
DTSTAMP:20260423T033835
CREATED:20230414T165156Z
LAST-MODIFIED:20231003T094040Z
UID:10000001-1684868400-1684868400@carterton-tc.gov.uk
SUMMARY:Annual Town Meeting
DESCRIPTION:This meeting will be held at Town Hall. Members of the public are welcome to attend; please see the agenda for more details.
URL:https://carterton-tc.gov.uk/event/annual-town-meeting
LOCATION:Town Hall
CATEGORIES:Town Council Meetings
ATTACH;FMTTYPE=image/png:https://carterton-tc.gov.uk/wp-content/uploads/2023/09/carterton-council-fi.png
END:VEVENT
END:VCALENDAR