BEGIN:VCALENDAR
VERSION:2.0
PRODID:-//Carterton Town Council - ECPv6.15.18//NONSGML v1.0//EN
CALSCALE:GREGORIAN
METHOD:PUBLISH
X-WR-CALNAME:Carterton Town Council
X-ORIGINAL-URL:https://carterton-tc.gov.uk
X-WR-CALDESC:Events for Carterton Town Council
REFRESH-INTERVAL;VALUE=DURATION:PT1H
X-Robots-Tag:noindex
X-PUBLISHED-TTL:PT1H
BEGIN:VTIMEZONE
TZID:Europe/London
BEGIN:DAYLIGHT
TZOFFSETFROM:+0000
TZOFFSETTO:+0100
TZNAME:BST
DTSTART:20240331T010000
END:DAYLIGHT
BEGIN:STANDARD
TZOFFSETFROM:+0100
TZOFFSETTO:+0000
TZNAME:GMT
DTSTART:20241027T010000
END:STANDARD
BEGIN:DAYLIGHT
TZOFFSETFROM:+0000
TZOFFSETTO:+0100
TZNAME:BST
DTSTART:20250330T010000
END:DAYLIGHT
BEGIN:STANDARD
TZOFFSETFROM:+0100
TZOFFSETTO:+0000
TZNAME:GMT
DTSTART:20251026T010000
END:STANDARD
BEGIN:DAYLIGHT
TZOFFSETFROM:+0000
TZOFFSETTO:+0100
TZNAME:BST
DTSTART:20260329T010000
END:DAYLIGHT
BEGIN:STANDARD
TZOFFSETFROM:+0100
TZOFFSETTO:+0000
TZNAME:GMT
DTSTART:20261025T010000
END:STANDARD
END:VTIMEZONE
BEGIN:VEVENT
DTSTART;TZID=Europe/London:20250217T093000
DTEND;TZID=Europe/London:20250217T123000
DTSTAMP:20260419T165045
CREATED:20240919T073354Z
LAST-MODIFIED:20240919T073354Z
UID:10000812-1739784600-1739795400@carterton-tc.gov.uk
SUMMARY:'Inspired' Bridge Club
DESCRIPTION:A new friendly club meeting every Monday morning – starts 7th October.
URL:https://carterton-tc.gov.uk/event/inspired-bridge-club/2025-02-17
LOCATION:Brownes Hall\, (behind Aldi Stores) Alvescot Road
ATTACH;FMTTYPE=image/png:https://carterton-tc.gov.uk/wp-content/uploads/2023/09/carterton-council-fi.png
END:VEVENT
BEGIN:VEVENT
DTSTART;TZID=Europe/London:20250215T100000
DTEND;TZID=Europe/London:20250215T150000
DTSTAMP:20260419T165045
CREATED:20250113T095833Z
LAST-MODIFIED:20250113T095833Z
UID:10001164-1739613600-1739631600@carterton-tc.gov.uk
SUMMARY:Save the Children - Massive Second Hand Book Sale
DESCRIPTION:Venue: Carterton Town Hall
URL:https://carterton-tc.gov.uk/event/save-the-children-massive-second-hand-book-sale
LOCATION:Carterton Town Hall\, Market Square
ATTACH;FMTTYPE=image/png:https://carterton-tc.gov.uk/wp-content/uploads/2023/09/carterton-council-fi.png
END:VEVENT
BEGIN:VEVENT
DTSTART;TZID=Europe/London:20250213T150000
DTEND;TZID=Europe/London:20250213T160000
DTSTAMP:20260419T165045
CREATED:20240404T150944Z
LAST-MODIFIED:20240416T093600Z
UID:10000349-1739458800-1739462400@carterton-tc.gov.uk
SUMMARY:Table Tennis at Carterton Leisure Centre
DESCRIPTION:
URL:https://carterton-tc.gov.uk/event/table-tennis-restarts-18th-april-2024/2025-02-13
LOCATION:Carterton Leisure Centre\, Broadshires Way\, Carterton\, OX18 1AA
ATTACH;FMTTYPE=image/jpeg:https://carterton-tc.gov.uk/wp-content/uploads/2024/04/20240404153853414_0001.jpg
END:VEVENT
BEGIN:VEVENT
DTSTART;TZID=Europe/London:20250213T130000
DTEND;TZID=Europe/London:20250213T150000
DTSTAMP:20260419T165045
CREATED:20241209T102552Z
LAST-MODIFIED:20241209T102552Z
UID:10001145-1739451600-1739458800@carterton-tc.gov.uk
SUMMARY:Local History Project
DESCRIPTION:Carterton Library.
URL:https://carterton-tc.gov.uk/event/local-history-project/2025-02-13
LOCATION:Carterton Library
ATTACH;FMTTYPE=image/png:https://carterton-tc.gov.uk/wp-content/uploads/2023/09/carterton-council-fi.png
END:VEVENT
BEGIN:VEVENT
DTSTART;TZID=Europe/London:20250213T120000
DTEND;TZID=Europe/London:20250213T133000
DTSTAMP:20260419T165045
CREATED:20250130T150525Z
LAST-MODIFIED:20250130T150525Z
UID:10001179-1739448000-1739453400@carterton-tc.gov.uk
SUMMARY:Seniors Lunch Club
DESCRIPTION:Carterton Town Hall – come along and join Blesson and his lovely volunteers for friendship\, hot soup and cakes.
URL:https://carterton-tc.gov.uk/event/seniors-lunch-club-4
LOCATION:Carterton Town Hall\, Market Square
ATTACH;FMTTYPE=image/png:https://carterton-tc.gov.uk/wp-content/uploads/2023/09/carterton-council-fi.png
END:VEVENT
BEGIN:VEVENT
DTSTART;TZID=Europe/London:20250213T080000
DTEND;TZID=Europe/London:20250213T150000
DTSTAMP:20260419T165045
CREATED:20240313T131628Z
LAST-MODIFIED:20240521T140007Z
UID:10000089-1739433600-1739458800@carterton-tc.gov.uk
SUMMARY:Carterton Market Day
DESCRIPTION:Our fabulous Market is held every Thursday on the Market Square. \n\n  \n\n		\n		\n			\n				\n			\n			\n				\n			\n			\n				\n			\n		\n\n  \n\n		\n		\n			\n				\n			\n			\n				\n			\n			\n				\n			\n		\n\n\nCome and shop for all your fruit and veg\, fresh bread\, greeting cards and a wide variety of plants and flowers. In addition\, we also have some new stallholders\, Kate with the Spud Shack selling delicious jacket potatoes\, toasties\, bacon rolls and hot drinks and Kevin with a selection of small memorial plaques and artificial flowers.  In addition to our weekly stalls\, we have a variety of guest stallholders including Hannah selling homemade jewellery\, Liz promoting Health and wellbeing and Ali with a selection of Lebanese cuisine. Please contact the Town Hall for details of when the guest stalls will be on site.\n\nIf you’re interested in having a stall\, please contact our friendly council officer Katie at:  kzazada@carterton-tc.gov.uk.
URL:https://carterton-tc.gov.uk/event/carterton-market-day/2025-02-13
LOCATION:Market Square\, Alvescot Road\, Carterton\, OX18 3JL
ATTACH;FMTTYPE=image/jpeg:https://carterton-tc.gov.uk/wp-content/uploads/2024/03/20240307_101049-scaled.jpg
END:VEVENT
BEGIN:VEVENT
DTSTART;TZID=Europe/London:20250212T093000
DTEND;TZID=Europe/London:20250212T120000
DTSTAMP:20260419T165045
CREATED:20250129T091649Z
LAST-MODIFIED:20250129T091649Z
UID:10001175-1739352600-1739361600@carterton-tc.gov.uk
SUMMARY:Carterton Community Food Bank
DESCRIPTION:Come along to the Town Hall for a hot drink\, cakes\, biscuits\, and chat with friends.
URL:https://carterton-tc.gov.uk/event/carterton-community-food-bank/2025-02-12
LOCATION:Carterton Town Hall\, Market Square
ATTACH;FMTTYPE=image/png:https://carterton-tc.gov.uk/wp-content/uploads/2023/09/carterton-council-fi.png
END:VEVENT
BEGIN:VEVENT
DTSTART;TZID=Europe/London:20250212T090000
DTEND;TZID=Europe/London:20250212T173000
DTSTAMP:20260419T165045
CREATED:20250203T094641Z
LAST-MODIFIED:20250203T094641Z
UID:10001181-1739350800-1739381400@carterton-tc.gov.uk
SUMMARY:Food Angels - The Community Hub
DESCRIPTION:The “Old Day Centre” Lawton Avenue\, OX18 3JY \nFresh hot food\, sweet treats and hot drinks.
URL:https://carterton-tc.gov.uk/event/food-angels-the-community-hub/2025-02-12
ATTACH;FMTTYPE=image/png:https://carterton-tc.gov.uk/wp-content/uploads/2023/09/carterton-council-fi.png
END:VEVENT
BEGIN:VEVENT
DTSTART;TZID=Europe/London:20250211T200000
DTEND;TZID=Europe/London:20250211T220000
DTSTAMP:20260419T165045
CREATED:20250115T112010Z
LAST-MODIFIED:20250115T112010Z
UID:10001166-1739304000-1739311200@carterton-tc.gov.uk
SUMMARY:RAFA - Guest Speaker Evening
DESCRIPTION:Families’Club\, Stanmore Crescent.
URL:https://carterton-tc.gov.uk/event/rafa-guest-speaker-evening
LOCATION:Families’ Club\, Stanmore Crescent
ATTACH;FMTTYPE=image/png:https://carterton-tc.gov.uk/wp-content/uploads/2023/09/carterton-council-fi.png
END:VEVENT
BEGIN:VEVENT
DTSTART;TZID=Europe/London:20250211T180000
DTEND;TZID=Europe/London:20250211T190000
DTSTAMP:20260419T165045
CREATED:20250123T113933Z
LAST-MODIFIED:20250123T113933Z
UID:10001173-1739296800-1739300400@carterton-tc.gov.uk
SUMMARY:From WW2 into the 21st Century
DESCRIPTION:Carterton Library.
URL:https://carterton-tc.gov.uk/event/from-ww2-into-the-21st-century
LOCATION:Carterton Library
ATTACH;FMTTYPE=image/png:https://carterton-tc.gov.uk/wp-content/uploads/2023/09/carterton-council-fi.png
END:VEVENT
BEGIN:VEVENT
DTSTART;TZID=Europe/London:20250210T093000
DTEND;TZID=Europe/London:20250210T123000
DTSTAMP:20260419T165045
CREATED:20240919T073354Z
LAST-MODIFIED:20240919T073354Z
UID:10000811-1739179800-1739190600@carterton-tc.gov.uk
SUMMARY:'Inspired' Bridge Club
DESCRIPTION:A new friendly club meeting every Monday morning – starts 7th October.
URL:https://carterton-tc.gov.uk/event/inspired-bridge-club/2025-02-10
LOCATION:Brownes Hall\, (behind Aldi Stores) Alvescot Road
ATTACH;FMTTYPE=image/png:https://carterton-tc.gov.uk/wp-content/uploads/2023/09/carterton-council-fi.png
END:VEVENT
BEGIN:VEVENT
DTSTART;TZID=Europe/London:20250208T100000
DTEND;TZID=Europe/London:20250208T120000
DTSTAMP:20260419T165045
CREATED:20250205T092722Z
LAST-MODIFIED:20250205T092722Z
UID:10001441-1739008800-1739016000@carterton-tc.gov.uk
SUMMARY:Repair Cafe
DESCRIPTION:St John’s Church Burford Road – Bring along your broken\, bent\, blunt household and electrical items – see poster for full details.
URL:https://carterton-tc.gov.uk/event/repair-cafe
ATTACH;FMTTYPE=image/png:https://carterton-tc.gov.uk/wp-content/uploads/2023/09/carterton-council-fi.png
END:VEVENT
BEGIN:VEVENT
DTSTART;TZID=Europe/London:20250207T140000
DTEND;TZID=Europe/London:20250207T150000
DTSTAMP:20260419T165045
CREATED:20250205T154435Z
LAST-MODIFIED:20250205T154435Z
UID:10001442-1738936800-1738940400@carterton-tc.gov.uk
SUMMARY:West Oxfordshire Welcomes
DESCRIPTION:Carterton Town Hall – enjoy a hot  drink\, chat with friends and a quiz.
URL:https://carterton-tc.gov.uk/event/west-oxfordshire-welcomes-2
LOCATION:Carterton Town Hall\, Market Square
ATTACH;FMTTYPE=image/png:https://carterton-tc.gov.uk/wp-content/uploads/2023/09/carterton-council-fi.png
END:VEVENT
BEGIN:VEVENT
DTSTART;TZID=Europe/London:20250206T150000
DTEND;TZID=Europe/London:20250206T160000
DTSTAMP:20260419T165045
CREATED:20240404T150944Z
LAST-MODIFIED:20240416T093600Z
UID:10000348-1738854000-1738857600@carterton-tc.gov.uk
SUMMARY:Table Tennis at Carterton Leisure Centre
DESCRIPTION:
URL:https://carterton-tc.gov.uk/event/table-tennis-restarts-18th-april-2024/2025-02-06
LOCATION:Carterton Leisure Centre\, Broadshires Way\, Carterton\, OX18 1AA
ATTACH;FMTTYPE=image/jpeg:https://carterton-tc.gov.uk/wp-content/uploads/2024/04/20240404153853414_0001.jpg
END:VEVENT
BEGIN:VEVENT
DTSTART;TZID=Europe/London:20250206T080000
DTEND;TZID=Europe/London:20250206T150000
DTSTAMP:20260419T165045
CREATED:20240313T131628Z
LAST-MODIFIED:20240521T140007Z
UID:10000088-1738828800-1738854000@carterton-tc.gov.uk
SUMMARY:Carterton Market Day
DESCRIPTION:Our fabulous Market is held every Thursday on the Market Square. \n\n  \n\n		\n		\n			\n				\n			\n			\n				\n			\n			\n				\n			\n		\n\n  \n\n		\n		\n			\n				\n			\n			\n				\n			\n			\n				\n			\n		\n\n\nCome and shop for all your fruit and veg\, fresh bread\, greeting cards and a wide variety of plants and flowers. In addition\, we also have some new stallholders\, Kate with the Spud Shack selling delicious jacket potatoes\, toasties\, bacon rolls and hot drinks and Kevin with a selection of small memorial plaques and artificial flowers.  In addition to our weekly stalls\, we have a variety of guest stallholders including Hannah selling homemade jewellery\, Liz promoting Health and wellbeing and Ali with a selection of Lebanese cuisine. Please contact the Town Hall for details of when the guest stalls will be on site.\n\nIf you’re interested in having a stall\, please contact our friendly council officer Katie at:  kzazada@carterton-tc.gov.uk.
URL:https://carterton-tc.gov.uk/event/carterton-market-day/2025-02-06
LOCATION:Market Square\, Alvescot Road\, Carterton\, OX18 3JL
ATTACH;FMTTYPE=image/jpeg:https://carterton-tc.gov.uk/wp-content/uploads/2024/03/20240307_101049-scaled.jpg
END:VEVENT
BEGIN:VEVENT
DTSTART;TZID=Europe/London:20250205T093000
DTEND;TZID=Europe/London:20250205T120000
DTSTAMP:20260419T165045
CREATED:20250129T091649Z
LAST-MODIFIED:20250129T091649Z
UID:10001174-1738747800-1738756800@carterton-tc.gov.uk
SUMMARY:Carterton Community Food Bank
DESCRIPTION:Come along to the Town Hall for a hot drink\, cakes\, biscuits\, and chat with friends.
URL:https://carterton-tc.gov.uk/event/carterton-community-food-bank/2025-02-05
LOCATION:Carterton Town Hall\, Market Square
ATTACH;FMTTYPE=image/png:https://carterton-tc.gov.uk/wp-content/uploads/2023/09/carterton-council-fi.png
END:VEVENT
BEGIN:VEVENT
DTSTART;TZID=Europe/London:20250205T090000
DTEND;TZID=Europe/London:20250205T173000
DTSTAMP:20260419T165045
CREATED:20250203T094641Z
LAST-MODIFIED:20250203T094641Z
UID:10001180-1738746000-1738776600@carterton-tc.gov.uk
SUMMARY:Food Angels - The Community Hub
DESCRIPTION:The “Old Day Centre” Lawton Avenue\, OX18 3JY \nFresh hot food\, sweet treats and hot drinks.
URL:https://carterton-tc.gov.uk/event/food-angels-the-community-hub/2025-02-05
ATTACH;FMTTYPE=image/png:https://carterton-tc.gov.uk/wp-content/uploads/2023/09/carterton-council-fi.png
END:VEVENT
BEGIN:VEVENT
DTSTART;TZID=Europe/London:20250204T180000
DTEND;TZID=Europe/London:20250204T190000
DTSTAMP:20260419T165045
CREATED:20250123T113423Z
LAST-MODIFIED:20250123T113423Z
UID:10001172-1738692000-1738695600@carterton-tc.gov.uk
SUMMARY:Creative Writing Workshop
DESCRIPTION:Carterton Library.
URL:https://carterton-tc.gov.uk/event/creative-writing-workshop
LOCATION:Carterton Library
ATTACH;FMTTYPE=image/png:https://carterton-tc.gov.uk/wp-content/uploads/2023/09/carterton-council-fi.png
END:VEVENT
BEGIN:VEVENT
DTSTART;TZID=Europe/London:20250204T180000
DTEND;TZID=Europe/London:20250204T180000
DTSTAMP:20260419T165045
CREATED:20240611T105838Z
LAST-MODIFIED:20250807T140515Z
UID:10000721-1738692000-1738692000@carterton-tc.gov.uk
SUMMARY:Economic Regeneration & Environment Committee Meeting
DESCRIPTION:
URL:https://carterton-tc.gov.uk/event/economic-regeneration-environment-committee-meeting-2
LOCATION:Town Hall
CATEGORIES:Town Council Meetings
ATTACH;FMTTYPE=image/png:https://carterton-tc.gov.uk/wp-content/uploads/2023/09/carterton-council-fi.png
END:VEVENT
BEGIN:VEVENT
DTSTART;TZID=Europe/London:20250203T093000
DTEND;TZID=Europe/London:20250203T123000
DTSTAMP:20260419T165045
CREATED:20240919T073354Z
LAST-MODIFIED:20240919T073354Z
UID:10000810-1738575000-1738585800@carterton-tc.gov.uk
SUMMARY:'Inspired' Bridge Club
DESCRIPTION:A new friendly club meeting every Monday morning – starts 7th October.
URL:https://carterton-tc.gov.uk/event/inspired-bridge-club/2025-02-03
LOCATION:Brownes Hall\, (behind Aldi Stores) Alvescot Road
ATTACH;FMTTYPE=image/png:https://carterton-tc.gov.uk/wp-content/uploads/2023/09/carterton-council-fi.png
END:VEVENT
BEGIN:VEVENT
DTSTART;TZID=Europe/London:20250201T100000
DTEND;TZID=Europe/London:20250201T150000
DTSTAMP:20260419T165045
CREATED:20250113T095513Z
LAST-MODIFIED:20250113T095513Z
UID:10001163-1738404000-1738422000@carterton-tc.gov.uk
SUMMARY:Acting Community Thingumybogs Present:
DESCRIPTION:Costume Sale:
URL:https://carterton-tc.gov.uk/event/acting-community-thingumybogs-present
LOCATION:Carterton Town Hall\, Market Square
ATTACH;FMTTYPE=image/png:https://carterton-tc.gov.uk/wp-content/uploads/2023/09/carterton-council-fi.png
END:VEVENT
BEGIN:VEVENT
DTSTART;TZID=Europe/London:20250130T150000
DTEND;TZID=Europe/London:20250130T160000
DTSTAMP:20260419T165045
CREATED:20240404T150944Z
LAST-MODIFIED:20240416T093600Z
UID:10000347-1738249200-1738252800@carterton-tc.gov.uk
SUMMARY:Table Tennis at Carterton Leisure Centre
DESCRIPTION:
URL:https://carterton-tc.gov.uk/event/table-tennis-restarts-18th-april-2024/2025-01-30
LOCATION:Carterton Leisure Centre\, Broadshires Way\, Carterton\, OX18 1AA
ATTACH;FMTTYPE=image/jpeg:https://carterton-tc.gov.uk/wp-content/uploads/2024/04/20240404153853414_0001.jpg
END:VEVENT
BEGIN:VEVENT
DTSTART;TZID=Europe/London:20250130T080000
DTEND;TZID=Europe/London:20250130T150000
DTSTAMP:20260419T165045
CREATED:20240313T131628Z
LAST-MODIFIED:20240521T140007Z
UID:10000087-1738224000-1738249200@carterton-tc.gov.uk
SUMMARY:Carterton Market Day
DESCRIPTION:Our fabulous Market is held every Thursday on the Market Square. \n\n  \n\n		\n		\n			\n				\n			\n			\n				\n			\n			\n				\n			\n		\n\n  \n\n		\n		\n			\n				\n			\n			\n				\n			\n			\n				\n			\n		\n\n\nCome and shop for all your fruit and veg\, fresh bread\, greeting cards and a wide variety of plants and flowers. In addition\, we also have some new stallholders\, Kate with the Spud Shack selling delicious jacket potatoes\, toasties\, bacon rolls and hot drinks and Kevin with a selection of small memorial plaques and artificial flowers.  In addition to our weekly stalls\, we have a variety of guest stallholders including Hannah selling homemade jewellery\, Liz promoting Health and wellbeing and Ali with a selection of Lebanese cuisine. Please contact the Town Hall for details of when the guest stalls will be on site.\n\nIf you’re interested in having a stall\, please contact our friendly council officer Katie at:  kzazada@carterton-tc.gov.uk.
URL:https://carterton-tc.gov.uk/event/carterton-market-day/2025-01-30
LOCATION:Market Square\, Alvescot Road\, Carterton\, OX18 3JL
ATTACH;FMTTYPE=image/jpeg:https://carterton-tc.gov.uk/wp-content/uploads/2024/03/20240307_101049-scaled.jpg
END:VEVENT
BEGIN:VEVENT
DTSTART;TZID=Europe/London:20250129T093000
DTEND;TZID=Europe/London:20250129T120000
DTSTAMP:20260419T165045
CREATED:20250106T112525Z
LAST-MODIFIED:20250121T132208Z
UID:10001170-1738143000-1738152000@carterton-tc.gov.uk
SUMMARY:Warm Spaces
DESCRIPTION:Come along to the Town Hall for a hot drink\, cakes and biscuits\, and a chat or bring a book or a hobby.  All welcome. See poster for dates during January – April.
URL:https://carterton-tc.gov.uk/event/warm-spaces-6/2025-01-29
LOCATION:Carterton Town Hall\, Market Square
ATTACH;FMTTYPE=image/png:https://carterton-tc.gov.uk/wp-content/uploads/2023/09/carterton-council-fi.png
END:VEVENT
BEGIN:VEVENT
DTSTART;TZID=Europe/London:20250128T180000
DTEND;TZID=Europe/London:20250128T190000
DTSTAMP:20260419T165045
CREATED:20250113T131439Z
LAST-MODIFIED:20250113T131439Z
UID:10001165-1738087200-1738090800@carterton-tc.gov.uk
SUMMARY:Author Talk with Steve Lunn
DESCRIPTION:
URL:https://carterton-tc.gov.uk/event/author-talk-with-steve-lunn
LOCATION:Carterton Library
ATTACH;FMTTYPE=image/png:https://carterton-tc.gov.uk/wp-content/uploads/2023/09/carterton-council-fi.png
END:VEVENT
BEGIN:VEVENT
DTSTART;TZID=Europe/London:20250127T093000
DTEND;TZID=Europe/London:20250127T123000
DTSTAMP:20260419T165045
CREATED:20240919T073354Z
LAST-MODIFIED:20240919T073354Z
UID:10000809-1737970200-1737981000@carterton-tc.gov.uk
SUMMARY:'Inspired' Bridge Club
DESCRIPTION:A new friendly club meeting every Monday morning – starts 7th October.
URL:https://carterton-tc.gov.uk/event/inspired-bridge-club/2025-01-27
LOCATION:Brownes Hall\, (behind Aldi Stores) Alvescot Road
ATTACH;FMTTYPE=image/png:https://carterton-tc.gov.uk/wp-content/uploads/2023/09/carterton-council-fi.png
END:VEVENT
BEGIN:VEVENT
DTSTART;TZID=Europe/London:20250126T100000
DTEND;TZID=Europe/London:20250126T120000
DTSTAMP:20260419T165045
CREATED:20250123T095826Z
LAST-MODIFIED:20250123T095826Z
UID:10001171-1737885600-1737892800@carterton-tc.gov.uk
SUMMARY:Community Litter Pick
DESCRIPTION:Meeting Point: Carterton Town Hall
URL:https://carterton-tc.gov.uk/event/community-litter-pick-7
LOCATION:Meeting point is the Town Hall\, Market Square
ATTACH;FMTTYPE=image/png:https://carterton-tc.gov.uk/wp-content/uploads/2023/09/carterton-council-fi.png
END:VEVENT
BEGIN:VEVENT
DTSTART;TZID=Europe/London:20250124T133000
DTEND;TZID=Europe/London:20250124T153000
DTSTAMP:20260419T165045
CREATED:20250106T112525Z
LAST-MODIFIED:20250121T132208Z
UID:10001169-1737725400-1737732600@carterton-tc.gov.uk
SUMMARY:Warm Spaces
DESCRIPTION:Come along to the Town Hall for a hot drink\, cakes and biscuits\, and a chat or bring a book or a hobby.  All welcome. See poster for dates during January – April.
URL:https://carterton-tc.gov.uk/event/warm-spaces-6/2025-01-24
LOCATION:Carterton Town Hall\, Market Square
ATTACH;FMTTYPE=image/png:https://carterton-tc.gov.uk/wp-content/uploads/2023/09/carterton-council-fi.png
END:VEVENT
BEGIN:VEVENT
DTSTART;TZID=Europe/London:20250123T160000
DTEND;TZID=Europe/London:20250123T200000
DTSTAMP:20260419T165045
CREATED:20241219T160302Z
LAST-MODIFIED:20241219T160302Z
UID:10001148-1737648000-1737662400@carterton-tc.gov.uk
SUMMARY:Mental Health Awareness Training
DESCRIPTION:Carterton Town Hall
URL:https://carterton-tc.gov.uk/event/mental-health-awareness-training
LOCATION:Carterton Town Hall\, Market Square
ATTACH;FMTTYPE=image/png:https://carterton-tc.gov.uk/wp-content/uploads/2023/09/carterton-council-fi.png
END:VEVENT
BEGIN:VEVENT
DTSTART;TZID=Europe/London:20250123T150000
DTEND;TZID=Europe/London:20250123T160000
DTSTAMP:20260419T165045
CREATED:20240404T150944Z
LAST-MODIFIED:20240416T093600Z
UID:10000346-1737644400-1737648000@carterton-tc.gov.uk
SUMMARY:Table Tennis at Carterton Leisure Centre
DESCRIPTION:
URL:https://carterton-tc.gov.uk/event/table-tennis-restarts-18th-april-2024/2025-01-23
LOCATION:Carterton Leisure Centre\, Broadshires Way\, Carterton\, OX18 1AA
ATTACH;FMTTYPE=image/jpeg:https://carterton-tc.gov.uk/wp-content/uploads/2024/04/20240404153853414_0001.jpg
END:VEVENT
END:VCALENDAR