BEGIN:VCALENDAR
VERSION:2.0
PRODID:-//Carterton Town Council - ECPv6.15.18//NONSGML v1.0//EN
CALSCALE:GREGORIAN
METHOD:PUBLISH
X-ORIGINAL-URL:https://carterton-tc.gov.uk
X-WR-CALDESC:Events for Carterton Town Council
REFRESH-INTERVAL;VALUE=DURATION:PT1H
X-Robots-Tag:noindex
X-PUBLISHED-TTL:PT1H
BEGIN:VTIMEZONE
TZID:Europe/London
BEGIN:DAYLIGHT
TZOFFSETFROM:+0000
TZOFFSETTO:+0100
TZNAME:BST
DTSTART:20240331T010000
END:DAYLIGHT
BEGIN:STANDARD
TZOFFSETFROM:+0100
TZOFFSETTO:+0000
TZNAME:GMT
DTSTART:20241027T010000
END:STANDARD
BEGIN:DAYLIGHT
TZOFFSETFROM:+0000
TZOFFSETTO:+0100
TZNAME:BST
DTSTART:20250330T010000
END:DAYLIGHT
BEGIN:STANDARD
TZOFFSETFROM:+0100
TZOFFSETTO:+0000
TZNAME:GMT
DTSTART:20251026T010000
END:STANDARD
BEGIN:DAYLIGHT
TZOFFSETFROM:+0000
TZOFFSETTO:+0100
TZNAME:BST
DTSTART:20260329T010000
END:DAYLIGHT
BEGIN:STANDARD
TZOFFSETFROM:+0100
TZOFFSETTO:+0000
TZNAME:GMT
DTSTART:20261025T010000
END:STANDARD
BEGIN:DAYLIGHT
TZOFFSETFROM:+0000
TZOFFSETTO:+0100
TZNAME:BST
DTSTART:20270328T010000
END:DAYLIGHT
BEGIN:STANDARD
TZOFFSETFROM:+0100
TZOFFSETTO:+0000
TZNAME:GMT
DTSTART:20271031T010000
END:STANDARD
END:VTIMEZONE
BEGIN:VEVENT
DTSTART;TZID=Europe/London:20251215T093000
DTEND;TZID=Europe/London:20251215T123000
DTSTAMP:20260419T173440
CREATED:20240919T073354Z
LAST-MODIFIED:20240919T073354Z
UID:10000855-1765791000-1765801800@carterton-tc.gov.uk
SUMMARY:'Inspired' Bridge Club
DESCRIPTION:A new friendly club meeting every Monday morning – starts 7th October.
URL:https://carterton-tc.gov.uk/event/inspired-bridge-club/2025-12-15
LOCATION:Brownes Hall\, (behind Aldi Stores) Alvescot Road
ATTACH;FMTTYPE=image/png:https://carterton-tc.gov.uk/wp-content/uploads/2023/09/carterton-council-fi.png
END:VEVENT
BEGIN:VEVENT
DTSTART;TZID=Europe/London:20251216T180000
DTEND;TZID=Europe/London:20251216T180000
DTSTAMP:20260419T173440
CREATED:20251211T182200Z
LAST-MODIFIED:20251211T182203Z
UID:10001946-1765908000-1765908000@carterton-tc.gov.uk
SUMMARY:Grants Committee Meeting
DESCRIPTION:This meeting will be held at Town Hall. Members of the public are welcome to attend; please see the agenda for more details.
URL:https://carterton-tc.gov.uk/event/grants-committee-meeting-6
LOCATION:Town Hall
CATEGORIES:Town Council Meetings
ATTACH;FMTTYPE=image/png:https://carterton-tc.gov.uk/wp-content/uploads/2023/09/carterton-council-fi.png
END:VEVENT
BEGIN:VEVENT
DTSTART;TZID=Europe/London:20251217T090000
DTEND;TZID=Europe/London:20251217T173000
DTSTAMP:20260419T173440
CREATED:20250203T094641Z
LAST-MODIFIED:20250203T094641Z
UID:10001225-1765962000-1765992600@carterton-tc.gov.uk
SUMMARY:Food Angels - The Community Hub
DESCRIPTION:The “Old Day Centre” Lawton Avenue\, OX18 3JY \nFresh hot food\, sweet treats and hot drinks.
URL:https://carterton-tc.gov.uk/event/food-angels-the-community-hub/2025-12-17
ATTACH;FMTTYPE=image/png:https://carterton-tc.gov.uk/wp-content/uploads/2023/09/carterton-council-fi.png
END:VEVENT
BEGIN:VEVENT
DTSTART;TZID=Europe/London:20251217T103000
DTEND;TZID=Europe/London:20251217T113000
DTSTAMP:20260419T173440
CREATED:20251201T164406Z
LAST-MODIFIED:20251201T164406Z
UID:10001940-1765967400-1765971000@carterton-tc.gov.uk
SUMMARY:Music for Dementia
DESCRIPTION:
URL:https://carterton-tc.gov.uk/event/music-for-dementia-5
LOCATION:Carterton Library
ATTACH;FMTTYPE=image/png:https://carterton-tc.gov.uk/wp-content/uploads/2023/09/carterton-council-fi.png
END:VEVENT
BEGIN:VEVENT
DTSTART;TZID=Europe/London:20251218T080000
DTEND;TZID=Europe/London:20251218T150000
DTSTAMP:20260419T173440
CREATED:20240313T131628Z
LAST-MODIFIED:20240521T140007Z
UID:10000133-1766044800-1766070000@carterton-tc.gov.uk
SUMMARY:Carterton Market Day
DESCRIPTION:Our fabulous Market is held every Thursday on the Market Square. \n\n  \n\n		\n		\n			\n				\n			\n			\n				\n			\n			\n				\n			\n		\n\n  \n\n		\n		\n			\n				\n			\n			\n				\n			\n			\n				\n			\n		\n\n\nCome and shop for all your fruit and veg\, fresh bread\, greeting cards and a wide variety of plants and flowers. In addition\, we also have some new stallholders\, Kate with the Spud Shack selling delicious jacket potatoes\, toasties\, bacon rolls and hot drinks and Kevin with a selection of small memorial plaques and artificial flowers.  In addition to our weekly stalls\, we have a variety of guest stallholders including Hannah selling homemade jewellery\, Liz promoting Health and wellbeing and Ali with a selection of Lebanese cuisine. Please contact the Town Hall for details of when the guest stalls will be on site.\n\nIf you’re interested in having a stall\, please contact our friendly council officer Katie at:  kzazada@carterton-tc.gov.uk.
URL:https://carterton-tc.gov.uk/event/carterton-market-day/2025-12-18
LOCATION:Market Square\, Alvescot Road\, Carterton\, OX18 3JL
ATTACH;FMTTYPE=image/jpeg:https://carterton-tc.gov.uk/wp-content/uploads/2024/03/20240307_101049-scaled.jpg
END:VEVENT
BEGIN:VEVENT
DTSTART;TZID=Europe/London:20251218T103000
DTEND;TZID=Europe/London:20251218T123000
DTSTAMP:20260419T173440
CREATED:20250709T130211Z
LAST-MODIFIED:20250709T130211Z
UID:10001623-1766053800-1766061000@carterton-tc.gov.uk
SUMMARY:Free Coffee Morning
DESCRIPTION:Carterton Community Centre
URL:https://carterton-tc.gov.uk/event/free-coffee-morning/2025-12-18
LOCATION:Carterton Community Centre\, Marigold Square\, Carterton\, OX18 1AX
ATTACH;FMTTYPE=image/png:https://carterton-tc.gov.uk/wp-content/uploads/2023/09/carterton-council-fi.png
END:VEVENT
BEGIN:VEVENT
DTSTART;TZID=Europe/London:20251218T150000
DTEND;TZID=Europe/London:20251218T160000
DTSTAMP:20260419T173440
CREATED:20240404T150944Z
LAST-MODIFIED:20240416T093600Z
UID:10000393-1766070000-1766073600@carterton-tc.gov.uk
SUMMARY:Table Tennis at Carterton Leisure Centre
DESCRIPTION:
URL:https://carterton-tc.gov.uk/event/table-tennis-restarts-18th-april-2024/2025-12-18
LOCATION:Carterton Leisure Centre\, Broadshires Way\, Carterton\, OX18 1AA
ATTACH;FMTTYPE=image/jpeg:https://carterton-tc.gov.uk/wp-content/uploads/2024/04/20240404153853414_0001.jpg
END:VEVENT
BEGIN:VEVENT
DTSTART;TZID=Europe/London:20251222T093000
DTEND;TZID=Europe/London:20251222T123000
DTSTAMP:20260419T173440
CREATED:20240919T073354Z
LAST-MODIFIED:20240919T073354Z
UID:10000856-1766395800-1766406600@carterton-tc.gov.uk
SUMMARY:'Inspired' Bridge Club
DESCRIPTION:A new friendly club meeting every Monday morning – starts 7th October.
URL:https://carterton-tc.gov.uk/event/inspired-bridge-club/2025-12-22
LOCATION:Brownes Hall\, (behind Aldi Stores) Alvescot Road
ATTACH;FMTTYPE=image/png:https://carterton-tc.gov.uk/wp-content/uploads/2023/09/carterton-council-fi.png
END:VEVENT
BEGIN:VEVENT
DTSTART;TZID=Europe/London:20251224T090000
DTEND;TZID=Europe/London:20251224T173000
DTSTAMP:20260419T173440
CREATED:20250203T094641Z
LAST-MODIFIED:20250203T094641Z
UID:10001226-1766566800-1766597400@carterton-tc.gov.uk
SUMMARY:Food Angels - The Community Hub
DESCRIPTION:The “Old Day Centre” Lawton Avenue\, OX18 3JY \nFresh hot food\, sweet treats and hot drinks.
URL:https://carterton-tc.gov.uk/event/food-angels-the-community-hub/2025-12-24
ATTACH;FMTTYPE=image/png:https://carterton-tc.gov.uk/wp-content/uploads/2023/09/carterton-council-fi.png
END:VEVENT
BEGIN:VEVENT
DTSTART;TZID=Europe/London:20251225T080000
DTEND;TZID=Europe/London:20251225T150000
DTSTAMP:20260419T173440
CREATED:20240313T131628Z
LAST-MODIFIED:20240521T140007Z
UID:10000134-1766649600-1766674800@carterton-tc.gov.uk
SUMMARY:Carterton Market Day
DESCRIPTION:Our fabulous Market is held every Thursday on the Market Square. \n\n  \n\n		\n		\n			\n				\n			\n			\n				\n			\n			\n				\n			\n		\n\n  \n\n		\n		\n			\n				\n			\n			\n				\n			\n			\n				\n			\n		\n\n\nCome and shop for all your fruit and veg\, fresh bread\, greeting cards and a wide variety of plants and flowers. In addition\, we also have some new stallholders\, Kate with the Spud Shack selling delicious jacket potatoes\, toasties\, bacon rolls and hot drinks and Kevin with a selection of small memorial plaques and artificial flowers.  In addition to our weekly stalls\, we have a variety of guest stallholders including Hannah selling homemade jewellery\, Liz promoting Health and wellbeing and Ali with a selection of Lebanese cuisine. Please contact the Town Hall for details of when the guest stalls will be on site.\n\nIf you’re interested in having a stall\, please contact our friendly council officer Katie at:  kzazada@carterton-tc.gov.uk.
URL:https://carterton-tc.gov.uk/event/carterton-market-day/2025-12-25
LOCATION:Market Square\, Alvescot Road\, Carterton\, OX18 3JL
ATTACH;FMTTYPE=image/jpeg:https://carterton-tc.gov.uk/wp-content/uploads/2024/03/20240307_101049-scaled.jpg
END:VEVENT
BEGIN:VEVENT
DTSTART;TZID=Europe/London:20251225T103000
DTEND;TZID=Europe/London:20251225T123000
DTSTAMP:20260419T173440
CREATED:20250709T130211Z
LAST-MODIFIED:20250709T130211Z
UID:10001624-1766658600-1766665800@carterton-tc.gov.uk
SUMMARY:Free Coffee Morning
DESCRIPTION:Carterton Community Centre
URL:https://carterton-tc.gov.uk/event/free-coffee-morning/2025-12-25
LOCATION:Carterton Community Centre\, Marigold Square\, Carterton\, OX18 1AX
ATTACH;FMTTYPE=image/png:https://carterton-tc.gov.uk/wp-content/uploads/2023/09/carterton-council-fi.png
END:VEVENT
BEGIN:VEVENT
DTSTART;TZID=Europe/London:20251225T150000
DTEND;TZID=Europe/London:20251225T160000
DTSTAMP:20260419T173440
CREATED:20240404T150944Z
LAST-MODIFIED:20240416T093600Z
UID:10000394-1766674800-1766678400@carterton-tc.gov.uk
SUMMARY:Table Tennis at Carterton Leisure Centre
DESCRIPTION:
URL:https://carterton-tc.gov.uk/event/table-tennis-restarts-18th-april-2024/2025-12-25
LOCATION:Carterton Leisure Centre\, Broadshires Way\, Carterton\, OX18 1AA
ATTACH;FMTTYPE=image/jpeg:https://carterton-tc.gov.uk/wp-content/uploads/2024/04/20240404153853414_0001.jpg
END:VEVENT
BEGIN:VEVENT
DTSTART;TZID=Europe/London:20251226T173000
DTEND;TZID=Europe/London:20251226T183000
DTSTAMP:20260419T173440
CREATED:20250606T141653Z
LAST-MODIFIED:20250606T141653Z
UID:10001531-1766770200-1766773800@carterton-tc.gov.uk
SUMMARY:Camera Club
DESCRIPTION:Carterton Library
URL:https://carterton-tc.gov.uk/event/camera-club/2025-12-26
LOCATION:Carterton Library
ATTACH;FMTTYPE=image/png:https://carterton-tc.gov.uk/wp-content/uploads/2023/09/carterton-council-fi.png
END:VEVENT
BEGIN:VEVENT
DTSTART;TZID=Europe/London:20251229T093000
DTEND;TZID=Europe/London:20251229T123000
DTSTAMP:20260419T173440
CREATED:20240919T073354Z
LAST-MODIFIED:20240919T073354Z
UID:10000857-1767000600-1767011400@carterton-tc.gov.uk
SUMMARY:'Inspired' Bridge Club
DESCRIPTION:A new friendly club meeting every Monday morning – starts 7th October.
URL:https://carterton-tc.gov.uk/event/inspired-bridge-club/2025-12-29
LOCATION:Brownes Hall\, (behind Aldi Stores) Alvescot Road
ATTACH;FMTTYPE=image/png:https://carterton-tc.gov.uk/wp-content/uploads/2023/09/carterton-council-fi.png
END:VEVENT
BEGIN:VEVENT
DTSTART;TZID=Europe/London:20251231T090000
DTEND;TZID=Europe/London:20251231T173000
DTSTAMP:20260419T173440
CREATED:20250203T094641Z
LAST-MODIFIED:20250203T094641Z
UID:10001227-1767171600-1767202200@carterton-tc.gov.uk
SUMMARY:Food Angels - The Community Hub
DESCRIPTION:The “Old Day Centre” Lawton Avenue\, OX18 3JY \nFresh hot food\, sweet treats and hot drinks.
URL:https://carterton-tc.gov.uk/event/food-angels-the-community-hub/2025-12-31
ATTACH;FMTTYPE=image/png:https://carterton-tc.gov.uk/wp-content/uploads/2023/09/carterton-council-fi.png
END:VEVENT
BEGIN:VEVENT
DTSTART;TZID=Europe/London:20260101T080000
DTEND;TZID=Europe/London:20260101T150000
DTSTAMP:20260419T173440
CREATED:20240313T131628Z
LAST-MODIFIED:20240521T140007Z
UID:10000135-1767254400-1767279600@carterton-tc.gov.uk
SUMMARY:Carterton Market Day
DESCRIPTION:Our fabulous Market is held every Thursday on the Market Square. \n\n  \n\n		\n		\n			\n				\n			\n			\n				\n			\n			\n				\n			\n		\n\n  \n\n		\n		\n			\n				\n			\n			\n				\n			\n			\n				\n			\n		\n\n\nCome and shop for all your fruit and veg\, fresh bread\, greeting cards and a wide variety of plants and flowers. In addition\, we also have some new stallholders\, Kate with the Spud Shack selling delicious jacket potatoes\, toasties\, bacon rolls and hot drinks and Kevin with a selection of small memorial plaques and artificial flowers.  In addition to our weekly stalls\, we have a variety of guest stallholders including Hannah selling homemade jewellery\, Liz promoting Health and wellbeing and Ali with a selection of Lebanese cuisine. Please contact the Town Hall for details of when the guest stalls will be on site.\n\nIf you’re interested in having a stall\, please contact our friendly council officer Katie at:  kzazada@carterton-tc.gov.uk.
URL:https://carterton-tc.gov.uk/event/carterton-market-day/2026-01-01
LOCATION:Market Square\, Alvescot Road\, Carterton\, OX18 3JL
ATTACH;FMTTYPE=image/jpeg:https://carterton-tc.gov.uk/wp-content/uploads/2024/03/20240307_101049-scaled.jpg
END:VEVENT
BEGIN:VEVENT
DTSTART;TZID=Europe/London:20260101T103000
DTEND;TZID=Europe/London:20260101T123000
DTSTAMP:20260419T173440
CREATED:20250709T130211Z
LAST-MODIFIED:20250709T130211Z
UID:10001625-1767263400-1767270600@carterton-tc.gov.uk
SUMMARY:Free Coffee Morning
DESCRIPTION:Carterton Community Centre
URL:https://carterton-tc.gov.uk/event/free-coffee-morning/2026-01-01
LOCATION:Carterton Community Centre\, Marigold Square\, Carterton\, OX18 1AX
ATTACH;FMTTYPE=image/png:https://carterton-tc.gov.uk/wp-content/uploads/2023/09/carterton-council-fi.png
END:VEVENT
BEGIN:VEVENT
DTSTART;TZID=Europe/London:20260101T150000
DTEND;TZID=Europe/London:20260101T160000
DTSTAMP:20260419T173440
CREATED:20240404T150944Z
LAST-MODIFIED:20240416T093600Z
UID:10000395-1767279600-1767283200@carterton-tc.gov.uk
SUMMARY:Table Tennis at Carterton Leisure Centre
DESCRIPTION:
URL:https://carterton-tc.gov.uk/event/table-tennis-restarts-18th-april-2024/2026-01-01
LOCATION:Carterton Leisure Centre\, Broadshires Way\, Carterton\, OX18 1AA
ATTACH;FMTTYPE=image/jpeg:https://carterton-tc.gov.uk/wp-content/uploads/2024/04/20240404153853414_0001.jpg
END:VEVENT
BEGIN:VEVENT
DTSTART;TZID=Europe/London:20260105T093000
DTEND;TZID=Europe/London:20260105T123000
DTSTAMP:20260419T173440
CREATED:20240919T073354Z
LAST-MODIFIED:20240919T073354Z
UID:10000858-1767605400-1767616200@carterton-tc.gov.uk
SUMMARY:'Inspired' Bridge Club
DESCRIPTION:A new friendly club meeting every Monday morning – starts 7th October.
URL:https://carterton-tc.gov.uk/event/inspired-bridge-club/2026-01-05
LOCATION:Brownes Hall\, (behind Aldi Stores) Alvescot Road
ATTACH;FMTTYPE=image/png:https://carterton-tc.gov.uk/wp-content/uploads/2023/09/carterton-council-fi.png
END:VEVENT
BEGIN:VEVENT
DTSTART;TZID=Europe/London:20260106T180000
DTEND;TZID=Europe/London:20260106T180000
DTSTAMP:20260419T173440
CREATED:20260101T121046Z
LAST-MODIFIED:20260102T152644Z
UID:10001947-1767722400-1767722400@carterton-tc.gov.uk
SUMMARY:Recreation & Amenities Committee
DESCRIPTION:
URL:https://carterton-tc.gov.uk/event/recreation-amenities-committee-5
LOCATION:Town Hall
CATEGORIES:Town Council Meetings
ATTACH;FMTTYPE=image/png:https://carterton-tc.gov.uk/wp-content/uploads/2023/09/carterton-council-fi.png
END:VEVENT
BEGIN:VEVENT
DTSTART;TZID=Europe/London:20260107T090000
DTEND;TZID=Europe/London:20260107T173000
DTSTAMP:20260419T173440
CREATED:20250203T094641Z
LAST-MODIFIED:20250203T094641Z
UID:10001228-1767776400-1767807000@carterton-tc.gov.uk
SUMMARY:Food Angels - The Community Hub
DESCRIPTION:The “Old Day Centre” Lawton Avenue\, OX18 3JY \nFresh hot food\, sweet treats and hot drinks.
URL:https://carterton-tc.gov.uk/event/food-angels-the-community-hub/2026-01-07
ATTACH;FMTTYPE=image/png:https://carterton-tc.gov.uk/wp-content/uploads/2023/09/carterton-council-fi.png
END:VEVENT
BEGIN:VEVENT
DTSTART;TZID=Europe/London:20260108T080000
DTEND;TZID=Europe/London:20260108T150000
DTSTAMP:20260419T173440
CREATED:20240313T131628Z
LAST-MODIFIED:20240521T140007Z
UID:10000136-1767859200-1767884400@carterton-tc.gov.uk
SUMMARY:Carterton Market Day
DESCRIPTION:Our fabulous Market is held every Thursday on the Market Square. \n\n  \n\n		\n		\n			\n				\n			\n			\n				\n			\n			\n				\n			\n		\n\n  \n\n		\n		\n			\n				\n			\n			\n				\n			\n			\n				\n			\n		\n\n\nCome and shop for all your fruit and veg\, fresh bread\, greeting cards and a wide variety of plants and flowers. In addition\, we also have some new stallholders\, Kate with the Spud Shack selling delicious jacket potatoes\, toasties\, bacon rolls and hot drinks and Kevin with a selection of small memorial plaques and artificial flowers.  In addition to our weekly stalls\, we have a variety of guest stallholders including Hannah selling homemade jewellery\, Liz promoting Health and wellbeing and Ali with a selection of Lebanese cuisine. Please contact the Town Hall for details of when the guest stalls will be on site.\n\nIf you’re interested in having a stall\, please contact our friendly council officer Katie at:  kzazada@carterton-tc.gov.uk.
URL:https://carterton-tc.gov.uk/event/carterton-market-day/2026-01-08
LOCATION:Market Square\, Alvescot Road\, Carterton\, OX18 3JL
ATTACH;FMTTYPE=image/jpeg:https://carterton-tc.gov.uk/wp-content/uploads/2024/03/20240307_101049-scaled.jpg
END:VEVENT
BEGIN:VEVENT
DTSTART;TZID=Europe/London:20260108T103000
DTEND;TZID=Europe/London:20260108T123000
DTSTAMP:20260419T173440
CREATED:20250709T130211Z
LAST-MODIFIED:20250709T130211Z
UID:10001626-1767868200-1767875400@carterton-tc.gov.uk
SUMMARY:Free Coffee Morning
DESCRIPTION:Carterton Community Centre
URL:https://carterton-tc.gov.uk/event/free-coffee-morning/2026-01-08
LOCATION:Carterton Community Centre\, Marigold Square\, Carterton\, OX18 1AX
ATTACH;FMTTYPE=image/png:https://carterton-tc.gov.uk/wp-content/uploads/2023/09/carterton-council-fi.png
END:VEVENT
BEGIN:VEVENT
DTSTART;TZID=Europe/London:20260108T150000
DTEND;TZID=Europe/London:20260108T160000
DTSTAMP:20260419T173440
CREATED:20240404T150944Z
LAST-MODIFIED:20240416T093600Z
UID:10000396-1767884400-1767888000@carterton-tc.gov.uk
SUMMARY:Table Tennis at Carterton Leisure Centre
DESCRIPTION:
URL:https://carterton-tc.gov.uk/event/table-tennis-restarts-18th-april-2024/2026-01-08
LOCATION:Carterton Leisure Centre\, Broadshires Way\, Carterton\, OX18 1AA
ATTACH;FMTTYPE=image/jpeg:https://carterton-tc.gov.uk/wp-content/uploads/2024/04/20240404153853414_0001.jpg
END:VEVENT
BEGIN:VEVENT
DTSTART;TZID=Europe/London:20260112T093000
DTEND;TZID=Europe/London:20260112T123000
DTSTAMP:20260419T173440
CREATED:20240919T073354Z
LAST-MODIFIED:20240919T073354Z
UID:10000859-1768210200-1768221000@carterton-tc.gov.uk
SUMMARY:'Inspired' Bridge Club
DESCRIPTION:A new friendly club meeting every Monday morning – starts 7th October.
URL:https://carterton-tc.gov.uk/event/inspired-bridge-club/2026-01-12
LOCATION:Brownes Hall\, (behind Aldi Stores) Alvescot Road
ATTACH;FMTTYPE=image/png:https://carterton-tc.gov.uk/wp-content/uploads/2023/09/carterton-council-fi.png
END:VEVENT
BEGIN:VEVENT
DTSTART;TZID=Europe/London:20260114T090000
DTEND;TZID=Europe/London:20260114T173000
DTSTAMP:20260419T173440
CREATED:20250203T094641Z
LAST-MODIFIED:20250203T094641Z
UID:10001229-1768381200-1768411800@carterton-tc.gov.uk
SUMMARY:Food Angels - The Community Hub
DESCRIPTION:The “Old Day Centre” Lawton Avenue\, OX18 3JY \nFresh hot food\, sweet treats and hot drinks.
URL:https://carterton-tc.gov.uk/event/food-angels-the-community-hub/2026-01-14
ATTACH;FMTTYPE=image/png:https://carterton-tc.gov.uk/wp-content/uploads/2023/09/carterton-council-fi.png
END:VEVENT
BEGIN:VEVENT
DTSTART;TZID=Europe/London:20260115T080000
DTEND;TZID=Europe/London:20260115T150000
DTSTAMP:20260419T173440
CREATED:20240313T131628Z
LAST-MODIFIED:20240521T140007Z
UID:10000137-1768464000-1768489200@carterton-tc.gov.uk
SUMMARY:Carterton Market Day
DESCRIPTION:Our fabulous Market is held every Thursday on the Market Square. \n\n  \n\n		\n		\n			\n				\n			\n			\n				\n			\n			\n				\n			\n		\n\n  \n\n		\n		\n			\n				\n			\n			\n				\n			\n			\n				\n			\n		\n\n\nCome and shop for all your fruit and veg\, fresh bread\, greeting cards and a wide variety of plants and flowers. In addition\, we also have some new stallholders\, Kate with the Spud Shack selling delicious jacket potatoes\, toasties\, bacon rolls and hot drinks and Kevin with a selection of small memorial plaques and artificial flowers.  In addition to our weekly stalls\, we have a variety of guest stallholders including Hannah selling homemade jewellery\, Liz promoting Health and wellbeing and Ali with a selection of Lebanese cuisine. Please contact the Town Hall for details of when the guest stalls will be on site.\n\nIf you’re interested in having a stall\, please contact our friendly council officer Katie at:  kzazada@carterton-tc.gov.uk.
URL:https://carterton-tc.gov.uk/event/carterton-market-day/2026-01-15
LOCATION:Market Square\, Alvescot Road\, Carterton\, OX18 3JL
ATTACH;FMTTYPE=image/jpeg:https://carterton-tc.gov.uk/wp-content/uploads/2024/03/20240307_101049-scaled.jpg
END:VEVENT
BEGIN:VEVENT
DTSTART;TZID=Europe/London:20260115T103000
DTEND;TZID=Europe/London:20260115T123000
DTSTAMP:20260419T173440
CREATED:20250709T130211Z
LAST-MODIFIED:20250709T130211Z
UID:10001627-1768473000-1768480200@carterton-tc.gov.uk
SUMMARY:Free Coffee Morning
DESCRIPTION:Carterton Community Centre
URL:https://carterton-tc.gov.uk/event/free-coffee-morning/2026-01-15
LOCATION:Carterton Community Centre\, Marigold Square\, Carterton\, OX18 1AX
ATTACH;FMTTYPE=image/png:https://carterton-tc.gov.uk/wp-content/uploads/2023/09/carterton-council-fi.png
END:VEVENT
BEGIN:VEVENT
DTSTART;TZID=Europe/London:20260115T150000
DTEND;TZID=Europe/London:20260115T160000
DTSTAMP:20260419T173440
CREATED:20240404T150944Z
LAST-MODIFIED:20240416T093600Z
UID:10000397-1768489200-1768492800@carterton-tc.gov.uk
SUMMARY:Table Tennis at Carterton Leisure Centre
DESCRIPTION:
URL:https://carterton-tc.gov.uk/event/table-tennis-restarts-18th-april-2024/2026-01-15
LOCATION:Carterton Leisure Centre\, Broadshires Way\, Carterton\, OX18 1AA
ATTACH;FMTTYPE=image/jpeg:https://carterton-tc.gov.uk/wp-content/uploads/2024/04/20240404153853414_0001.jpg
END:VEVENT
BEGIN:VEVENT
DTSTART;TZID=Europe/London:20260119T093000
DTEND;TZID=Europe/London:20260119T123000
DTSTAMP:20260419T173440
CREATED:20240919T073354Z
LAST-MODIFIED:20240919T073354Z
UID:10000860-1768815000-1768825800@carterton-tc.gov.uk
SUMMARY:'Inspired' Bridge Club
DESCRIPTION:A new friendly club meeting every Monday morning – starts 7th October.
URL:https://carterton-tc.gov.uk/event/inspired-bridge-club/2026-01-19
LOCATION:Brownes Hall\, (behind Aldi Stores) Alvescot Road
ATTACH;FMTTYPE=image/png:https://carterton-tc.gov.uk/wp-content/uploads/2023/09/carterton-council-fi.png
END:VEVENT
END:VCALENDAR