BEGIN:VCALENDAR
VERSION:2.0
PRODID:-//Carterton Town Council - ECPv6.15.18//NONSGML v1.0//EN
CALSCALE:GREGORIAN
METHOD:PUBLISH
X-ORIGINAL-URL:https://carterton-tc.gov.uk
X-WR-CALDESC:Events for Carterton Town Council
REFRESH-INTERVAL;VALUE=DURATION:PT1H
X-Robots-Tag:noindex
X-PUBLISHED-TTL:PT1H
BEGIN:VTIMEZONE
TZID:Europe/London
BEGIN:DAYLIGHT
TZOFFSETFROM:+0000
TZOFFSETTO:+0100
TZNAME:BST
DTSTART:20250330T010000
END:DAYLIGHT
BEGIN:STANDARD
TZOFFSETFROM:+0100
TZOFFSETTO:+0000
TZNAME:GMT
DTSTART:20251026T010000
END:STANDARD
BEGIN:DAYLIGHT
TZOFFSETFROM:+0000
TZOFFSETTO:+0100
TZNAME:BST
DTSTART:20260329T010000
END:DAYLIGHT
BEGIN:STANDARD
TZOFFSETFROM:+0100
TZOFFSETTO:+0000
TZNAME:GMT
DTSTART:20261025T010000
END:STANDARD
BEGIN:DAYLIGHT
TZOFFSETFROM:+0000
TZOFFSETTO:+0100
TZNAME:BST
DTSTART:20270328T010000
END:DAYLIGHT
BEGIN:STANDARD
TZOFFSETFROM:+0100
TZOFFSETTO:+0000
TZNAME:GMT
DTSTART:20271031T010000
END:STANDARD
END:VTIMEZONE
BEGIN:VEVENT
DTSTART;TZID=Europe/London:20260421T183000
DTEND;TZID=Europe/London:20260421T183000
DTSTAMP:20260419T160546
CREATED:20260113T145559Z
LAST-MODIFIED:20260416T173701Z
UID:10001964-1776796200-1776796200@carterton-tc.gov.uk
SUMMARY:Planning
DESCRIPTION:This meeting will be held at Town Hall. Members of the public are welcome to attend; please see the agenda for more details.
URL:https://carterton-tc.gov.uk/event/planning-4
LOCATION:Town Hall
CATEGORIES:Town Council Meetings
ATTACH;FMTTYPE=image/png:https://carterton-tc.gov.uk/wp-content/uploads/2023/09/carterton-council-fi.png
END:VEVENT
BEGIN:VEVENT
DTSTART;TZID=Europe/London:20260421T190000
DTEND;TZID=Europe/London:20260421T190000
DTSTAMP:20260419T160546
CREATED:20260113T145624Z
LAST-MODIFIED:20260416T173556Z
UID:10001965-1776798000-1776798000@carterton-tc.gov.uk
SUMMARY:Town Council
DESCRIPTION:This meeting will be held at Town Hall. Members of the public are welcome to attend; please see the agenda for more details.
URL:https://carterton-tc.gov.uk/event/town-council-8
LOCATION:Town Hall
CATEGORIES:Town Council Meetings
ATTACH;FMTTYPE=image/png:https://carterton-tc.gov.uk/wp-content/uploads/2023/09/carterton-council-fi.png
END:VEVENT
BEGIN:VEVENT
DTSTART;TZID=Europe/London:20260428T180000
DTEND;TZID=Europe/London:20260428T180000
DTSTAMP:20260419T160546
CREATED:20260113T145654Z
LAST-MODIFIED:20260113T145654Z
UID:10001966-1777399200-1777399200@carterton-tc.gov.uk
SUMMARY:Recreation & Amenities
DESCRIPTION:
URL:https://carterton-tc.gov.uk/event/recreation-amenities
LOCATION:Town Hall
CATEGORIES:Town Council Meetings
ATTACH;FMTTYPE=image/png:https://carterton-tc.gov.uk/wp-content/uploads/2023/09/carterton-council-fi.png
END:VEVENT
BEGIN:VEVENT
DTSTART;TZID=Europe/London:20260505T190000
DTEND;TZID=Europe/London:20260505T190000
DTSTAMP:20260419T160546
CREATED:20260113T145726Z
LAST-MODIFIED:20260113T150328Z
UID:10001967-1778007600-1778007600@carterton-tc.gov.uk
SUMMARY:Annual Town Meeting
DESCRIPTION:
URL:https://carterton-tc.gov.uk/event/annual-town-meeting-5
LOCATION:Town Hall
CATEGORIES:Town Council Meetings
ATTACH;FMTTYPE=image/png:https://carterton-tc.gov.uk/wp-content/uploads/2023/09/carterton-council-fi.png
END:VEVENT
BEGIN:VEVENT
DTSTART;TZID=Europe/London:20260512T190000
DTEND;TZID=Europe/London:20260512T190000
DTSTAMP:20260419T160546
CREATED:20260113T145808Z
LAST-MODIFIED:20260113T145808Z
UID:10001968-1778612400-1778612400@carterton-tc.gov.uk
SUMMARY:Carterton Recreation Ground Trustees - AGM
DESCRIPTION:This meeting will be held at Town Hall. Members of the public are welcome to attend; please see the agenda for more details.
URL:https://carterton-tc.gov.uk/event/carterton-recreation-ground-trustees-agm-2
LOCATION:Town Hall
CATEGORIES:Town Council Meetings
ATTACH;FMTTYPE=image/png:https://carterton-tc.gov.uk/wp-content/uploads/2023/09/carterton-council-fi.png
END:VEVENT
BEGIN:VEVENT
DTSTART;TZID=Europe/London:20260519T183000
DTEND;TZID=Europe/London:20260519T183000
DTSTAMP:20260419T160546
CREATED:20260113T145841Z
LAST-MODIFIED:20260113T145841Z
UID:10001969-1779215400-1779215400@carterton-tc.gov.uk
SUMMARY:Planning
DESCRIPTION:This meeting will be held at Town Hall. Members of the public are welcome to attend; please see the agenda for more details.
URL:https://carterton-tc.gov.uk/event/planning-5
LOCATION:Town Hall
CATEGORIES:Town Council Meetings
ATTACH;FMTTYPE=image/png:https://carterton-tc.gov.uk/wp-content/uploads/2023/09/carterton-council-fi.png
END:VEVENT
BEGIN:VEVENT
DTSTART;TZID=Europe/London:20260519T190000
DTEND;TZID=Europe/London:20260519T190000
DTSTAMP:20260419T160546
CREATED:20260113T145937Z
LAST-MODIFIED:20260113T145937Z
UID:10001970-1779217200-1779217200@carterton-tc.gov.uk
SUMMARY:Annual Town Council and Mayor Making
DESCRIPTION:This meeting will be held at Town Hall. Members of the public are welcome to attend; please see the agenda for more details.
URL:https://carterton-tc.gov.uk/event/annual-town-council-and-mayor-making
LOCATION:Town Hall
CATEGORIES:Town Council Meetings
ATTACH;FMTTYPE=image/png:https://carterton-tc.gov.uk/wp-content/uploads/2023/09/carterton-council-fi.png
END:VEVENT
END:VCALENDAR