BEGIN:VCALENDAR
VERSION:2.0
PRODID:-//Carterton Town Council - ECPv6.15.18//NONSGML v1.0//EN
CALSCALE:GREGORIAN
METHOD:PUBLISH
X-ORIGINAL-URL:https://carterton-tc.gov.uk
X-WR-CALDESC:Events for Carterton Town Council
REFRESH-INTERVAL;VALUE=DURATION:PT1H
X-Robots-Tag:noindex
X-PUBLISHED-TTL:PT1H
BEGIN:VTIMEZONE
TZID:Europe/London
BEGIN:DAYLIGHT
TZOFFSETFROM:+0000
TZOFFSETTO:+0100
TZNAME:BST
DTSTART:20250330T010000
END:DAYLIGHT
BEGIN:STANDARD
TZOFFSETFROM:+0100
TZOFFSETTO:+0000
TZNAME:GMT
DTSTART:20251026T010000
END:STANDARD
BEGIN:DAYLIGHT
TZOFFSETFROM:+0000
TZOFFSETTO:+0100
TZNAME:BST
DTSTART:20260329T010000
END:DAYLIGHT
BEGIN:STANDARD
TZOFFSETFROM:+0100
TZOFFSETTO:+0000
TZNAME:GMT
DTSTART:20261025T010000
END:STANDARD
BEGIN:DAYLIGHT
TZOFFSETFROM:+0000
TZOFFSETTO:+0100
TZNAME:BST
DTSTART:20270328T010000
END:DAYLIGHT
BEGIN:STANDARD
TZOFFSETFROM:+0100
TZOFFSETTO:+0000
TZNAME:GMT
DTSTART:20271031T010000
END:STANDARD
END:VTIMEZONE
BEGIN:VEVENT
DTSTART;TZID=Europe/London:20260303T180000
DTEND;TZID=Europe/London:20260303T180000
DTSTAMP:20260419T141847
CREATED:20260113T145308Z
LAST-MODIFIED:20260227T135424Z
UID:10001958-1772560800-1772560800@carterton-tc.gov.uk
SUMMARY:Economic Regeneration & Environment
DESCRIPTION:
URL:https://carterton-tc.gov.uk/event/economic-regeneration-environment
LOCATION:Town Hall
CATEGORIES:Town Council Meetings
ATTACH;FMTTYPE=image/png:https://carterton-tc.gov.uk/wp-content/uploads/2023/09/carterton-council-fi.png
END:VEVENT
BEGIN:VEVENT
DTSTART;TZID=Europe/London:20260310T180000
DTEND;TZID=Europe/London:20260310T180000
DTSTAMP:20260419T141847
CREATED:20260113T145335Z
LAST-MODIFIED:20260305T164059Z
UID:10001959-1773165600-1773165600@carterton-tc.gov.uk
SUMMARY:Grants
DESCRIPTION:This meeting will be held at Town Hall. Members of the public are welcome to attend; please see the agenda for more details.
URL:https://carterton-tc.gov.uk/event/grants
LOCATION:Town Hall
CATEGORIES:Town Council Meetings
ATTACH;FMTTYPE=image/png:https://carterton-tc.gov.uk/wp-content/uploads/2023/09/carterton-council-fi.png
END:VEVENT
BEGIN:VEVENT
DTSTART;TZID=Europe/London:20260317T183000
DTEND;TZID=Europe/London:20260317T183000
DTSTAMP:20260419T141847
CREATED:20260113T145405Z
LAST-MODIFIED:20260313T102822Z
UID:10001960-1773772200-1773772200@carterton-tc.gov.uk
SUMMARY:Planning
DESCRIPTION:This meeting will be held at Town Hall. Members of the public are welcome to attend; please see the agenda for more details.
URL:https://carterton-tc.gov.uk/event/planning-3
LOCATION:Town Hall
CATEGORIES:Town Council Meetings
ATTACH;FMTTYPE=image/png:https://carterton-tc.gov.uk/wp-content/uploads/2023/09/carterton-council-fi.png
END:VEVENT
BEGIN:VEVENT
DTSTART;TZID=Europe/London:20260317T190000
DTEND;TZID=Europe/London:20260317T190000
DTSTAMP:20260419T141847
CREATED:20260113T145430Z
LAST-MODIFIED:20260313T104926Z
UID:10001961-1773774000-1773774000@carterton-tc.gov.uk
SUMMARY:Town Council
DESCRIPTION:This meeting will be held at Town Hall. Members of the public are welcome to attend; please see the agenda for more details.
URL:https://carterton-tc.gov.uk/event/town-council-7
LOCATION:Town Hall
CATEGORIES:Town Council Meetings
ATTACH;FMTTYPE=image/png:https://carterton-tc.gov.uk/wp-content/uploads/2023/09/carterton-council-fi.png
END:VEVENT
BEGIN:VEVENT
DTSTART;TZID=Europe/London:20260324T180000
DTEND;TZID=Europe/London:20260324T180000
DTSTAMP:20260419T141847
CREATED:20260113T145455Z
LAST-MODIFIED:20260113T145455Z
UID:10001962-1774375200-1774375200@carterton-tc.gov.uk
SUMMARY:HR
DESCRIPTION:
URL:https://carterton-tc.gov.uk/event/hr
LOCATION:Town Hall
CATEGORIES:Town Council Meetings
ATTACH;FMTTYPE=image/png:https://carterton-tc.gov.uk/wp-content/uploads/2023/09/carterton-council-fi.png
END:VEVENT
END:VCALENDAR